BEGIN:VCALENDAR
VERSION:2.0
PRODID:-//First Christian Church  United Lewisville, Texas - ECPv6.15.14//NONSGML v1.0//EN
CALSCALE:GREGORIAN
METHOD:PUBLISH
X-WR-CALNAME:First Christian Church  United Lewisville, Texas
X-ORIGINAL-URL:https://fccunited.org
X-WR-CALDESC:Events for First Christian Church  United Lewisville, Texas
REFRESH-INTERVAL;VALUE=DURATION:PT1H
X-Robots-Tag:noindex
X-PUBLISHED-TTL:PT1H
BEGIN:VTIMEZONE
TZID:America/Chicago
BEGIN:DAYLIGHT
TZOFFSETFROM:-0600
TZOFFSETTO:-0500
TZNAME:CDT
DTSTART:20250309T080000
END:DAYLIGHT
BEGIN:STANDARD
TZOFFSETFROM:-0500
TZOFFSETTO:-0600
TZNAME:CST
DTSTART:20251102T070000
END:STANDARD
BEGIN:DAYLIGHT
TZOFFSETFROM:-0600
TZOFFSETTO:-0500
TZNAME:CDT
DTSTART:20260308T080000
END:DAYLIGHT
BEGIN:STANDARD
TZOFFSETFROM:-0500
TZOFFSETTO:-0600
TZNAME:CST
DTSTART:20261101T070000
END:STANDARD
BEGIN:DAYLIGHT
TZOFFSETFROM:-0600
TZOFFSETTO:-0500
TZNAME:CDT
DTSTART:20270314T080000
END:DAYLIGHT
BEGIN:STANDARD
TZOFFSETFROM:-0500
TZOFFSETTO:-0600
TZNAME:CST
DTSTART:20271107T070000
END:STANDARD
END:VTIMEZONE
BEGIN:VEVENT
DTSTART;TZID=America/Chicago:20260215T091500
DTEND;TZID=America/Chicago:20260215T101500
DTSTAMP:20260420T145951
CREATED:20260127T133219Z
LAST-MODIFIED:20260127T133453Z
UID:10004102-1771146900-1771150500@fccunited.org
SUMMARY:Study Classes
DESCRIPTION:We offer classes for adults and for youth.
URL:https://fccunited.org/event/study-classes/2026-02-15/
CATEGORIES:Bible Study
ATTACH;FMTTYPE=image/jpeg:https://fccunited.org/wp-content/uploads/2026/01/study-class.jpg
END:VEVENT
BEGIN:VEVENT
DTSTART;TZID=America/Chicago:20260216T173000
DTEND;TZID=America/Chicago:20260216T200000
DTSTAMP:20260420T145951
CREATED:20260127T130121Z
LAST-MODIFIED:20260127T130121Z
UID:10003969-1771263000-1771272000@fccunited.org
SUMMARY:Stephen Ministry Supervision Group
DESCRIPTION:
URL:https://fccunited.org/event/stephen-ministry-supervision-group-2/2026-02-16/
CATEGORIES:Ministries
ATTACH;FMTTYPE=image/jpeg:https://fccunited.org/wp-content/uploads/2026/01/stephen-ministry-1.jpg
END:VEVENT
BEGIN:VEVENT
DTSTART;TZID=America/Chicago:20260218T180000
DTEND;TZID=America/Chicago:20260218T190000
DTSTAMP:20260420T145951
CREATED:20260210T164521Z
LAST-MODIFIED:20260210T164521Z
UID:10004622-1771437600-1771441200@fccunited.org
SUMMARY:Ash Wednesday Service
DESCRIPTION:
URL:https://fccunited.org/event/ash-wednesday-service/
CATEGORIES:Worship
ATTACH;FMTTYPE=image/jpeg:https://fccunited.org/wp-content/uploads/2026/02/ash-wednesday.jpg
END:VEVENT
BEGIN:VEVENT
DTSTART;TZID=America/Chicago:20260218T190000
DTEND;TZID=America/Chicago:20260218T200000
DTSTAMP:20260420T145951
CREATED:20260108T163528Z
LAST-MODIFIED:20260210T171104Z
UID:10003474-1771441200-1771444800@fccunited.org
SUMMARY:Choir Practice
DESCRIPTION:
URL:https://fccunited.org/event/choir-practice-4/2026-02-18/
CATEGORIES:Worship
ATTACH;FMTTYPE=image/jpeg:https://fccunited.org/wp-content/uploads/2026/01/choir-practice.jpg
END:VEVENT
BEGIN:VEVENT
DTSTART;TZID=America/Chicago:20260222T081500
DTEND;TZID=America/Chicago:20260222T091500
DTSTAMP:20260420T145951
CREATED:20260221T120438Z
LAST-MODIFIED:20260221T120438Z
UID:10004690-1771748100-1771751700@fccunited.org
SUMMARY:Elders Meeting
DESCRIPTION:
URL:https://fccunited.org/event/elders-meeting/2026-02-22/
CATEGORIES:Fellowship
ATTACH;FMTTYPE=image/jpeg:https://fccunited.org/wp-content/uploads/2026/02/20260125-elder-meeting.jpg
END:VEVENT
BEGIN:VEVENT
DTSTART;TZID=America/Chicago:20260222T091500
DTEND;TZID=America/Chicago:20260222T101500
DTSTAMP:20260420T145951
CREATED:20260127T133219Z
LAST-MODIFIED:20260127T133453Z
UID:10004103-1771751700-1771755300@fccunited.org
SUMMARY:Study Classes
DESCRIPTION:We offer classes for adults and for youth.
URL:https://fccunited.org/event/study-classes/2026-02-22/
CATEGORIES:Bible Study
ATTACH;FMTTYPE=image/jpeg:https://fccunited.org/wp-content/uploads/2026/01/study-class.jpg
END:VEVENT
BEGIN:VEVENT
DTSTART;TZID=America/Chicago:20260224T190000
DTEND;TZID=America/Chicago:20260224T203000
DTSTAMP:20260420T145951
CREATED:20260127T122330Z
LAST-MODIFIED:20260127T131202Z
UID:10003956-1771959600-1771965000@fccunited.org
SUMMARY:Potpourri Ladies
DESCRIPTION:
URL:https://fccunited.org/event/potpourri-ladies/2026-02-24/
CATEGORIES:Fellowship
ATTACH;FMTTYPE=image/jpeg:https://fccunited.org/wp-content/uploads/2026/01/20260127-potpourri-ladies-1.jpg
END:VEVENT
BEGIN:VEVENT
DTSTART;TZID=America/Chicago:20260225T160000
DTEND;TZID=America/Chicago:20260225T170000
DTSTAMP:20260420T145951
CREATED:20260221T121225Z
LAST-MODIFIED:20260221T122346Z
UID:10004750-1772035200-1772038800@fccunited.org
SUMMARY:Hour of Prayer
DESCRIPTION:
URL:https://fccunited.org/event/hour-of-prayer/2026-02-25/
CATEGORIES:Fellowship
ATTACH;FMTTYPE=image/jpeg:https://fccunited.org/wp-content/uploads/2026/02/hour-of-prayer-1.jpg
END:VEVENT
BEGIN:VEVENT
DTSTART;TZID=America/Chicago:20260225T170000
DTEND;TZID=America/Chicago:20260225T190000
DTSTAMP:20260420T145951
CREATED:20260221T121346Z
LAST-MODIFIED:20260221T121447Z
UID:10005011-1772038800-1772046000@fccunited.org
SUMMARY:Midweek Connection
DESCRIPTION:
URL:https://fccunited.org/event/midweek-connection/2026-02-25/
CATEGORIES:Fellowship
ATTACH;FMTTYPE=image/jpeg:https://fccunited.org/wp-content/uploads/2026/02/midweek-connection-3.jpg
END:VEVENT
BEGIN:VEVENT
DTSTART;TZID=America/Chicago:20260225T190000
DTEND;TZID=America/Chicago:20260225T200000
DTSTAMP:20260420T145951
CREATED:20260108T163528Z
LAST-MODIFIED:20260210T171104Z
UID:10003475-1772046000-1772049600@fccunited.org
SUMMARY:Choir Practice
DESCRIPTION:
URL:https://fccunited.org/event/choir-practice-4/2026-02-25/
CATEGORIES:Worship
ATTACH;FMTTYPE=image/jpeg:https://fccunited.org/wp-content/uploads/2026/01/choir-practice.jpg
END:VEVENT
BEGIN:VEVENT
DTSTART;TZID=America/Chicago:20260226T100000
DTEND;TZID=America/Chicago:20260226T233000
DTSTAMP:20260420T145951
CREATED:20260216T125355Z
LAST-MODIFIED:20260415T134412Z
UID:10004629-1772100000-1772148600@fccunited.org
SUMMARY:MomCo
DESCRIPTION:Mom\, join us for faith\, fun\, and fellowship the fourth Thursday of each month.  Childcare is provided. \nCall 972-446-9808 for more information.
URL:https://fccunited.org/event/momco-1000-a-m-2/2026-02-26/
CATEGORIES:Fellowship
ATTACH;FMTTYPE=image/jpeg:https://fccunited.org/wp-content/uploads/2026/02/20260122-momco-3.jpg
END:VEVENT
BEGIN:VEVENT
DTSTART;TZID=America/Chicago:20260301T091500
DTEND;TZID=America/Chicago:20260301T101500
DTSTAMP:20260420T145951
CREATED:20260127T133219Z
LAST-MODIFIED:20260127T133453Z
UID:10004104-1772356500-1772360100@fccunited.org
SUMMARY:Study Classes
DESCRIPTION:We offer classes for adults and for youth.
URL:https://fccunited.org/event/study-classes/2026-03-01/
CATEGORIES:Bible Study
ATTACH;FMTTYPE=image/jpeg:https://fccunited.org/wp-content/uploads/2026/01/study-class.jpg
END:VEVENT
BEGIN:VEVENT
DTSTART;TZID=America/Chicago:20260301T103000
DTEND;TZID=America/Chicago:20260301T113000
DTSTAMP:20260420T145951
CREATED:20260127T131829Z
LAST-MODIFIED:20260127T131829Z
UID:10004041-1772361000-1772364600@fccunited.org
SUMMARY:First Fruits Sunday
DESCRIPTION:Collecting non-perishables for CCA and Metrocrest Social Services.
URL:https://fccunited.org/event/first-fruits-sunday/2026-03-01/
CATEGORIES:Ministries
ATTACH;FMTTYPE=image/jpeg:https://fccunited.org/wp-content/uploads/2026/01/first-fruits-and-toilet-paper-sunday.jpg
END:VEVENT
BEGIN:VEVENT
DTSTART;TZID=America/Chicago:20260301T113000
DTEND;TZID=America/Chicago:20260301T123000
DTSTAMP:20260420T145951
CREATED:20260223T145337Z
LAST-MODIFIED:20260223T150714Z
UID:10003731-1772364600-1772368200@fccunited.org
SUMMARY:Fellowship Lunch
DESCRIPTION:
URL:https://fccunited.org/event/fellowship-lunch-2/
LOCATION:Praise in the Morning Devotional - November 30\, 2025
CATEGORIES:Fellowship
ATTACH;FMTTYPE=image/jpeg:https://fccunited.org/wp-content/uploads/2026/01/add-a-heading-1.jpg
END:VEVENT
BEGIN:VEVENT
DTSTART;TZID=America/Chicago:20260301T113000
DTEND;TZID=America/Chicago:20260301T153000
DTSTAMP:20260420T145951
CREATED:20260124T132557Z
LAST-MODIFIED:20260127T123335Z
UID:10003801-1772364600-1772379000@fccunited.org
SUMMARY:Carter BloodCare
DESCRIPTION:
URL:https://fccunited.org/event/carter-bloodcare-1130-a-m/
CATEGORIES:General Events
ATTACH;FMTTYPE=image/jpeg:https://fccunited.org/wp-content/uploads/2026/01/carter-blood-drive-1.jpg
END:VEVENT
BEGIN:VEVENT
DTSTART;TZID=America/Chicago:20260302T173000
DTEND;TZID=America/Chicago:20260302T200000
DTSTAMP:20260420T145951
CREATED:20260127T125852Z
LAST-MODIFIED:20260127T125852Z
UID:10003959-1772472600-1772481600@fccunited.org
SUMMARY:Stephen Ministry Supervision Group
DESCRIPTION:
URL:https://fccunited.org/event/stephen-ministry-supervision-group/2026-03-02/
CATEGORIES:Ministries
ATTACH;FMTTYPE=image/jpeg:https://fccunited.org/wp-content/uploads/2026/01/stephen-ministry-1.jpg
END:VEVENT
BEGIN:VEVENT
DTSTART;TZID=America/Chicago:20260304T160000
DTEND;TZID=America/Chicago:20260304T170000
DTSTAMP:20260420T145951
CREATED:20260221T121225Z
LAST-MODIFIED:20260221T122346Z
UID:10004751-1772640000-1772643600@fccunited.org
SUMMARY:Hour of Prayer
DESCRIPTION:
URL:https://fccunited.org/event/hour-of-prayer/2026-03-04/
CATEGORIES:Fellowship
ATTACH;FMTTYPE=image/jpeg:https://fccunited.org/wp-content/uploads/2026/02/hour-of-prayer-1.jpg
END:VEVENT
BEGIN:VEVENT
DTSTART;TZID=America/Chicago:20260304T170000
DTEND;TZID=America/Chicago:20260304T190000
DTSTAMP:20260420T145951
CREATED:20260221T121346Z
LAST-MODIFIED:20260221T121447Z
UID:10005012-1772643600-1772650800@fccunited.org
SUMMARY:Midweek Connection
DESCRIPTION:
URL:https://fccunited.org/event/midweek-connection/2026-03-04/
CATEGORIES:Fellowship
ATTACH;FMTTYPE=image/jpeg:https://fccunited.org/wp-content/uploads/2026/02/midweek-connection-3.jpg
END:VEVENT
BEGIN:VEVENT
DTSTART;TZID=America/Chicago:20260304T190000
DTEND;TZID=America/Chicago:20260304T200000
DTSTAMP:20260420T145951
CREATED:20260108T163528Z
LAST-MODIFIED:20260210T171104Z
UID:10003476-1772650800-1772654400@fccunited.org
SUMMARY:Choir Practice
DESCRIPTION:
URL:https://fccunited.org/event/choir-practice-4/2026-03-04/
CATEGORIES:Worship
ATTACH;FMTTYPE=image/jpeg:https://fccunited.org/wp-content/uploads/2026/01/choir-practice.jpg
END:VEVENT
BEGIN:VEVENT
DTSTART;TZID=America/Chicago:20260308T091500
DTEND;TZID=America/Chicago:20260308T101500
DTSTAMP:20260420T145951
CREATED:20260127T133219Z
LAST-MODIFIED:20260127T133453Z
UID:10004105-1772961300-1772964900@fccunited.org
SUMMARY:Study Classes
DESCRIPTION:We offer classes for adults and for youth.
URL:https://fccunited.org/event/study-classes/2026-03-08/
CATEGORIES:Bible Study
ATTACH;FMTTYPE=image/jpeg:https://fccunited.org/wp-content/uploads/2026/01/study-class.jpg
END:VEVENT
BEGIN:VEVENT
DTSTART;TZID=America/Chicago:20260308T113000
DTEND;TZID=America/Chicago:20260308T123000
DTSTAMP:20260420T145951
CREATED:20260221T122014Z
LAST-MODIFIED:20260221T122014Z
UID:10005272-1772969400-1772973000@fccunited.org
SUMMARY:Board Meeting
DESCRIPTION:
URL:https://fccunited.org/event/board-meeting-2/
CATEGORIES:General Events
ATTACH;FMTTYPE=image/jpeg:https://fccunited.org/wp-content/uploads/2026/02/20260308-board-meeting.jpg
END:VEVENT
BEGIN:VEVENT
DTSTART;TZID=America/Chicago:20260309T190000
DTEND;TZID=America/Chicago:20260309T203000
DTSTAMP:20260420T145951
CREATED:20260227T135325Z
LAST-MODIFIED:20260227T135325Z
UID:10005398-1773082800-1773088200@fccunited.org
SUMMARY:Agape Men
DESCRIPTION:
URL:https://fccunited.org/event/agape-men-2/2026-03-09/
CATEGORIES:Fellowship
ATTACH;FMTTYPE=image/jpeg:https://fccunited.org/wp-content/uploads/2026/02/20260309-agape-men.jpg
END:VEVENT
BEGIN:VEVENT
DTSTART;TZID=America/Chicago:20260310T080000
DTEND;TZID=America/Chicago:20260310T100000
DTSTAMP:20260420T145951
CREATED:20260124T134718Z
LAST-MODIFIED:20260124T134718Z
UID:10003804-1773129600-1773136800@fccunited.org
SUMMARY:CCA Food Pantry  8:00 a.m.
DESCRIPTION:
URL:https://fccunited.org/event/cca-food-pantry-800-a-m/
CATEGORIES:Ministries
ATTACH;FMTTYPE=image/jpeg:https://fccunited.org/wp-content/uploads/2026/01/20260113-cca-food-pantry.jpg
END:VEVENT
BEGIN:VEVENT
DTSTART;TZID=America/Chicago:20260311T160000
DTEND;TZID=America/Chicago:20260311T170000
DTSTAMP:20260420T145951
CREATED:20260221T121225Z
LAST-MODIFIED:20260221T122346Z
UID:10004752-1773244800-1773248400@fccunited.org
SUMMARY:Hour of Prayer
DESCRIPTION:
URL:https://fccunited.org/event/hour-of-prayer/2026-03-11/
CATEGORIES:Fellowship
ATTACH;FMTTYPE=image/jpeg:https://fccunited.org/wp-content/uploads/2026/02/hour-of-prayer-1.jpg
END:VEVENT
BEGIN:VEVENT
DTSTART;TZID=America/Chicago:20260311T170000
DTEND;TZID=America/Chicago:20260311T190000
DTSTAMP:20260420T145951
CREATED:20260221T121346Z
LAST-MODIFIED:20260221T121447Z
UID:10005013-1773248400-1773255600@fccunited.org
SUMMARY:Midweek Connection
DESCRIPTION:
URL:https://fccunited.org/event/midweek-connection/2026-03-11/
CATEGORIES:Fellowship
ATTACH;FMTTYPE=image/jpeg:https://fccunited.org/wp-content/uploads/2026/02/midweek-connection-3.jpg
END:VEVENT
BEGIN:VEVENT
DTSTART;TZID=America/Chicago:20260311T190000
DTEND;TZID=America/Chicago:20260311T200000
DTSTAMP:20260420T145951
CREATED:20260108T163528Z
LAST-MODIFIED:20260210T171104Z
UID:10003477-1773255600-1773259200@fccunited.org
SUMMARY:Choir Practice
DESCRIPTION:
URL:https://fccunited.org/event/choir-practice-4/2026-03-11/
CATEGORIES:Worship
ATTACH;FMTTYPE=image/jpeg:https://fccunited.org/wp-content/uploads/2026/01/choir-practice.jpg
END:VEVENT
BEGIN:VEVENT
DTSTART;TZID=America/Chicago:20260312T190000
DTEND;TZID=America/Chicago:20260312T210000
DTSTAMP:20260420T145951
CREATED:20260227T140107Z
LAST-MODIFIED:20260311T142947Z
UID:10003828-1773342000-1773349200@fccunited.org
SUMMARY:GriefShare
DESCRIPTION:For more information\, contact us at griefshare@fccunited.org \nor visit https://find.griefshare.org/groups/284199.
URL:https://fccunited.org/event/griefshare-2-2/2026-03-12/
CATEGORIES:Ministries
ATTACH;FMTTYPE=image/jpeg:https://fccunited.org/wp-content/uploads/2026/01/20260212-griefshare-fb-1.jpg
END:VEVENT
BEGIN:VEVENT
DTSTART;TZID=America/Chicago:20260314T100000
DTEND;TZID=America/Chicago:20260314T113000
DTSTAMP:20260420T145951
CREATED:20260224T200455Z
LAST-MODIFIED:20260224T200455Z
UID:10005337-1773482400-1773487800@fccunited.org
SUMMARY:Pin Pal Sewing Ministry
DESCRIPTION:
URL:https://fccunited.org/event/pin-pal-sewing-ministry/2026-03-14/
CATEGORIES:Fellowship
ATTACH;FMTTYPE=image/jpeg:https://fccunited.org/wp-content/uploads/2026/02/20260214-sewing-ministry.jpg
END:VEVENT
BEGIN:VEVENT
DTSTART;TZID=America/Chicago:20260315T091500
DTEND;TZID=America/Chicago:20260315T100000
DTSTAMP:20260420T145951
CREATED:20260124T120627Z
LAST-MODIFIED:20260127T123005Z
UID:10003797-1773566100-1773568800@fccunited.org
SUMMARY:Pastor's Class  9:15 a.m.
DESCRIPTION:For those considering baptism.
URL:https://fccunited.org/event/pastors-class-915-a-m/
CATEGORIES:Bible Study
ATTACH;FMTTYPE=image/jpeg:https://fccunited.org/wp-content/uploads/2026/01/pastors-class-.jpg
END:VEVENT
BEGIN:VEVENT
DTSTART;TZID=America/Chicago:20260315T091500
DTEND;TZID=America/Chicago:20260315T101500
DTSTAMP:20260420T145951
CREATED:20260127T133219Z
LAST-MODIFIED:20260127T133453Z
UID:10004106-1773566100-1773569700@fccunited.org
SUMMARY:Study Classes
DESCRIPTION:We offer classes for adults and for youth.
URL:https://fccunited.org/event/study-classes/2026-03-15/
CATEGORIES:Bible Study
ATTACH;FMTTYPE=image/jpeg:https://fccunited.org/wp-content/uploads/2026/01/study-class.jpg
END:VEVENT
END:VCALENDAR