BEGIN:VCALENDAR
VERSION:2.0
PRODID:-//First Christian Church  United Lewisville, Texas - ECPv6.15.14//NONSGML v1.0//EN
CALSCALE:GREGORIAN
METHOD:PUBLISH
X-WR-CALNAME:First Christian Church  United Lewisville, Texas
X-ORIGINAL-URL:https://fccunited.org
X-WR-CALDESC:Events for First Christian Church  United Lewisville, Texas
REFRESH-INTERVAL;VALUE=DURATION:PT1H
X-Robots-Tag:noindex
X-PUBLISHED-TTL:PT1H
BEGIN:VTIMEZONE
TZID:America/Chicago
BEGIN:DAYLIGHT
TZOFFSETFROM:-0600
TZOFFSETTO:-0500
TZNAME:CDT
DTSTART:20250309T080000
END:DAYLIGHT
BEGIN:STANDARD
TZOFFSETFROM:-0500
TZOFFSETTO:-0600
TZNAME:CST
DTSTART:20251102T070000
END:STANDARD
BEGIN:DAYLIGHT
TZOFFSETFROM:-0600
TZOFFSETTO:-0500
TZNAME:CDT
DTSTART:20260308T080000
END:DAYLIGHT
BEGIN:STANDARD
TZOFFSETFROM:-0500
TZOFFSETTO:-0600
TZNAME:CST
DTSTART:20261101T070000
END:STANDARD
BEGIN:DAYLIGHT
TZOFFSETFROM:-0600
TZOFFSETTO:-0500
TZNAME:CDT
DTSTART:20270314T080000
END:DAYLIGHT
BEGIN:STANDARD
TZOFFSETFROM:-0500
TZOFFSETTO:-0600
TZNAME:CST
DTSTART:20271107T070000
END:STANDARD
END:VTIMEZONE
BEGIN:VEVENT
DTSTART;TZID=America/Chicago:20261129T091500
DTEND;TZID=America/Chicago:20261129T101500
DTSTAMP:20260420T232912
CREATED:20260127T133219Z
LAST-MODIFIED:20260127T133453Z
UID:10004143-1795943700-1795947300@fccunited.org
SUMMARY:Study Classes
DESCRIPTION:We offer classes for adults and for youth.
URL:https://fccunited.org/event/study-classes/2026-11-29/
CATEGORIES:Bible Study
ATTACH;FMTTYPE=image/jpeg:https://fccunited.org/wp-content/uploads/2026/01/study-class.jpg
END:VEVENT
BEGIN:VEVENT
DTSTART;TZID=America/Chicago:20261129T102500
DTEND;TZID=America/Chicago:20261129T113000
DTSTAMP:20260420T232912
CREATED:20260325T123948Z
LAST-MODIFIED:20260325T123948Z
UID:10005516-1795947900-1795951800@fccunited.org
SUMMARY:Sunday Worship
DESCRIPTION:
URL:https://fccunited.org/event/sunday-worship/2026-11-29/
CATEGORIES:Worship
END:VEVENT
BEGIN:VEVENT
DTSTART;TZID=America/Chicago:20261202T160000
DTEND;TZID=America/Chicago:20261202T170000
DTSTAMP:20260420T232912
CREATED:20260221T121225Z
LAST-MODIFIED:20260221T122346Z
UID:10004790-1796227200-1796230800@fccunited.org
SUMMARY:Hour of Prayer
DESCRIPTION:
URL:https://fccunited.org/event/hour-of-prayer/2026-12-02/
CATEGORIES:Fellowship
ATTACH;FMTTYPE=image/jpeg:https://fccunited.org/wp-content/uploads/2026/02/hour-of-prayer-1.jpg
END:VEVENT
BEGIN:VEVENT
DTSTART;TZID=America/Chicago:20261202T170000
DTEND;TZID=America/Chicago:20261202T190000
DTSTAMP:20260420T232912
CREATED:20260221T121346Z
LAST-MODIFIED:20260221T121447Z
UID:10005051-1796230800-1796238000@fccunited.org
SUMMARY:Midweek Connection
DESCRIPTION:
URL:https://fccunited.org/event/midweek-connection/2026-12-02/
CATEGORIES:Fellowship
ATTACH;FMTTYPE=image/jpeg:https://fccunited.org/wp-content/uploads/2026/02/midweek-connection-3.jpg
END:VEVENT
BEGIN:VEVENT
DTSTART;TZID=America/Chicago:20261202T190000
DTEND;TZID=America/Chicago:20261202T200000
DTSTAMP:20260420T232912
CREATED:20260108T163528Z
LAST-MODIFIED:20260210T171104Z
UID:10003515-1796238000-1796241600@fccunited.org
SUMMARY:Choir Practice
DESCRIPTION:
URL:https://fccunited.org/event/choir-practice-4/2026-12-02/
CATEGORIES:Worship
ATTACH;FMTTYPE=image/jpeg:https://fccunited.org/wp-content/uploads/2026/01/choir-practice.jpg
END:VEVENT
BEGIN:VEVENT
DTSTART;TZID=America/Chicago:20261206T091500
DTEND;TZID=America/Chicago:20261206T101500
DTSTAMP:20260420T232912
CREATED:20260127T133219Z
LAST-MODIFIED:20260127T133453Z
UID:10004144-1796548500-1796552100@fccunited.org
SUMMARY:Study Classes
DESCRIPTION:We offer classes for adults and for youth.
URL:https://fccunited.org/event/study-classes/2026-12-06/
CATEGORIES:Bible Study
ATTACH;FMTTYPE=image/jpeg:https://fccunited.org/wp-content/uploads/2026/01/study-class.jpg
END:VEVENT
BEGIN:VEVENT
DTSTART;TZID=America/Chicago:20261206T100000
DTEND;TZID=America/Chicago:20261206T140000
DTSTAMP:20260420T232912
CREATED:20260402T142347Z
LAST-MODIFIED:20260402T142347Z
UID:10005744-1796551200-1796565600@fccunited.org
SUMMARY:Carter BloodCare
DESCRIPTION:
URL:https://fccunited.org/event/carter-bloodcare-2/
CATEGORIES:Ministries
ATTACH;FMTTYPE=image/jpeg:https://fccunited.org/wp-content/uploads/2026/04/20260301-carter-blood-drive-1.jpg
END:VEVENT
BEGIN:VEVENT
DTSTART;TZID=America/Chicago:20261206T102500
DTEND;TZID=America/Chicago:20261206T113000
DTSTAMP:20260420T232912
CREATED:20260325T123948Z
LAST-MODIFIED:20260325T123948Z
UID:10005517-1796552700-1796556600@fccunited.org
SUMMARY:Sunday Worship
DESCRIPTION:
URL:https://fccunited.org/event/sunday-worship/2026-12-06/
CATEGORIES:Worship
END:VEVENT
BEGIN:VEVENT
DTSTART;TZID=America/Chicago:20261206T103000
DTEND;TZID=America/Chicago:20261206T113000
DTSTAMP:20260420T232912
CREATED:20260127T131829Z
LAST-MODIFIED:20260127T131829Z
UID:10004050-1796553000-1796556600@fccunited.org
SUMMARY:First Fruits Sunday
DESCRIPTION:Collecting non-perishables for CCA and Metrocrest Social Services.
URL:https://fccunited.org/event/first-fruits-sunday/2026-12-06/
CATEGORIES:Ministries
ATTACH;FMTTYPE=image/jpeg:https://fccunited.org/wp-content/uploads/2026/01/first-fruits-and-toilet-paper-sunday.jpg
END:VEVENT
BEGIN:VEVENT
DTSTART;TZID=America/Chicago:20261206T113000
DTEND;TZID=America/Chicago:20261206T123000
DTSTAMP:20260420T232912
CREATED:20260311T144206Z
LAST-MODIFIED:20260311T144208Z
UID:10005286-1796556600-1796560200@fccunited.org
SUMMARY:Fellowship Lunch
DESCRIPTION:
URL:https://fccunited.org/event/fellowship-lunch-2-2/2026-12-06/
LOCATION:Praise in the Morning Devotional - November 30\, 2025
CATEGORIES:Fellowship
END:VEVENT
BEGIN:VEVENT
DTSTART;TZID=America/Chicago:20261207T173000
DTEND;TZID=America/Chicago:20261207T200000
DTSTAMP:20260420T232912
CREATED:20260127T125852Z
LAST-MODIFIED:20260127T125852Z
UID:10003968-1796664600-1796673600@fccunited.org
SUMMARY:Stephen Ministry Supervision Group
DESCRIPTION:
URL:https://fccunited.org/event/stephen-ministry-supervision-group/2026-12-07/
CATEGORIES:Ministries
ATTACH;FMTTYPE=image/jpeg:https://fccunited.org/wp-content/uploads/2026/01/stephen-ministry-1.jpg
END:VEVENT
BEGIN:VEVENT
DTSTART;TZID=America/Chicago:20261209T160000
DTEND;TZID=America/Chicago:20261209T170000
DTSTAMP:20260420T232912
CREATED:20260221T121225Z
LAST-MODIFIED:20260221T122346Z
UID:10004791-1796832000-1796835600@fccunited.org
SUMMARY:Hour of Prayer
DESCRIPTION:
URL:https://fccunited.org/event/hour-of-prayer/2026-12-09/
CATEGORIES:Fellowship
ATTACH;FMTTYPE=image/jpeg:https://fccunited.org/wp-content/uploads/2026/02/hour-of-prayer-1.jpg
END:VEVENT
BEGIN:VEVENT
DTSTART;TZID=America/Chicago:20261209T170000
DTEND;TZID=America/Chicago:20261209T190000
DTSTAMP:20260420T232912
CREATED:20260221T121346Z
LAST-MODIFIED:20260221T121447Z
UID:10005052-1796835600-1796842800@fccunited.org
SUMMARY:Midweek Connection
DESCRIPTION:
URL:https://fccunited.org/event/midweek-connection/2026-12-09/
CATEGORIES:Fellowship
ATTACH;FMTTYPE=image/jpeg:https://fccunited.org/wp-content/uploads/2026/02/midweek-connection-3.jpg
END:VEVENT
BEGIN:VEVENT
DTSTART;TZID=America/Chicago:20261209T190000
DTEND;TZID=America/Chicago:20261209T200000
DTSTAMP:20260420T232912
CREATED:20260108T163528Z
LAST-MODIFIED:20260210T171104Z
UID:10003516-1796842800-1796846400@fccunited.org
SUMMARY:Choir Practice
DESCRIPTION:
URL:https://fccunited.org/event/choir-practice-4/2026-12-09/
CATEGORIES:Worship
ATTACH;FMTTYPE=image/jpeg:https://fccunited.org/wp-content/uploads/2026/01/choir-practice.jpg
END:VEVENT
BEGIN:VEVENT
DTSTART;TZID=America/Chicago:20261210T100000
DTEND;TZID=America/Chicago:20261210T110000
DTSTAMP:20260420T232912
CREATED:20251112T171206Z
LAST-MODIFIED:20260112T171425Z
UID:10003455-1796896800-1796900400@fccunited.org
SUMMARY:MOMCo 2nd Thursdays
DESCRIPTION:
URL:https://fccunited.org/event/momco/2026-12-10/
CATEGORIES:Ministries
ATTACH;FMTTYPE=image/png:https://fccunited.org/wp-content/uploads/2025/11/momco-mothers-of-preschoolers-1-1.png
END:VEVENT
BEGIN:VEVENT
DTSTART;TZID=America/Chicago:20261212T100000
DTEND;TZID=America/Chicago:20261212T113000
DTSTAMP:20260420T232912
CREATED:20260224T200455Z
LAST-MODIFIED:20260224T200455Z
UID:10005346-1797069600-1797075000@fccunited.org
SUMMARY:Pin Pal Sewing Ministry
DESCRIPTION:
URL:https://fccunited.org/event/pin-pal-sewing-ministry/2026-12-12/
CATEGORIES:Fellowship
ATTACH;FMTTYPE=image/jpeg:https://fccunited.org/wp-content/uploads/2026/02/20260214-sewing-ministry.jpg
END:VEVENT
BEGIN:VEVENT
DTSTART;TZID=America/Chicago:20261213T091500
DTEND;TZID=America/Chicago:20261213T101500
DTSTAMP:20260420T232913
CREATED:20260127T133219Z
LAST-MODIFIED:20260127T133453Z
UID:10004145-1797153300-1797156900@fccunited.org
SUMMARY:Study Classes
DESCRIPTION:We offer classes for adults and for youth.
URL:https://fccunited.org/event/study-classes/2026-12-13/
CATEGORIES:Bible Study
ATTACH;FMTTYPE=image/jpeg:https://fccunited.org/wp-content/uploads/2026/01/study-class.jpg
END:VEVENT
BEGIN:VEVENT
DTSTART;TZID=America/Chicago:20261213T102500
DTEND;TZID=America/Chicago:20261213T113000
DTSTAMP:20260420T232913
CREATED:20260325T123948Z
LAST-MODIFIED:20260325T123948Z
UID:10005518-1797157500-1797161400@fccunited.org
SUMMARY:Sunday Worship
DESCRIPTION:
URL:https://fccunited.org/event/sunday-worship/2026-12-13/
CATEGORIES:Worship
END:VEVENT
BEGIN:VEVENT
DTSTART;TZID=America/Chicago:20261214T190000
DTEND;TZID=America/Chicago:20261214T203000
DTSTAMP:20260420T232913
CREATED:20260227T135325Z
LAST-MODIFIED:20260227T135325Z
UID:10005407-1797274800-1797280200@fccunited.org
SUMMARY:Agape Men
DESCRIPTION:
URL:https://fccunited.org/event/agape-men-2/2026-12-14/
CATEGORIES:Fellowship
ATTACH;FMTTYPE=image/jpeg:https://fccunited.org/wp-content/uploads/2026/02/20260309-agape-men.jpg
END:VEVENT
BEGIN:VEVENT
DTSTART;TZID=America/Chicago:20261216T160000
DTEND;TZID=America/Chicago:20261216T170000
DTSTAMP:20260420T232913
CREATED:20260221T121225Z
LAST-MODIFIED:20260221T122346Z
UID:10004792-1797436800-1797440400@fccunited.org
SUMMARY:Hour of Prayer
DESCRIPTION:
URL:https://fccunited.org/event/hour-of-prayer/2026-12-16/
CATEGORIES:Fellowship
ATTACH;FMTTYPE=image/jpeg:https://fccunited.org/wp-content/uploads/2026/02/hour-of-prayer-1.jpg
END:VEVENT
BEGIN:VEVENT
DTSTART;TZID=America/Chicago:20261216T170000
DTEND;TZID=America/Chicago:20261216T190000
DTSTAMP:20260420T232913
CREATED:20260221T121346Z
LAST-MODIFIED:20260221T121447Z
UID:10005053-1797440400-1797447600@fccunited.org
SUMMARY:Midweek Connection
DESCRIPTION:
URL:https://fccunited.org/event/midweek-connection/2026-12-16/
CATEGORIES:Fellowship
ATTACH;FMTTYPE=image/jpeg:https://fccunited.org/wp-content/uploads/2026/02/midweek-connection-3.jpg
END:VEVENT
BEGIN:VEVENT
DTSTART;TZID=America/Chicago:20261216T190000
DTEND;TZID=America/Chicago:20261216T200000
DTSTAMP:20260420T232913
CREATED:20260108T163528Z
LAST-MODIFIED:20260210T171104Z
UID:10003517-1797447600-1797451200@fccunited.org
SUMMARY:Choir Practice
DESCRIPTION:
URL:https://fccunited.org/event/choir-practice-4/2026-12-16/
CATEGORIES:Worship
ATTACH;FMTTYPE=image/jpeg:https://fccunited.org/wp-content/uploads/2026/01/choir-practice.jpg
END:VEVENT
BEGIN:VEVENT
DTSTART;TZID=America/Chicago:20261220T091500
DTEND;TZID=America/Chicago:20261220T101500
DTSTAMP:20260420T232913
CREATED:20260127T133219Z
LAST-MODIFIED:20260127T133453Z
UID:10004146-1797758100-1797761700@fccunited.org
SUMMARY:Study Classes
DESCRIPTION:We offer classes for adults and for youth.
URL:https://fccunited.org/event/study-classes/2026-12-20/
CATEGORIES:Bible Study
ATTACH;FMTTYPE=image/jpeg:https://fccunited.org/wp-content/uploads/2026/01/study-class.jpg
END:VEVENT
BEGIN:VEVENT
DTSTART;TZID=America/Chicago:20261220T102500
DTEND;TZID=America/Chicago:20261220T113000
DTSTAMP:20260420T232913
CREATED:20260325T123948Z
LAST-MODIFIED:20260325T123948Z
UID:10005519-1797762300-1797766200@fccunited.org
SUMMARY:Sunday Worship
DESCRIPTION:
URL:https://fccunited.org/event/sunday-worship/2026-12-20/
CATEGORIES:Worship
END:VEVENT
BEGIN:VEVENT
DTSTART;TZID=America/Chicago:20261221T173000
DTEND;TZID=America/Chicago:20261221T200000
DTSTAMP:20260420T232913
CREATED:20260127T130121Z
LAST-MODIFIED:20260127T130121Z
UID:10003979-1797874200-1797883200@fccunited.org
SUMMARY:Stephen Ministry Supervision Group
DESCRIPTION:
URL:https://fccunited.org/event/stephen-ministry-supervision-group-2/2026-12-21/
CATEGORIES:Ministries
ATTACH;FMTTYPE=image/jpeg:https://fccunited.org/wp-content/uploads/2026/01/stephen-ministry-1.jpg
END:VEVENT
BEGIN:VEVENT
DTSTART;TZID=America/Chicago:20261222T190000
DTEND;TZID=America/Chicago:20261222T203000
DTSTAMP:20260420T232913
CREATED:20260127T122330Z
LAST-MODIFIED:20260127T131202Z
UID:10003991-1797966000-1797971400@fccunited.org
SUMMARY:Potpourri Ladies
DESCRIPTION:
URL:https://fccunited.org/event/potpourri-ladies/2026-12-22/
CATEGORIES:Fellowship
ATTACH;FMTTYPE=image/jpeg:https://fccunited.org/wp-content/uploads/2026/01/20260127-potpourri-ladies-1.jpg
END:VEVENT
BEGIN:VEVENT
DTSTART;TZID=America/Chicago:20261223T160000
DTEND;TZID=America/Chicago:20261223T170000
DTSTAMP:20260420T232913
CREATED:20260221T121225Z
LAST-MODIFIED:20260221T122346Z
UID:10004793-1798041600-1798045200@fccunited.org
SUMMARY:Hour of Prayer
DESCRIPTION:
URL:https://fccunited.org/event/hour-of-prayer/2026-12-23/
CATEGORIES:Fellowship
ATTACH;FMTTYPE=image/jpeg:https://fccunited.org/wp-content/uploads/2026/02/hour-of-prayer-1.jpg
END:VEVENT
BEGIN:VEVENT
DTSTART;TZID=America/Chicago:20261223T170000
DTEND;TZID=America/Chicago:20261223T190000
DTSTAMP:20260420T232913
CREATED:20260221T121346Z
LAST-MODIFIED:20260221T121447Z
UID:10005054-1798045200-1798052400@fccunited.org
SUMMARY:Midweek Connection
DESCRIPTION:
URL:https://fccunited.org/event/midweek-connection/2026-12-23/
CATEGORIES:Fellowship
ATTACH;FMTTYPE=image/jpeg:https://fccunited.org/wp-content/uploads/2026/02/midweek-connection-3.jpg
END:VEVENT
BEGIN:VEVENT
DTSTART;TZID=America/Chicago:20261223T190000
DTEND;TZID=America/Chicago:20261223T200000
DTSTAMP:20260420T232913
CREATED:20260108T163528Z
LAST-MODIFIED:20260210T171104Z
UID:10003518-1798052400-1798056000@fccunited.org
SUMMARY:Choir Practice
DESCRIPTION:
URL:https://fccunited.org/event/choir-practice-4/2026-12-23/
CATEGORIES:Worship
ATTACH;FMTTYPE=image/jpeg:https://fccunited.org/wp-content/uploads/2026/01/choir-practice.jpg
END:VEVENT
BEGIN:VEVENT
DTSTART;TZID=America/Chicago:20261224T100000
DTEND;TZID=America/Chicago:20261224T233000
DTSTAMP:20260420T232913
CREATED:20260216T125355Z
LAST-MODIFIED:20260415T134412Z
UID:10004639-1798106400-1798155000@fccunited.org
SUMMARY:MomCo
DESCRIPTION:Mom\, join us for faith\, fun\, and fellowship the fourth Thursday of each month.  Childcare is provided. \nCall 972-446-9808 for more information.
URL:https://fccunited.org/event/momco-1000-a-m-2/2026-12-24/
CATEGORIES:Fellowship
ATTACH;FMTTYPE=image/jpeg:https://fccunited.org/wp-content/uploads/2026/02/20260122-momco-3.jpg
END:VEVENT
END:VCALENDAR