BEGIN:VCALENDAR
VERSION:2.0
PRODID:-//First Christian Church  United Lewisville, Texas - ECPv6.15.14//NONSGML v1.0//EN
CALSCALE:GREGORIAN
METHOD:PUBLISH
X-WR-CALNAME:First Christian Church  United Lewisville, Texas
X-ORIGINAL-URL:https://fccunited.org
X-WR-CALDESC:Events for First Christian Church  United Lewisville, Texas
REFRESH-INTERVAL;VALUE=DURATION:PT1H
X-Robots-Tag:noindex
X-PUBLISHED-TTL:PT1H
BEGIN:VTIMEZONE
TZID:America/Chicago
BEGIN:DAYLIGHT
TZOFFSETFROM:-0600
TZOFFSETTO:-0500
TZNAME:CDT
DTSTART:20250309T080000
END:DAYLIGHT
BEGIN:STANDARD
TZOFFSETFROM:-0500
TZOFFSETTO:-0600
TZNAME:CST
DTSTART:20251102T070000
END:STANDARD
BEGIN:DAYLIGHT
TZOFFSETFROM:-0600
TZOFFSETTO:-0500
TZNAME:CDT
DTSTART:20260308T080000
END:DAYLIGHT
BEGIN:STANDARD
TZOFFSETFROM:-0500
TZOFFSETTO:-0600
TZNAME:CST
DTSTART:20261101T070000
END:STANDARD
BEGIN:DAYLIGHT
TZOFFSETFROM:-0600
TZOFFSETTO:-0500
TZNAME:CDT
DTSTART:20270314T080000
END:DAYLIGHT
BEGIN:STANDARD
TZOFFSETFROM:-0500
TZOFFSETTO:-0600
TZNAME:CST
DTSTART:20271107T070000
END:STANDARD
BEGIN:DAYLIGHT
TZOFFSETFROM:-0600
TZOFFSETTO:-0500
TZNAME:CDT
DTSTART:20280312T080000
END:DAYLIGHT
BEGIN:STANDARD
TZOFFSETFROM:-0500
TZOFFSETTO:-0600
TZNAME:CST
DTSTART:20281105T070000
END:STANDARD
END:VTIMEZONE
BEGIN:VEVENT
DTSTART;TZID=America/Chicago:20261223T160000
DTEND;TZID=America/Chicago:20261223T170000
DTSTAMP:20260421T005936
CREATED:20260221T121225Z
LAST-MODIFIED:20260221T122346Z
UID:10004793-1798041600-1798045200@fccunited.org
SUMMARY:Hour of Prayer
DESCRIPTION:
URL:https://fccunited.org/event/hour-of-prayer/2026-12-23/
CATEGORIES:Fellowship
ATTACH;FMTTYPE=image/jpeg:https://fccunited.org/wp-content/uploads/2026/02/hour-of-prayer-1.jpg
END:VEVENT
BEGIN:VEVENT
DTSTART;TZID=America/Chicago:20261223T170000
DTEND;TZID=America/Chicago:20261223T190000
DTSTAMP:20260421T005936
CREATED:20260221T121346Z
LAST-MODIFIED:20260221T121447Z
UID:10005054-1798045200-1798052400@fccunited.org
SUMMARY:Midweek Connection
DESCRIPTION:
URL:https://fccunited.org/event/midweek-connection/2026-12-23/
CATEGORIES:Fellowship
ATTACH;FMTTYPE=image/jpeg:https://fccunited.org/wp-content/uploads/2026/02/midweek-connection-3.jpg
END:VEVENT
BEGIN:VEVENT
DTSTART;TZID=America/Chicago:20261223T190000
DTEND;TZID=America/Chicago:20261223T200000
DTSTAMP:20260421T005936
CREATED:20260108T163528Z
LAST-MODIFIED:20260210T171104Z
UID:10003518-1798052400-1798056000@fccunited.org
SUMMARY:Choir Practice
DESCRIPTION:
URL:https://fccunited.org/event/choir-practice-4/2026-12-23/
CATEGORIES:Worship
ATTACH;FMTTYPE=image/jpeg:https://fccunited.org/wp-content/uploads/2026/01/choir-practice.jpg
END:VEVENT
BEGIN:VEVENT
DTSTART;TZID=America/Chicago:20261224T100000
DTEND;TZID=America/Chicago:20261224T233000
DTSTAMP:20260421T005936
CREATED:20260216T125355Z
LAST-MODIFIED:20260415T134412Z
UID:10004639-1798106400-1798155000@fccunited.org
SUMMARY:MomCo
DESCRIPTION:Mom\, join us for faith\, fun\, and fellowship the fourth Thursday of each month.  Childcare is provided. \nCall 972-446-9808 for more information.
URL:https://fccunited.org/event/momco-1000-a-m-2/2026-12-24/
CATEGORIES:Fellowship
ATTACH;FMTTYPE=image/jpeg:https://fccunited.org/wp-content/uploads/2026/02/20260122-momco-3.jpg
END:VEVENT
BEGIN:VEVENT
DTSTART;TZID=America/Chicago:20261227T081500
DTEND;TZID=America/Chicago:20261227T091500
DTSTAMP:20260421T005936
CREATED:20260221T120438Z
LAST-MODIFIED:20260221T120438Z
UID:10004700-1798359300-1798362900@fccunited.org
SUMMARY:Elders Meeting
DESCRIPTION:
URL:https://fccunited.org/event/elders-meeting/2026-12-27/
CATEGORIES:Fellowship
ATTACH;FMTTYPE=image/jpeg:https://fccunited.org/wp-content/uploads/2026/02/20260125-elder-meeting.jpg
END:VEVENT
BEGIN:VEVENT
DTSTART;TZID=America/Chicago:20261227T091500
DTEND;TZID=America/Chicago:20261227T101500
DTSTAMP:20260421T005936
CREATED:20260127T133219Z
LAST-MODIFIED:20260127T133453Z
UID:10004147-1798362900-1798366500@fccunited.org
SUMMARY:Study Classes
DESCRIPTION:We offer classes for adults and for youth.
URL:https://fccunited.org/event/study-classes/2026-12-27/
CATEGORIES:Bible Study
ATTACH;FMTTYPE=image/jpeg:https://fccunited.org/wp-content/uploads/2026/01/study-class.jpg
END:VEVENT
BEGIN:VEVENT
DTSTART;TZID=America/Chicago:20261227T102500
DTEND;TZID=America/Chicago:20261227T113000
DTSTAMP:20260421T005936
CREATED:20260325T123948Z
LAST-MODIFIED:20260325T123948Z
UID:10005520-1798367100-1798371000@fccunited.org
SUMMARY:Sunday Worship
DESCRIPTION:
URL:https://fccunited.org/event/sunday-worship/2026-12-27/
CATEGORIES:Worship
END:VEVENT
BEGIN:VEVENT
DTSTART;TZID=America/Chicago:20261230T160000
DTEND;TZID=America/Chicago:20261230T170000
DTSTAMP:20260421T005936
CREATED:20260221T121225Z
LAST-MODIFIED:20260221T122346Z
UID:10004794-1798646400-1798650000@fccunited.org
SUMMARY:Hour of Prayer
DESCRIPTION:
URL:https://fccunited.org/event/hour-of-prayer/2026-12-30/
CATEGORIES:Fellowship
ATTACH;FMTTYPE=image/jpeg:https://fccunited.org/wp-content/uploads/2026/02/hour-of-prayer-1.jpg
END:VEVENT
BEGIN:VEVENT
DTSTART;TZID=America/Chicago:20261230T170000
DTEND;TZID=America/Chicago:20261230T190000
DTSTAMP:20260421T005936
CREATED:20260221T121346Z
LAST-MODIFIED:20260221T121447Z
UID:10005055-1798650000-1798657200@fccunited.org
SUMMARY:Midweek Connection
DESCRIPTION:
URL:https://fccunited.org/event/midweek-connection/2026-12-30/
CATEGORIES:Fellowship
ATTACH;FMTTYPE=image/jpeg:https://fccunited.org/wp-content/uploads/2026/02/midweek-connection-3.jpg
END:VEVENT
BEGIN:VEVENT
DTSTART;TZID=America/Chicago:20261230T190000
DTEND;TZID=America/Chicago:20261230T200000
DTSTAMP:20260421T005936
CREATED:20260108T163528Z
LAST-MODIFIED:20260210T171104Z
UID:10003519-1798657200-1798660800@fccunited.org
SUMMARY:Choir Practice
DESCRIPTION:
URL:https://fccunited.org/event/choir-practice-4/2026-12-30/
CATEGORIES:Worship
ATTACH;FMTTYPE=image/jpeg:https://fccunited.org/wp-content/uploads/2026/01/choir-practice.jpg
END:VEVENT
BEGIN:VEVENT
DTSTART;TZID=America/Chicago:20270103T091500
DTEND;TZID=America/Chicago:20270103T101500
DTSTAMP:20260421T005936
CREATED:20260127T133219Z
LAST-MODIFIED:20260127T133453Z
UID:10004148-1798967700-1798971300@fccunited.org
SUMMARY:Study Classes
DESCRIPTION:We offer classes for adults and for youth.
URL:https://fccunited.org/event/study-classes/2027-01-03/
CATEGORIES:Bible Study
ATTACH;FMTTYPE=image/jpeg:https://fccunited.org/wp-content/uploads/2026/01/study-class.jpg
END:VEVENT
BEGIN:VEVENT
DTSTART;TZID=America/Chicago:20270103T102500
DTEND;TZID=America/Chicago:20270103T113000
DTSTAMP:20260421T005936
CREATED:20260325T123948Z
LAST-MODIFIED:20260325T123948Z
UID:10005521-1798971900-1798975800@fccunited.org
SUMMARY:Sunday Worship
DESCRIPTION:
URL:https://fccunited.org/event/sunday-worship/2027-01-03/
CATEGORIES:Worship
END:VEVENT
BEGIN:VEVENT
DTSTART;TZID=America/Chicago:20270103T103000
DTEND;TZID=America/Chicago:20270103T113000
DTSTAMP:20260421T005936
CREATED:20260127T131829Z
LAST-MODIFIED:20260127T131829Z
UID:10004051-1798972200-1798975800@fccunited.org
SUMMARY:First Fruits Sunday
DESCRIPTION:Collecting non-perishables for CCA and Metrocrest Social Services.
URL:https://fccunited.org/event/first-fruits-sunday/2027-01-03/
CATEGORIES:Ministries
ATTACH;FMTTYPE=image/jpeg:https://fccunited.org/wp-content/uploads/2026/01/first-fruits-and-toilet-paper-sunday.jpg
END:VEVENT
BEGIN:VEVENT
DTSTART;TZID=America/Chicago:20270103T113000
DTEND;TZID=America/Chicago:20270103T123000
DTSTAMP:20260421T005936
CREATED:20260311T144206Z
LAST-MODIFIED:20260311T144208Z
UID:10005287-1798975800-1798979400@fccunited.org
SUMMARY:Fellowship Lunch
DESCRIPTION:
URL:https://fccunited.org/event/fellowship-lunch-2-2/2027-01-03/
LOCATION:Praise in the Morning Devotional - November 30\, 2025
CATEGORIES:Fellowship
END:VEVENT
BEGIN:VEVENT
DTSTART;TZID=America/Chicago:20270106T160000
DTEND;TZID=America/Chicago:20270106T170000
DTSTAMP:20260421T005936
CREATED:20260221T121225Z
LAST-MODIFIED:20260221T122346Z
UID:10004795-1799251200-1799254800@fccunited.org
SUMMARY:Hour of Prayer
DESCRIPTION:
URL:https://fccunited.org/event/hour-of-prayer/2027-01-06/
CATEGORIES:Fellowship
ATTACH;FMTTYPE=image/jpeg:https://fccunited.org/wp-content/uploads/2026/02/hour-of-prayer-1.jpg
END:VEVENT
BEGIN:VEVENT
DTSTART;TZID=America/Chicago:20270106T170000
DTEND;TZID=America/Chicago:20270106T190000
DTSTAMP:20260421T005936
CREATED:20260221T121346Z
LAST-MODIFIED:20260221T121447Z
UID:10005056-1799254800-1799262000@fccunited.org
SUMMARY:Midweek Connection
DESCRIPTION:
URL:https://fccunited.org/event/midweek-connection/2027-01-06/
CATEGORIES:Fellowship
ATTACH;FMTTYPE=image/jpeg:https://fccunited.org/wp-content/uploads/2026/02/midweek-connection-3.jpg
END:VEVENT
BEGIN:VEVENT
DTSTART;TZID=America/Chicago:20270106T190000
DTEND;TZID=America/Chicago:20270106T200000
DTSTAMP:20260421T005936
CREATED:20260108T163528Z
LAST-MODIFIED:20260210T171104Z
UID:10003520-1799262000-1799265600@fccunited.org
SUMMARY:Choir Practice
DESCRIPTION:
URL:https://fccunited.org/event/choir-practice-4/2027-01-06/
CATEGORIES:Worship
ATTACH;FMTTYPE=image/jpeg:https://fccunited.org/wp-content/uploads/2026/01/choir-practice.jpg
END:VEVENT
BEGIN:VEVENT
DTSTART;TZID=America/Chicago:20270109T100000
DTEND;TZID=America/Chicago:20270109T113000
DTSTAMP:20260421T005936
CREATED:20260224T200455Z
LAST-MODIFIED:20260224T200455Z
UID:10005347-1799488800-1799494200@fccunited.org
SUMMARY:Pin Pal Sewing Ministry
DESCRIPTION:
URL:https://fccunited.org/event/pin-pal-sewing-ministry/2027-01-09/
CATEGORIES:Fellowship
ATTACH;FMTTYPE=image/jpeg:https://fccunited.org/wp-content/uploads/2026/02/20260214-sewing-ministry.jpg
END:VEVENT
BEGIN:VEVENT
DTSTART;TZID=America/Chicago:20270110T091500
DTEND;TZID=America/Chicago:20270110T101500
DTSTAMP:20260421T005936
CREATED:20260127T133219Z
LAST-MODIFIED:20260127T133453Z
UID:10004149-1799572500-1799576100@fccunited.org
SUMMARY:Study Classes
DESCRIPTION:We offer classes for adults and for youth.
URL:https://fccunited.org/event/study-classes/2027-01-10/
CATEGORIES:Bible Study
ATTACH;FMTTYPE=image/jpeg:https://fccunited.org/wp-content/uploads/2026/01/study-class.jpg
END:VEVENT
BEGIN:VEVENT
DTSTART;TZID=America/Chicago:20270110T102500
DTEND;TZID=America/Chicago:20270110T113000
DTSTAMP:20260421T005936
CREATED:20260325T123948Z
LAST-MODIFIED:20260325T123948Z
UID:10005522-1799576700-1799580600@fccunited.org
SUMMARY:Sunday Worship
DESCRIPTION:
URL:https://fccunited.org/event/sunday-worship/2027-01-10/
CATEGORIES:Worship
END:VEVENT
BEGIN:VEVENT
DTSTART;TZID=America/Chicago:20270111T190000
DTEND;TZID=America/Chicago:20270111T203000
DTSTAMP:20260421T005936
CREATED:20260227T135325Z
LAST-MODIFIED:20260227T135325Z
UID:10005408-1799694000-1799699400@fccunited.org
SUMMARY:Agape Men
DESCRIPTION:
URL:https://fccunited.org/event/agape-men-2/2027-01-11/
CATEGORIES:Fellowship
ATTACH;FMTTYPE=image/jpeg:https://fccunited.org/wp-content/uploads/2026/02/20260309-agape-men.jpg
END:VEVENT
BEGIN:VEVENT
DTSTART;TZID=America/Chicago:20270112T083000
DTEND;TZID=America/Chicago:20270112T103000
DTSTAMP:20260421T005936
CREATED:20260415T135010Z
LAST-MODIFIED:20260415T135124Z
UID:10005758-1799742600-1799749800@fccunited.org
SUMMARY:CCA Food Pantry
DESCRIPTION:
URL:https://fccunited.org/event/cca-food-pantry/2027-01-12/
CATEGORIES:Fellowship
ATTACH;FMTTYPE=image/jpeg:https://fccunited.org/wp-content/uploads/2026/04/20260310-cca-food-pantry.jpg
END:VEVENT
BEGIN:VEVENT
DTSTART;TZID=America/Chicago:20270113T160000
DTEND;TZID=America/Chicago:20270113T170000
DTSTAMP:20260421T005936
CREATED:20260221T121225Z
LAST-MODIFIED:20260221T122346Z
UID:10004796-1799856000-1799859600@fccunited.org
SUMMARY:Hour of Prayer
DESCRIPTION:
URL:https://fccunited.org/event/hour-of-prayer/2027-01-13/
CATEGORIES:Fellowship
ATTACH;FMTTYPE=image/jpeg:https://fccunited.org/wp-content/uploads/2026/02/hour-of-prayer-1.jpg
END:VEVENT
BEGIN:VEVENT
DTSTART;TZID=America/Chicago:20270113T170000
DTEND;TZID=America/Chicago:20270113T190000
DTSTAMP:20260421T005936
CREATED:20260221T121346Z
LAST-MODIFIED:20260221T121447Z
UID:10005057-1799859600-1799866800@fccunited.org
SUMMARY:Midweek Connection
DESCRIPTION:
URL:https://fccunited.org/event/midweek-connection/2027-01-13/
CATEGORIES:Fellowship
ATTACH;FMTTYPE=image/jpeg:https://fccunited.org/wp-content/uploads/2026/02/midweek-connection-3.jpg
END:VEVENT
BEGIN:VEVENT
DTSTART;TZID=America/Chicago:20270113T190000
DTEND;TZID=America/Chicago:20270113T200000
DTSTAMP:20260421T005936
CREATED:20260108T163528Z
LAST-MODIFIED:20260210T171104Z
UID:10003521-1799866800-1799870400@fccunited.org
SUMMARY:Choir Practice
DESCRIPTION:
URL:https://fccunited.org/event/choir-practice-4/2027-01-13/
CATEGORIES:Worship
ATTACH;FMTTYPE=image/jpeg:https://fccunited.org/wp-content/uploads/2026/01/choir-practice.jpg
END:VEVENT
BEGIN:VEVENT
DTSTART;TZID=America/Chicago:20270117T091500
DTEND;TZID=America/Chicago:20270117T101500
DTSTAMP:20260421T005936
CREATED:20260127T133219Z
LAST-MODIFIED:20260127T133453Z
UID:10004150-1800177300-1800180900@fccunited.org
SUMMARY:Study Classes
DESCRIPTION:We offer classes for adults and for youth.
URL:https://fccunited.org/event/study-classes/2027-01-17/
CATEGORIES:Bible Study
ATTACH;FMTTYPE=image/jpeg:https://fccunited.org/wp-content/uploads/2026/01/study-class.jpg
END:VEVENT
BEGIN:VEVENT
DTSTART;TZID=America/Chicago:20270117T102500
DTEND;TZID=America/Chicago:20270117T113000
DTSTAMP:20260421T005936
CREATED:20260325T123948Z
LAST-MODIFIED:20260325T123948Z
UID:10005523-1800181500-1800185400@fccunited.org
SUMMARY:Sunday Worship
DESCRIPTION:
URL:https://fccunited.org/event/sunday-worship/2027-01-17/
CATEGORIES:Worship
END:VEVENT
BEGIN:VEVENT
DTSTART;TZID=America/Chicago:20270118T173000
DTEND;TZID=America/Chicago:20270118T200000
DTSTAMP:20260421T005936
CREATED:20260127T130121Z
LAST-MODIFIED:20260127T130121Z
UID:10003980-1800293400-1800302400@fccunited.org
SUMMARY:Stephen Ministry Supervision Group
DESCRIPTION:
URL:https://fccunited.org/event/stephen-ministry-supervision-group-2/2027-01-18/
CATEGORIES:Ministries
ATTACH;FMTTYPE=image/jpeg:https://fccunited.org/wp-content/uploads/2026/01/stephen-ministry-1.jpg
END:VEVENT
BEGIN:VEVENT
DTSTART;TZID=America/Chicago:20270120T160000
DTEND;TZID=America/Chicago:20270120T170000
DTSTAMP:20260421T005936
CREATED:20260221T121225Z
LAST-MODIFIED:20260221T122346Z
UID:10004797-1800460800-1800464400@fccunited.org
SUMMARY:Hour of Prayer
DESCRIPTION:
URL:https://fccunited.org/event/hour-of-prayer/2027-01-20/
CATEGORIES:Fellowship
ATTACH;FMTTYPE=image/jpeg:https://fccunited.org/wp-content/uploads/2026/02/hour-of-prayer-1.jpg
END:VEVENT
BEGIN:VEVENT
DTSTART;TZID=America/Chicago:20270120T170000
DTEND;TZID=America/Chicago:20270120T190000
DTSTAMP:20260421T005936
CREATED:20260221T121346Z
LAST-MODIFIED:20260221T121447Z
UID:10005058-1800464400-1800471600@fccunited.org
SUMMARY:Midweek Connection
DESCRIPTION:
URL:https://fccunited.org/event/midweek-connection/2027-01-20/
CATEGORIES:Fellowship
ATTACH;FMTTYPE=image/jpeg:https://fccunited.org/wp-content/uploads/2026/02/midweek-connection-3.jpg
END:VEVENT
END:VCALENDAR