BEGIN:VCALENDAR
VERSION:2.0
PRODID:-//First Christian Church  United Lewisville, Texas - ECPv6.15.14//NONSGML v1.0//EN
CALSCALE:GREGORIAN
METHOD:PUBLISH
X-WR-CALNAME:First Christian Church  United Lewisville, Texas
X-ORIGINAL-URL:https://fccunited.org
X-WR-CALDESC:Events for First Christian Church  United Lewisville, Texas
REFRESH-INTERVAL;VALUE=DURATION:PT1H
X-Robots-Tag:noindex
X-PUBLISHED-TTL:PT1H
BEGIN:VTIMEZONE
TZID:America/Chicago
BEGIN:DAYLIGHT
TZOFFSETFROM:-0600
TZOFFSETTO:-0500
TZNAME:CDT
DTSTART:20300310T080000
END:DAYLIGHT
BEGIN:STANDARD
TZOFFSETFROM:-0500
TZOFFSETTO:-0600
TZNAME:CST
DTSTART:20301103T070000
END:STANDARD
BEGIN:DAYLIGHT
TZOFFSETFROM:-0600
TZOFFSETTO:-0500
TZNAME:CDT
DTSTART:20310309T080000
END:DAYLIGHT
BEGIN:STANDARD
TZOFFSETFROM:-0500
TZOFFSETTO:-0600
TZNAME:CST
DTSTART:20311102T070000
END:STANDARD
BEGIN:DAYLIGHT
TZOFFSETFROM:-0600
TZOFFSETTO:-0500
TZNAME:CDT
DTSTART:20320314T080000
END:DAYLIGHT
BEGIN:STANDARD
TZOFFSETFROM:-0500
TZOFFSETTO:-0600
TZNAME:CST
DTSTART:20321107T070000
END:STANDARD
END:VTIMEZONE
BEGIN:VEVENT
DTSTART;TZID=America/Chicago:20310105T091500
DTEND;TZID=America/Chicago:20310105T101500
DTSTAMP:20260424T082810
CREATED:20260127T133219Z
LAST-MODIFIED:20260127T133453Z
UID:10004357-1925370900-1925374500@fccunited.org
SUMMARY:Study Classes
DESCRIPTION:We offer classes for adults and for youth.
URL:https://fccunited.org/event/study-classes/2031-01-05/
CATEGORIES:Bible Study
ATTACH;FMTTYPE=image/jpeg:https://fccunited.org/wp-content/uploads/2026/01/study-class.jpg
END:VEVENT
BEGIN:VEVENT
DTSTART;TZID=America/Chicago:20310105T102500
DTEND;TZID=America/Chicago:20310105T113000
DTSTAMP:20260424T082810
CREATED:20260325T123948Z
LAST-MODIFIED:20260325T123948Z
UID:10005730-1925375100-1925379000@fccunited.org
SUMMARY:Sunday Worship
DESCRIPTION:
URL:https://fccunited.org/event/sunday-worship/2031-01-05/
CATEGORIES:Worship
END:VEVENT
BEGIN:VEVENT
DTSTART;TZID=America/Chicago:20310105T103000
DTEND;TZID=America/Chicago:20310105T113000
DTSTAMP:20260424T082810
CREATED:20260127T131829Z
LAST-MODIFIED:20260127T131829Z
UID:10004099-1925375400-1925379000@fccunited.org
SUMMARY:First Fruits Sunday
DESCRIPTION:Collecting non-perishables for CCA and Metrocrest Social Services.
URL:https://fccunited.org/event/first-fruits-sunday/2031-01-05/
CATEGORIES:Ministries
ATTACH;FMTTYPE=image/jpeg:https://fccunited.org/wp-content/uploads/2026/01/first-fruits-and-toilet-paper-sunday.jpg
END:VEVENT
BEGIN:VEVENT
DTSTART;TZID=America/Chicago:20310105T113000
DTEND;TZID=America/Chicago:20310105T123000
DTSTAMP:20260424T082810
CREATED:20260311T144206Z
LAST-MODIFIED:20260311T144208Z
UID:10005335-1925379000-1925382600@fccunited.org
SUMMARY:Fellowship Lunch
DESCRIPTION:
URL:https://fccunited.org/event/fellowship-lunch-2-2/2031-01-05/
LOCATION:Praise in the Morning Devotional - November 30\, 2025
CATEGORIES:Fellowship
END:VEVENT
BEGIN:VEVENT
DTSTART;TZID=America/Chicago:20310108T160000
DTEND;TZID=America/Chicago:20310108T170000
DTSTAMP:20260424T082810
CREATED:20260221T121225Z
LAST-MODIFIED:20260221T122346Z
UID:10005004-1925654400-1925658000@fccunited.org
SUMMARY:Hour of Prayer
DESCRIPTION:
URL:https://fccunited.org/event/hour-of-prayer/2031-01-08/
CATEGORIES:Fellowship
ATTACH;FMTTYPE=image/jpeg:https://fccunited.org/wp-content/uploads/2026/02/hour-of-prayer-1.jpg
END:VEVENT
BEGIN:VEVENT
DTSTART;TZID=America/Chicago:20310108T170000
DTEND;TZID=America/Chicago:20310108T190000
DTSTAMP:20260424T082810
CREATED:20260221T121346Z
LAST-MODIFIED:20260221T121447Z
UID:10005265-1925658000-1925665200@fccunited.org
SUMMARY:Midweek Connection
DESCRIPTION:
URL:https://fccunited.org/event/midweek-connection/2031-01-08/
CATEGORIES:Fellowship
ATTACH;FMTTYPE=image/jpeg:https://fccunited.org/wp-content/uploads/2026/02/midweek-connection-3.jpg
END:VEVENT
BEGIN:VEVENT
DTSTART;TZID=America/Chicago:20310108T190000
DTEND;TZID=America/Chicago:20310108T200000
DTSTAMP:20260424T082810
CREATED:20260108T163528Z
LAST-MODIFIED:20260210T171104Z
UID:10003729-1925665200-1925668800@fccunited.org
SUMMARY:Choir Practice
DESCRIPTION:
URL:https://fccunited.org/event/choir-practice-4/2031-01-08/
CATEGORIES:Worship
ATTACH;FMTTYPE=image/jpeg:https://fccunited.org/wp-content/uploads/2026/01/choir-practice.jpg
END:VEVENT
BEGIN:VEVENT
DTSTART;TZID=America/Chicago:20310111T100000
DTEND;TZID=America/Chicago:20310111T113000
DTSTAMP:20260424T082810
CREATED:20260224T200455Z
LAST-MODIFIED:20260224T200455Z
UID:10005395-1925892000-1925897400@fccunited.org
SUMMARY:Pin Pal Sewing Ministry
DESCRIPTION:
URL:https://fccunited.org/event/pin-pal-sewing-ministry/2031-01-11/
CATEGORIES:Fellowship
ATTACH;FMTTYPE=image/jpeg:https://fccunited.org/wp-content/uploads/2026/02/20260214-sewing-ministry.jpg
END:VEVENT
BEGIN:VEVENT
DTSTART;TZID=America/Chicago:20310112T091500
DTEND;TZID=America/Chicago:20310112T101500
DTSTAMP:20260424T082810
CREATED:20260127T133219Z
LAST-MODIFIED:20260127T133453Z
UID:10004358-1925975700-1925979300@fccunited.org
SUMMARY:Study Classes
DESCRIPTION:We offer classes for adults and for youth.
URL:https://fccunited.org/event/study-classes/2031-01-12/
CATEGORIES:Bible Study
ATTACH;FMTTYPE=image/jpeg:https://fccunited.org/wp-content/uploads/2026/01/study-class.jpg
END:VEVENT
BEGIN:VEVENT
DTSTART;TZID=America/Chicago:20310112T102500
DTEND;TZID=America/Chicago:20310112T113000
DTSTAMP:20260424T082810
CREATED:20260325T123948Z
LAST-MODIFIED:20260325T123948Z
UID:10005731-1925979900-1925983800@fccunited.org
SUMMARY:Sunday Worship
DESCRIPTION:
URL:https://fccunited.org/event/sunday-worship/2031-01-12/
CATEGORIES:Worship
END:VEVENT
BEGIN:VEVENT
DTSTART;TZID=America/Chicago:20310113T190000
DTEND;TZID=America/Chicago:20310113T203000
DTSTAMP:20260424T082810
CREATED:20260227T135325Z
LAST-MODIFIED:20260227T135325Z
UID:10005456-1926097200-1926102600@fccunited.org
SUMMARY:Agape Men
DESCRIPTION:
URL:https://fccunited.org/event/agape-men-2/2031-01-13/
CATEGORIES:Fellowship
ATTACH;FMTTYPE=image/jpeg:https://fccunited.org/wp-content/uploads/2026/02/20260309-agape-men.jpg
END:VEVENT
BEGIN:VEVENT
DTSTART;TZID=America/Chicago:20310114T083000
DTEND;TZID=America/Chicago:20310114T103000
DTSTAMP:20260424T082810
CREATED:20260415T135010Z
LAST-MODIFIED:20260415T135124Z
UID:10005806-1926145800-1926153000@fccunited.org
SUMMARY:CCA Food Pantry
DESCRIPTION:
URL:https://fccunited.org/event/cca-food-pantry/2031-01-14/
CATEGORIES:Fellowship
ATTACH;FMTTYPE=image/jpeg:https://fccunited.org/wp-content/uploads/2026/04/20260310-cca-food-pantry.jpg
END:VEVENT
BEGIN:VEVENT
DTSTART;TZID=America/Chicago:20310115T160000
DTEND;TZID=America/Chicago:20310115T170000
DTSTAMP:20260424T082810
CREATED:20260221T121225Z
LAST-MODIFIED:20260221T122346Z
UID:10005005-1926259200-1926262800@fccunited.org
SUMMARY:Hour of Prayer
DESCRIPTION:
URL:https://fccunited.org/event/hour-of-prayer/2031-01-15/
CATEGORIES:Fellowship
ATTACH;FMTTYPE=image/jpeg:https://fccunited.org/wp-content/uploads/2026/02/hour-of-prayer-1.jpg
END:VEVENT
BEGIN:VEVENT
DTSTART;TZID=America/Chicago:20310115T170000
DTEND;TZID=America/Chicago:20310115T190000
DTSTAMP:20260424T082810
CREATED:20260221T121346Z
LAST-MODIFIED:20260221T121447Z
UID:10005266-1926262800-1926270000@fccunited.org
SUMMARY:Midweek Connection
DESCRIPTION:
URL:https://fccunited.org/event/midweek-connection/2031-01-15/
CATEGORIES:Fellowship
ATTACH;FMTTYPE=image/jpeg:https://fccunited.org/wp-content/uploads/2026/02/midweek-connection-3.jpg
END:VEVENT
BEGIN:VEVENT
DTSTART;TZID=America/Chicago:20310115T190000
DTEND;TZID=America/Chicago:20310115T200000
DTSTAMP:20260424T082810
CREATED:20260108T163528Z
LAST-MODIFIED:20260210T171104Z
UID:10004623-1926270000-1926273600@fccunited.org
SUMMARY:Choir Practice
DESCRIPTION:
URL:https://fccunited.org/event/choir-practice-4/2031-01-15/
CATEGORIES:Worship
ATTACH;FMTTYPE=image/jpeg:https://fccunited.org/wp-content/uploads/2026/01/choir-practice.jpg
END:VEVENT
BEGIN:VEVENT
DTSTART;TZID=America/Chicago:20310119T091500
DTEND;TZID=America/Chicago:20310119T101500
DTSTAMP:20260424T082810
CREATED:20260127T133219Z
LAST-MODIFIED:20260127T133453Z
UID:10004359-1926580500-1926584100@fccunited.org
SUMMARY:Study Classes
DESCRIPTION:We offer classes for adults and for youth.
URL:https://fccunited.org/event/study-classes/2031-01-19/
CATEGORIES:Bible Study
ATTACH;FMTTYPE=image/jpeg:https://fccunited.org/wp-content/uploads/2026/01/study-class.jpg
END:VEVENT
BEGIN:VEVENT
DTSTART;TZID=America/Chicago:20310119T102500
DTEND;TZID=America/Chicago:20310119T113000
DTSTAMP:20260424T082810
CREATED:20260325T123948Z
LAST-MODIFIED:20260325T123948Z
UID:10005732-1926584700-1926588600@fccunited.org
SUMMARY:Sunday Worship
DESCRIPTION:
URL:https://fccunited.org/event/sunday-worship/2031-01-19/
CATEGORIES:Worship
END:VEVENT
BEGIN:VEVENT
DTSTART;TZID=America/Chicago:20310122T160000
DTEND;TZID=America/Chicago:20310122T170000
DTSTAMP:20260424T082810
CREATED:20260221T121225Z
LAST-MODIFIED:20260221T122346Z
UID:10005006-1926864000-1926867600@fccunited.org
SUMMARY:Hour of Prayer
DESCRIPTION:
URL:https://fccunited.org/event/hour-of-prayer/2031-01-22/
CATEGORIES:Fellowship
ATTACH;FMTTYPE=image/jpeg:https://fccunited.org/wp-content/uploads/2026/02/hour-of-prayer-1.jpg
END:VEVENT
BEGIN:VEVENT
DTSTART;TZID=America/Chicago:20310122T170000
DTEND;TZID=America/Chicago:20310122T190000
DTSTAMP:20260424T082810
CREATED:20260221T121346Z
LAST-MODIFIED:20260221T121447Z
UID:10005267-1926867600-1926874800@fccunited.org
SUMMARY:Midweek Connection
DESCRIPTION:
URL:https://fccunited.org/event/midweek-connection/2031-01-22/
CATEGORIES:Fellowship
ATTACH;FMTTYPE=image/jpeg:https://fccunited.org/wp-content/uploads/2026/02/midweek-connection-3.jpg
END:VEVENT
BEGIN:VEVENT
DTSTART;TZID=America/Chicago:20310122T190000
DTEND;TZID=America/Chicago:20310122T200000
DTSTAMP:20260424T082810
CREATED:20260108T163528Z
LAST-MODIFIED:20260210T171104Z
UID:10004624-1926874800-1926878400@fccunited.org
SUMMARY:Choir Practice
DESCRIPTION:
URL:https://fccunited.org/event/choir-practice-4/2031-01-22/
CATEGORIES:Worship
ATTACH;FMTTYPE=image/jpeg:https://fccunited.org/wp-content/uploads/2026/01/choir-practice.jpg
END:VEVENT
BEGIN:VEVENT
DTSTART;TZID=America/Chicago:20310123T100000
DTEND;TZID=America/Chicago:20310123T233000
DTSTAMP:20260424T082810
CREATED:20260216T125355Z
LAST-MODIFIED:20260415T134412Z
UID:10004688-1926928800-1926977400@fccunited.org
SUMMARY:MomCo
DESCRIPTION:Mom\, join us for faith\, fun\, and fellowship the fourth Thursday of each month.  Childcare is provided. \nCall 972-446-9808 for more information.
URL:https://fccunited.org/event/momco-1000-a-m-2/2031-01-23/
CATEGORIES:Fellowship
ATTACH;FMTTYPE=image/jpeg:https://fccunited.org/wp-content/uploads/2026/02/20260122-momco-3.jpg
END:VEVENT
BEGIN:VEVENT
DTSTART;TZID=America/Chicago:20310126T081500
DTEND;TZID=America/Chicago:20310126T091500
DTSTAMP:20260424T082810
CREATED:20260221T120438Z
LAST-MODIFIED:20260221T120438Z
UID:10004749-1927181700-1927185300@fccunited.org
SUMMARY:Elders Meeting
DESCRIPTION:
URL:https://fccunited.org/event/elders-meeting/2031-01-26/
CATEGORIES:Fellowship
ATTACH;FMTTYPE=image/jpeg:https://fccunited.org/wp-content/uploads/2026/02/20260125-elder-meeting.jpg
END:VEVENT
BEGIN:VEVENT
DTSTART;TZID=America/Chicago:20310126T091500
DTEND;TZID=America/Chicago:20310126T101500
DTSTAMP:20260424T082810
CREATED:20260127T133219Z
LAST-MODIFIED:20260127T133453Z
UID:10004360-1927185300-1927188900@fccunited.org
SUMMARY:Study Classes
DESCRIPTION:We offer classes for adults and for youth.
URL:https://fccunited.org/event/study-classes/2031-01-26/
CATEGORIES:Bible Study
ATTACH;FMTTYPE=image/jpeg:https://fccunited.org/wp-content/uploads/2026/01/study-class.jpg
END:VEVENT
BEGIN:VEVENT
DTSTART;TZID=America/Chicago:20310126T102500
DTEND;TZID=America/Chicago:20310126T113000
DTSTAMP:20260424T082810
CREATED:20260325T123948Z
LAST-MODIFIED:20260325T123948Z
UID:10005733-1927189500-1927193400@fccunited.org
SUMMARY:Sunday Worship
DESCRIPTION:
URL:https://fccunited.org/event/sunday-worship/2031-01-26/
CATEGORIES:Worship
END:VEVENT
BEGIN:VEVENT
DTSTART;TZID=America/Chicago:20310129T160000
DTEND;TZID=America/Chicago:20310129T170000
DTSTAMP:20260424T082810
CREATED:20260221T121225Z
LAST-MODIFIED:20260221T122346Z
UID:10005007-1927468800-1927472400@fccunited.org
SUMMARY:Hour of Prayer
DESCRIPTION:
URL:https://fccunited.org/event/hour-of-prayer/2031-01-29/
CATEGORIES:Fellowship
ATTACH;FMTTYPE=image/jpeg:https://fccunited.org/wp-content/uploads/2026/02/hour-of-prayer-1.jpg
END:VEVENT
BEGIN:VEVENT
DTSTART;TZID=America/Chicago:20310129T170000
DTEND;TZID=America/Chicago:20310129T190000
DTSTAMP:20260424T082810
CREATED:20260221T121346Z
LAST-MODIFIED:20260221T121447Z
UID:10005268-1927472400-1927479600@fccunited.org
SUMMARY:Midweek Connection
DESCRIPTION:
URL:https://fccunited.org/event/midweek-connection/2031-01-29/
CATEGORIES:Fellowship
ATTACH;FMTTYPE=image/jpeg:https://fccunited.org/wp-content/uploads/2026/02/midweek-connection-3.jpg
END:VEVENT
BEGIN:VEVENT
DTSTART;TZID=America/Chicago:20310129T190000
DTEND;TZID=America/Chicago:20310129T200000
DTSTAMP:20260424T082810
CREATED:20260108T163528Z
LAST-MODIFIED:20260210T171104Z
UID:10004625-1927479600-1927483200@fccunited.org
SUMMARY:Choir Practice
DESCRIPTION:
URL:https://fccunited.org/event/choir-practice-4/2031-01-29/
CATEGORIES:Worship
ATTACH;FMTTYPE=image/jpeg:https://fccunited.org/wp-content/uploads/2026/01/choir-practice.jpg
END:VEVENT
BEGIN:VEVENT
DTSTART;TZID=America/Chicago:20310201T083000
DTEND;TZID=America/Chicago:20310201T123000
DTSTAMP:20260424T082810
CREATED:20260421T113553Z
LAST-MODIFIED:20260421T114056Z
UID:10005911-1927701000-1927715400@fccunited.org
SUMMARY:Shipwright Food Pantry
DESCRIPTION:Shipwrights Food Pantry Ministry\n\nOn the 1st and 3rd Saturday of each month\, the Shipwrights Food Pantry provides a hot meal\,  groceries and other items for those facing food insecurity in Lewisville and the surrounding area. \nIf you would like to participate in this ministry\,  the time runs from 8:30am - 12:30pm.  Volunteers meet in the Serenity Church/FCCU parking lot at 8:30 on the 1st and 3rd Saturday of the month for preparations. \nFor more information reach out to Ken Blackerby at: 817-492-6983
URL:https://fccunited.org/event/shipwright-food-pantry/2031-02-01/
CATEGORIES:Ministries
ATTACH;FMTTYPE=image/png:https://fccunited.org/wp-content/uploads/2026/04/shipwrights-food-pantry.png
END:VEVENT
BEGIN:VEVENT
DTSTART;TZID=America/Chicago:20310202T102500
DTEND;TZID=America/Chicago:20310202T113000
DTSTAMP:20260424T082810
CREATED:20260325T123948Z
LAST-MODIFIED:20260325T123948Z
UID:10005734-1927794300-1927798200@fccunited.org
SUMMARY:Sunday Worship
DESCRIPTION:
URL:https://fccunited.org/event/sunday-worship/2031-02-02/
CATEGORIES:Worship
END:VEVENT
BEGIN:VEVENT
DTSTART;TZID=America/Chicago:20310202T113000
DTEND;TZID=America/Chicago:20310202T123000
DTSTAMP:20260424T082810
CREATED:20260311T144206Z
LAST-MODIFIED:20260311T144208Z
UID:10005336-1927798200-1927801800@fccunited.org
SUMMARY:Fellowship Lunch
DESCRIPTION:
URL:https://fccunited.org/event/fellowship-lunch-2-2/2031-02-02/
LOCATION:Praise in the Morning Devotional - November 30\, 2025
CATEGORIES:Fellowship
END:VEVENT
END:VCALENDAR