BEGIN:VCALENDAR
VERSION:2.0
PRODID:-//First Christian Church  United Lewisville, Texas - ECPv6.15.14//NONSGML v1.0//EN
CALSCALE:GREGORIAN
METHOD:PUBLISH
X-ORIGINAL-URL:https://fccunited.org
X-WR-CALDESC:Events for First Christian Church  United Lewisville, Texas
REFRESH-INTERVAL;VALUE=DURATION:PT1H
X-Robots-Tag:noindex
X-PUBLISHED-TTL:PT1H
BEGIN:VTIMEZONE
TZID:America/Chicago
BEGIN:DAYLIGHT
TZOFFSETFROM:-0600
TZOFFSETTO:-0500
TZNAME:CDT
DTSTART:20280312T080000
END:DAYLIGHT
BEGIN:STANDARD
TZOFFSETFROM:-0500
TZOFFSETTO:-0600
TZNAME:CST
DTSTART:20281105T070000
END:STANDARD
BEGIN:DAYLIGHT
TZOFFSETFROM:-0600
TZOFFSETTO:-0500
TZNAME:CDT
DTSTART:20290311T080000
END:DAYLIGHT
BEGIN:STANDARD
TZOFFSETFROM:-0500
TZOFFSETTO:-0600
TZNAME:CST
DTSTART:20291104T070000
END:STANDARD
BEGIN:DAYLIGHT
TZOFFSETFROM:-0600
TZOFFSETTO:-0500
TZNAME:CDT
DTSTART:20300310T080000
END:DAYLIGHT
BEGIN:STANDARD
TZOFFSETFROM:-0500
TZOFFSETTO:-0600
TZNAME:CST
DTSTART:20301103T070000
END:STANDARD
END:VTIMEZONE
BEGIN:VEVENT
DTSTART;TZID=America/Chicago:20290225T081500
DTEND;TZID=America/Chicago:20290225T091500
DTSTAMP:20260422T165920
CREATED:20260221T120438Z
LAST-MODIFIED:20260221T120438Z
UID:10004726-1866701700-1866705300@fccunited.org
SUMMARY:Elders Meeting
DESCRIPTION:
URL:https://fccunited.org/event/elders-meeting/2029-02-25/
CATEGORIES:Fellowship
ATTACH;FMTTYPE=image/jpeg:https://fccunited.org/wp-content/uploads/2026/02/20260125-elder-meeting.jpg
END:VEVENT
BEGIN:VEVENT
DTSTART;TZID=America/Chicago:20290225T091500
DTEND;TZID=America/Chicago:20290225T101500
DTSTAMP:20260422T165920
CREATED:20260127T133219Z
LAST-MODIFIED:20260127T133453Z
UID:10004260-1866705300-1866708900@fccunited.org
SUMMARY:Study Classes
DESCRIPTION:We offer classes for adults and for youth.
URL:https://fccunited.org/event/study-classes/2029-02-25/
CATEGORIES:Bible Study
ATTACH;FMTTYPE=image/jpeg:https://fccunited.org/wp-content/uploads/2026/01/study-class.jpg
END:VEVENT
BEGIN:VEVENT
DTSTART;TZID=America/Chicago:20290225T102500
DTEND;TZID=America/Chicago:20290225T113000
DTSTAMP:20260422T165920
CREATED:20260325T123948Z
LAST-MODIFIED:20260325T123948Z
UID:10005633-1866709500-1866713400@fccunited.org
SUMMARY:Sunday Worship
DESCRIPTION:
URL:https://fccunited.org/event/sunday-worship/2029-02-25/
CATEGORIES:Worship
END:VEVENT
BEGIN:VEVENT
DTSTART;TZID=America/Chicago:20290227T190000
DTEND;TZID=America/Chicago:20290227T203000
DTSTAMP:20260422T165920
CREATED:20260127T122330Z
LAST-MODIFIED:20260127T131202Z
UID:10004017-1866913200-1866918600@fccunited.org
SUMMARY:Potpourri Ladies
DESCRIPTION:
URL:https://fccunited.org/event/potpourri-ladies/2029-02-27/
CATEGORIES:Fellowship
ATTACH;FMTTYPE=image/jpeg:https://fccunited.org/wp-content/uploads/2026/01/20260127-potpourri-ladies-1.jpg
END:VEVENT
BEGIN:VEVENT
DTSTART;TZID=America/Chicago:20290228T160000
DTEND;TZID=America/Chicago:20290228T170000
DTSTAMP:20260422T165920
CREATED:20260221T121225Z
LAST-MODIFIED:20260221T122346Z
UID:10004907-1866988800-1866992400@fccunited.org
SUMMARY:Hour of Prayer
DESCRIPTION:
URL:https://fccunited.org/event/hour-of-prayer/2029-02-28/
CATEGORIES:Fellowship
ATTACH;FMTTYPE=image/jpeg:https://fccunited.org/wp-content/uploads/2026/02/hour-of-prayer-1.jpg
END:VEVENT
BEGIN:VEVENT
DTSTART;TZID=America/Chicago:20290228T170000
DTEND;TZID=America/Chicago:20290228T190000
DTSTAMP:20260422T165920
CREATED:20260221T121346Z
LAST-MODIFIED:20260221T121447Z
UID:10005168-1866992400-1866999600@fccunited.org
SUMMARY:Midweek Connection
DESCRIPTION:
URL:https://fccunited.org/event/midweek-connection/2029-02-28/
CATEGORIES:Fellowship
ATTACH;FMTTYPE=image/jpeg:https://fccunited.org/wp-content/uploads/2026/02/midweek-connection-3.jpg
END:VEVENT
BEGIN:VEVENT
DTSTART;TZID=America/Chicago:20290228T190000
DTEND;TZID=America/Chicago:20290228T200000
DTSTAMP:20260422T165920
CREATED:20260108T163528Z
LAST-MODIFIED:20260210T171104Z
UID:10003632-1866999600-1867003200@fccunited.org
SUMMARY:Choir Practice
DESCRIPTION:
URL:https://fccunited.org/event/choir-practice-4/2029-02-28/
CATEGORIES:Worship
ATTACH;FMTTYPE=image/jpeg:https://fccunited.org/wp-content/uploads/2026/01/choir-practice.jpg
END:VEVENT
BEGIN:VEVENT
DTSTART;TZID=America/Chicago:20290303T083000
DTEND;TZID=America/Chicago:20290303T123000
DTSTAMP:20260422T165920
CREATED:20260421T113553Z
LAST-MODIFIED:20260421T114056Z
UID:10005871-1867221000-1867235400@fccunited.org
SUMMARY:Shipwright Food Pantry
DESCRIPTION:Shipwrights Food Pantry Ministry\n\nOn the 1st and 3rd Saturday of each month\, the Shipwrights Food Pantry provides a hot meal\,  groceries and other items for those facing food insecurity in Lewisville and the surrounding area. \nIf you would like to participate in this ministry\,  the time runs from 8:30am - 12:30pm.  Volunteers meet in the Serenity Church/FCCU parking lot at 8:30 on the 1st and 3rd Saturday of the month for preparations. \nFor more information reach out to Ken Blackerby at: 817-492-6983
URL:https://fccunited.org/event/shipwright-food-pantry/2029-03-03/
CATEGORIES:Ministries
ATTACH;FMTTYPE=image/png:https://fccunited.org/wp-content/uploads/2026/04/shipwrights-food-pantry.png
END:VEVENT
BEGIN:VEVENT
DTSTART;TZID=America/Chicago:20290304T091500
DTEND;TZID=America/Chicago:20290304T101500
DTSTAMP:20260422T165920
CREATED:20260127T133219Z
LAST-MODIFIED:20260127T133453Z
UID:10004261-1867310100-1867313700@fccunited.org
SUMMARY:Study Classes
DESCRIPTION:We offer classes for adults and for youth.
URL:https://fccunited.org/event/study-classes/2029-03-04/
CATEGORIES:Bible Study
ATTACH;FMTTYPE=image/jpeg:https://fccunited.org/wp-content/uploads/2026/01/study-class.jpg
END:VEVENT
BEGIN:VEVENT
DTSTART;TZID=America/Chicago:20290304T102500
DTEND;TZID=America/Chicago:20290304T113000
DTSTAMP:20260422T165920
CREATED:20260325T123948Z
LAST-MODIFIED:20260325T123948Z
UID:10005634-1867314300-1867318200@fccunited.org
SUMMARY:Sunday Worship
DESCRIPTION:
URL:https://fccunited.org/event/sunday-worship/2029-03-04/
CATEGORIES:Worship
END:VEVENT
BEGIN:VEVENT
DTSTART;TZID=America/Chicago:20290304T103000
DTEND;TZID=America/Chicago:20290304T113000
DTSTAMP:20260422T165920
CREATED:20260127T131829Z
LAST-MODIFIED:20260127T131829Z
UID:10004077-1867314600-1867318200@fccunited.org
SUMMARY:First Fruits Sunday
DESCRIPTION:Collecting non-perishables for CCA and Metrocrest Social Services.
URL:https://fccunited.org/event/first-fruits-sunday/2029-03-04/
CATEGORIES:Ministries
ATTACH;FMTTYPE=image/jpeg:https://fccunited.org/wp-content/uploads/2026/01/first-fruits-and-toilet-paper-sunday.jpg
END:VEVENT
BEGIN:VEVENT
DTSTART;TZID=America/Chicago:20290304T113000
DTEND;TZID=America/Chicago:20290304T123000
DTSTAMP:20260422T165920
CREATED:20260311T144206Z
LAST-MODIFIED:20260311T144208Z
UID:10005313-1867318200-1867321800@fccunited.org
SUMMARY:Fellowship Lunch
DESCRIPTION:
URL:https://fccunited.org/event/fellowship-lunch-2-2/2029-03-04/
LOCATION:Praise in the Morning Devotional - November 30\, 2025
CATEGORIES:Fellowship
END:VEVENT
BEGIN:VEVENT
DTSTART;TZID=America/Chicago:20290307T160000
DTEND;TZID=America/Chicago:20290307T170000
DTSTAMP:20260422T165920
CREATED:20260221T121225Z
LAST-MODIFIED:20260221T122346Z
UID:10004908-1867593600-1867597200@fccunited.org
SUMMARY:Hour of Prayer
DESCRIPTION:
URL:https://fccunited.org/event/hour-of-prayer/2029-03-07/
CATEGORIES:Fellowship
ATTACH;FMTTYPE=image/jpeg:https://fccunited.org/wp-content/uploads/2026/02/hour-of-prayer-1.jpg
END:VEVENT
BEGIN:VEVENT
DTSTART;TZID=America/Chicago:20290307T170000
DTEND;TZID=America/Chicago:20290307T190000
DTSTAMP:20260422T165920
CREATED:20260221T121346Z
LAST-MODIFIED:20260221T121447Z
UID:10005169-1867597200-1867604400@fccunited.org
SUMMARY:Midweek Connection
DESCRIPTION:
URL:https://fccunited.org/event/midweek-connection/2029-03-07/
CATEGORIES:Fellowship
ATTACH;FMTTYPE=image/jpeg:https://fccunited.org/wp-content/uploads/2026/02/midweek-connection-3.jpg
END:VEVENT
BEGIN:VEVENT
DTSTART;TZID=America/Chicago:20290307T190000
DTEND;TZID=America/Chicago:20290307T200000
DTSTAMP:20260422T165920
CREATED:20260108T163528Z
LAST-MODIFIED:20260210T171104Z
UID:10003633-1867604400-1867608000@fccunited.org
SUMMARY:Choir Practice
DESCRIPTION:
URL:https://fccunited.org/event/choir-practice-4/2029-03-07/
CATEGORIES:Worship
ATTACH;FMTTYPE=image/jpeg:https://fccunited.org/wp-content/uploads/2026/01/choir-practice.jpg
END:VEVENT
BEGIN:VEVENT
DTSTART;TZID=America/Chicago:20290310T100000
DTEND;TZID=America/Chicago:20290310T113000
DTSTAMP:20260422T165920
CREATED:20260224T200455Z
LAST-MODIFIED:20260224T200455Z
UID:10005373-1867831200-1867836600@fccunited.org
SUMMARY:Pin Pal Sewing Ministry
DESCRIPTION:
URL:https://fccunited.org/event/pin-pal-sewing-ministry/2029-03-10/
CATEGORIES:Fellowship
ATTACH;FMTTYPE=image/jpeg:https://fccunited.org/wp-content/uploads/2026/02/20260214-sewing-ministry.jpg
END:VEVENT
BEGIN:VEVENT
DTSTART;TZID=America/Chicago:20290311T091500
DTEND;TZID=America/Chicago:20290311T101500
DTSTAMP:20260422T165920
CREATED:20260127T133219Z
LAST-MODIFIED:20260127T133453Z
UID:10004262-1867914900-1867918500@fccunited.org
SUMMARY:Study Classes
DESCRIPTION:We offer classes for adults and for youth.
URL:https://fccunited.org/event/study-classes/2029-03-11/
CATEGORIES:Bible Study
ATTACH;FMTTYPE=image/jpeg:https://fccunited.org/wp-content/uploads/2026/01/study-class.jpg
END:VEVENT
BEGIN:VEVENT
DTSTART;TZID=America/Chicago:20290311T102500
DTEND;TZID=America/Chicago:20290311T113000
DTSTAMP:20260422T165920
CREATED:20260325T123948Z
LAST-MODIFIED:20260325T123948Z
UID:10005635-1867919100-1867923000@fccunited.org
SUMMARY:Sunday Worship
DESCRIPTION:
URL:https://fccunited.org/event/sunday-worship/2029-03-11/
CATEGORIES:Worship
END:VEVENT
BEGIN:VEVENT
DTSTART;TZID=America/Chicago:20290312T190000
DTEND;TZID=America/Chicago:20290312T203000
DTSTAMP:20260422T165920
CREATED:20260227T135325Z
LAST-MODIFIED:20260227T135325Z
UID:10005434-1868036400-1868041800@fccunited.org
SUMMARY:Agape Men
DESCRIPTION:
URL:https://fccunited.org/event/agape-men-2/2029-03-12/
CATEGORIES:Fellowship
ATTACH;FMTTYPE=image/jpeg:https://fccunited.org/wp-content/uploads/2026/02/20260309-agape-men.jpg
END:VEVENT
BEGIN:VEVENT
DTSTART;TZID=America/Chicago:20290313T083000
DTEND;TZID=America/Chicago:20290313T103000
DTSTAMP:20260422T165920
CREATED:20260415T135010Z
LAST-MODIFIED:20260415T135124Z
UID:10005784-1868085000-1868092200@fccunited.org
SUMMARY:CCA Food Pantry
DESCRIPTION:
URL:https://fccunited.org/event/cca-food-pantry/2029-03-13/
CATEGORIES:Fellowship
ATTACH;FMTTYPE=image/jpeg:https://fccunited.org/wp-content/uploads/2026/04/20260310-cca-food-pantry.jpg
END:VEVENT
BEGIN:VEVENT
DTSTART;TZID=America/Chicago:20290314T160000
DTEND;TZID=America/Chicago:20290314T170000
DTSTAMP:20260422T165920
CREATED:20260221T121225Z
LAST-MODIFIED:20260221T122346Z
UID:10004909-1868198400-1868202000@fccunited.org
SUMMARY:Hour of Prayer
DESCRIPTION:
URL:https://fccunited.org/event/hour-of-prayer/2029-03-14/
CATEGORIES:Fellowship
ATTACH;FMTTYPE=image/jpeg:https://fccunited.org/wp-content/uploads/2026/02/hour-of-prayer-1.jpg
END:VEVENT
BEGIN:VEVENT
DTSTART;TZID=America/Chicago:20290314T170000
DTEND;TZID=America/Chicago:20290314T190000
DTSTAMP:20260422T165920
CREATED:20260221T121346Z
LAST-MODIFIED:20260221T121447Z
UID:10005170-1868202000-1868209200@fccunited.org
SUMMARY:Midweek Connection
DESCRIPTION:
URL:https://fccunited.org/event/midweek-connection/2029-03-14/
CATEGORIES:Fellowship
ATTACH;FMTTYPE=image/jpeg:https://fccunited.org/wp-content/uploads/2026/02/midweek-connection-3.jpg
END:VEVENT
BEGIN:VEVENT
DTSTART;TZID=America/Chicago:20290314T190000
DTEND;TZID=America/Chicago:20290314T200000
DTSTAMP:20260422T165920
CREATED:20260108T163528Z
LAST-MODIFIED:20260210T171104Z
UID:10003634-1868209200-1868212800@fccunited.org
SUMMARY:Choir Practice
DESCRIPTION:
URL:https://fccunited.org/event/choir-practice-4/2029-03-14/
CATEGORIES:Worship
ATTACH;FMTTYPE=image/jpeg:https://fccunited.org/wp-content/uploads/2026/01/choir-practice.jpg
END:VEVENT
BEGIN:VEVENT
DTSTART;TZID=America/Chicago:20290318T091500
DTEND;TZID=America/Chicago:20290318T101500
DTSTAMP:20260422T165920
CREATED:20260127T133219Z
LAST-MODIFIED:20260127T133453Z
UID:10004263-1868519700-1868523300@fccunited.org
SUMMARY:Study Classes
DESCRIPTION:We offer classes for adults and for youth.
URL:https://fccunited.org/event/study-classes/2029-03-18/
CATEGORIES:Bible Study
ATTACH;FMTTYPE=image/jpeg:https://fccunited.org/wp-content/uploads/2026/01/study-class.jpg
END:VEVENT
BEGIN:VEVENT
DTSTART;TZID=America/Chicago:20290318T102500
DTEND;TZID=America/Chicago:20290318T113000
DTSTAMP:20260422T165920
CREATED:20260325T123948Z
LAST-MODIFIED:20260325T123948Z
UID:10005636-1868523900-1868527800@fccunited.org
SUMMARY:Sunday Worship
DESCRIPTION:
URL:https://fccunited.org/event/sunday-worship/2029-03-18/
CATEGORIES:Worship
END:VEVENT
BEGIN:VEVENT
DTSTART;TZID=America/Chicago:20290321T160000
DTEND;TZID=America/Chicago:20290321T170000
DTSTAMP:20260422T165920
CREATED:20260221T121225Z
LAST-MODIFIED:20260221T122346Z
UID:10004910-1868803200-1868806800@fccunited.org
SUMMARY:Hour of Prayer
DESCRIPTION:
URL:https://fccunited.org/event/hour-of-prayer/2029-03-21/
CATEGORIES:Fellowship
ATTACH;FMTTYPE=image/jpeg:https://fccunited.org/wp-content/uploads/2026/02/hour-of-prayer-1.jpg
END:VEVENT
BEGIN:VEVENT
DTSTART;TZID=America/Chicago:20290321T170000
DTEND;TZID=America/Chicago:20290321T190000
DTSTAMP:20260422T165920
CREATED:20260221T121346Z
LAST-MODIFIED:20260221T121447Z
UID:10005171-1868806800-1868814000@fccunited.org
SUMMARY:Midweek Connection
DESCRIPTION:
URL:https://fccunited.org/event/midweek-connection/2029-03-21/
CATEGORIES:Fellowship
ATTACH;FMTTYPE=image/jpeg:https://fccunited.org/wp-content/uploads/2026/02/midweek-connection-3.jpg
END:VEVENT
BEGIN:VEVENT
DTSTART;TZID=America/Chicago:20290321T190000
DTEND;TZID=America/Chicago:20290321T200000
DTSTAMP:20260422T165920
CREATED:20260108T163528Z
LAST-MODIFIED:20260210T171104Z
UID:10003635-1868814000-1868817600@fccunited.org
SUMMARY:Choir Practice
DESCRIPTION:
URL:https://fccunited.org/event/choir-practice-4/2029-03-21/
CATEGORIES:Worship
ATTACH;FMTTYPE=image/jpeg:https://fccunited.org/wp-content/uploads/2026/01/choir-practice.jpg
END:VEVENT
BEGIN:VEVENT
DTSTART;TZID=America/Chicago:20290322T100000
DTEND;TZID=America/Chicago:20290322T233000
DTSTAMP:20260422T165920
CREATED:20260216T125355Z
LAST-MODIFIED:20260415T134412Z
UID:10004666-1868868000-1868916600@fccunited.org
SUMMARY:MomCo
DESCRIPTION:Mom\, join us for faith\, fun\, and fellowship the fourth Thursday of each month.  Childcare is provided. \nCall 972-446-9808 for more information.
URL:https://fccunited.org/event/momco-1000-a-m-2/2029-03-22/
CATEGORIES:Fellowship
ATTACH;FMTTYPE=image/jpeg:https://fccunited.org/wp-content/uploads/2026/02/20260122-momco-3.jpg
END:VEVENT
BEGIN:VEVENT
DTSTART;TZID=America/Chicago:20290325T081500
DTEND;TZID=America/Chicago:20290325T091500
DTSTAMP:20260422T165920
CREATED:20260221T120438Z
LAST-MODIFIED:20260221T120438Z
UID:10004727-1869120900-1869124500@fccunited.org
SUMMARY:Elders Meeting
DESCRIPTION:
URL:https://fccunited.org/event/elders-meeting/2029-03-25/
CATEGORIES:Fellowship
ATTACH;FMTTYPE=image/jpeg:https://fccunited.org/wp-content/uploads/2026/02/20260125-elder-meeting.jpg
END:VEVENT
END:VCALENDAR