BEGIN:VCALENDAR
VERSION:2.0
PRODID:-//First Christian Church  United Lewisville, Texas - ECPv6.15.14//NONSGML v1.0//EN
CALSCALE:GREGORIAN
METHOD:PUBLISH
X-ORIGINAL-URL:https://fccunited.org
X-WR-CALDESC:Events for First Christian Church  United Lewisville, Texas
REFRESH-INTERVAL;VALUE=DURATION:PT1H
X-Robots-Tag:noindex
X-PUBLISHED-TTL:PT1H
BEGIN:VTIMEZONE
TZID:America/Chicago
BEGIN:DAYLIGHT
TZOFFSETFROM:-0600
TZOFFSETTO:-0500
TZNAME:CDT
DTSTART:20290311T080000
END:DAYLIGHT
BEGIN:STANDARD
TZOFFSETFROM:-0500
TZOFFSETTO:-0600
TZNAME:CST
DTSTART:20291104T070000
END:STANDARD
BEGIN:DAYLIGHT
TZOFFSETFROM:-0600
TZOFFSETTO:-0500
TZNAME:CDT
DTSTART:20300310T080000
END:DAYLIGHT
BEGIN:STANDARD
TZOFFSETFROM:-0500
TZOFFSETTO:-0600
TZNAME:CST
DTSTART:20301103T070000
END:STANDARD
BEGIN:DAYLIGHT
TZOFFSETFROM:-0600
TZOFFSETTO:-0500
TZNAME:CDT
DTSTART:20310309T080000
END:DAYLIGHT
BEGIN:STANDARD
TZOFFSETFROM:-0500
TZOFFSETTO:-0600
TZNAME:CST
DTSTART:20311102T070000
END:STANDARD
END:VTIMEZONE
BEGIN:VEVENT
DTSTART;TZID=America/Chicago:20300302T083000
DTEND;TZID=America/Chicago:20300302T123000
DTSTAMP:20260423T182454
CREATED:20260421T113553Z
LAST-MODIFIED:20260421T114056Z
UID:10005944-1898670600-1898685000@fccunited.org
SUMMARY:Shipwright Food Pantry
DESCRIPTION:Shipwrights Food Pantry Ministry\n\nOn the 1st and 3rd Saturday of each month\, the Shipwrights Food Pantry provides a hot meal\,  groceries and other items for those facing food insecurity in Lewisville and the surrounding area. \nIf you would like to participate in this ministry\,  the time runs from 8:30am - 12:30pm.  Volunteers meet in the Serenity Church/FCCU parking lot at 8:30 on the 1st and 3rd Saturday of the month for preparations. \nFor more information reach out to Ken Blackerby at: 817-492-6983
URL:https://fccunited.org/event/shipwright-food-pantry/2030-03-02/
CATEGORIES:Ministries
ATTACH;FMTTYPE=image/png:https://fccunited.org/wp-content/uploads/2026/04/shipwrights-food-pantry.png
END:VEVENT
BEGIN:VEVENT
DTSTART;TZID=America/Chicago:20300303T091500
DTEND;TZID=America/Chicago:20300303T101500
DTSTAMP:20260423T182454
CREATED:20260127T133219Z
LAST-MODIFIED:20260127T133453Z
UID:10004313-1898759700-1898763300@fccunited.org
SUMMARY:Study Classes
DESCRIPTION:We offer classes for adults and for youth.
URL:https://fccunited.org/event/study-classes/2030-03-03/
CATEGORIES:Bible Study
ATTACH;FMTTYPE=image/jpeg:https://fccunited.org/wp-content/uploads/2026/01/study-class.jpg
END:VEVENT
BEGIN:VEVENT
DTSTART;TZID=America/Chicago:20300303T102500
DTEND;TZID=America/Chicago:20300303T113000
DTSTAMP:20260423T182454
CREATED:20260325T123948Z
LAST-MODIFIED:20260325T123948Z
UID:10005686-1898763900-1898767800@fccunited.org
SUMMARY:Sunday Worship
DESCRIPTION:
URL:https://fccunited.org/event/sunday-worship/2030-03-03/
CATEGORIES:Worship
END:VEVENT
BEGIN:VEVENT
DTSTART;TZID=America/Chicago:20300303T103000
DTEND;TZID=America/Chicago:20300303T113000
DTSTAMP:20260423T182454
CREATED:20260127T131829Z
LAST-MODIFIED:20260127T131829Z
UID:10004089-1898764200-1898767800@fccunited.org
SUMMARY:First Fruits Sunday
DESCRIPTION:Collecting non-perishables for CCA and Metrocrest Social Services.
URL:https://fccunited.org/event/first-fruits-sunday/2030-03-03/
CATEGORIES:Ministries
ATTACH;FMTTYPE=image/jpeg:https://fccunited.org/wp-content/uploads/2026/01/first-fruits-and-toilet-paper-sunday.jpg
END:VEVENT
BEGIN:VEVENT
DTSTART;TZID=America/Chicago:20300303T113000
DTEND;TZID=America/Chicago:20300303T123000
DTSTAMP:20260423T182454
CREATED:20260311T144206Z
LAST-MODIFIED:20260311T144208Z
UID:10005325-1898767800-1898771400@fccunited.org
SUMMARY:Fellowship Lunch
DESCRIPTION:
URL:https://fccunited.org/event/fellowship-lunch-2-2/2030-03-03/
LOCATION:Praise in the Morning Devotional - November 30\, 2025
CATEGORIES:Fellowship
END:VEVENT
BEGIN:VEVENT
DTSTART;TZID=America/Chicago:20300306T160000
DTEND;TZID=America/Chicago:20300306T170000
DTSTAMP:20260423T182454
CREATED:20260221T121225Z
LAST-MODIFIED:20260221T122346Z
UID:10004960-1899043200-1899046800@fccunited.org
SUMMARY:Hour of Prayer
DESCRIPTION:
URL:https://fccunited.org/event/hour-of-prayer/2030-03-06/
CATEGORIES:Fellowship
ATTACH;FMTTYPE=image/jpeg:https://fccunited.org/wp-content/uploads/2026/02/hour-of-prayer-1.jpg
END:VEVENT
BEGIN:VEVENT
DTSTART;TZID=America/Chicago:20300306T170000
DTEND;TZID=America/Chicago:20300306T190000
DTSTAMP:20260423T182454
CREATED:20260221T121346Z
LAST-MODIFIED:20260221T121447Z
UID:10005221-1899046800-1899054000@fccunited.org
SUMMARY:Midweek Connection
DESCRIPTION:
URL:https://fccunited.org/event/midweek-connection/2030-03-06/
CATEGORIES:Fellowship
ATTACH;FMTTYPE=image/jpeg:https://fccunited.org/wp-content/uploads/2026/02/midweek-connection-3.jpg
END:VEVENT
BEGIN:VEVENT
DTSTART;TZID=America/Chicago:20300306T190000
DTEND;TZID=America/Chicago:20300306T200000
DTSTAMP:20260423T182454
CREATED:20260108T163528Z
LAST-MODIFIED:20260210T171104Z
UID:10003685-1899054000-1899057600@fccunited.org
SUMMARY:Choir Practice
DESCRIPTION:
URL:https://fccunited.org/event/choir-practice-4/2030-03-06/
CATEGORIES:Worship
ATTACH;FMTTYPE=image/jpeg:https://fccunited.org/wp-content/uploads/2026/01/choir-practice.jpg
END:VEVENT
BEGIN:VEVENT
DTSTART;TZID=America/Chicago:20300309T100000
DTEND;TZID=America/Chicago:20300309T113000
DTSTAMP:20260423T182454
CREATED:20260224T200455Z
LAST-MODIFIED:20260224T200455Z
UID:10005385-1899280800-1899286200@fccunited.org
SUMMARY:Pin Pal Sewing Ministry
DESCRIPTION:
URL:https://fccunited.org/event/pin-pal-sewing-ministry/2030-03-09/
CATEGORIES:Fellowship
ATTACH;FMTTYPE=image/jpeg:https://fccunited.org/wp-content/uploads/2026/02/20260214-sewing-ministry.jpg
END:VEVENT
BEGIN:VEVENT
DTSTART;TZID=America/Chicago:20300310T091500
DTEND;TZID=America/Chicago:20300310T101500
DTSTAMP:20260423T182454
CREATED:20260127T133219Z
LAST-MODIFIED:20260127T133453Z
UID:10004314-1899364500-1899368100@fccunited.org
SUMMARY:Study Classes
DESCRIPTION:We offer classes for adults and for youth.
URL:https://fccunited.org/event/study-classes/2030-03-10/
CATEGORIES:Bible Study
ATTACH;FMTTYPE=image/jpeg:https://fccunited.org/wp-content/uploads/2026/01/study-class.jpg
END:VEVENT
BEGIN:VEVENT
DTSTART;TZID=America/Chicago:20300310T102500
DTEND;TZID=America/Chicago:20300310T113000
DTSTAMP:20260423T182454
CREATED:20260325T123948Z
LAST-MODIFIED:20260325T123948Z
UID:10005687-1899368700-1899372600@fccunited.org
SUMMARY:Sunday Worship
DESCRIPTION:
URL:https://fccunited.org/event/sunday-worship/2030-03-10/
CATEGORIES:Worship
END:VEVENT
BEGIN:VEVENT
DTSTART;TZID=America/Chicago:20300311T190000
DTEND;TZID=America/Chicago:20300311T203000
DTSTAMP:20260423T182454
CREATED:20260227T135325Z
LAST-MODIFIED:20260227T135325Z
UID:10005446-1899486000-1899491400@fccunited.org
SUMMARY:Agape Men
DESCRIPTION:
URL:https://fccunited.org/event/agape-men-2/2030-03-11/
CATEGORIES:Fellowship
ATTACH;FMTTYPE=image/jpeg:https://fccunited.org/wp-content/uploads/2026/02/20260309-agape-men.jpg
END:VEVENT
BEGIN:VEVENT
DTSTART;TZID=America/Chicago:20300312T083000
DTEND;TZID=America/Chicago:20300312T103000
DTSTAMP:20260423T182455
CREATED:20260415T135010Z
LAST-MODIFIED:20260415T135124Z
UID:10005796-1899534600-1899541800@fccunited.org
SUMMARY:CCA Food Pantry
DESCRIPTION:
URL:https://fccunited.org/event/cca-food-pantry/2030-03-12/
CATEGORIES:Fellowship
ATTACH;FMTTYPE=image/jpeg:https://fccunited.org/wp-content/uploads/2026/04/20260310-cca-food-pantry.jpg
END:VEVENT
BEGIN:VEVENT
DTSTART;TZID=America/Chicago:20300313T160000
DTEND;TZID=America/Chicago:20300313T170000
DTSTAMP:20260423T182455
CREATED:20260221T121225Z
LAST-MODIFIED:20260221T122346Z
UID:10004961-1899648000-1899651600@fccunited.org
SUMMARY:Hour of Prayer
DESCRIPTION:
URL:https://fccunited.org/event/hour-of-prayer/2030-03-13/
CATEGORIES:Fellowship
ATTACH;FMTTYPE=image/jpeg:https://fccunited.org/wp-content/uploads/2026/02/hour-of-prayer-1.jpg
END:VEVENT
BEGIN:VEVENT
DTSTART;TZID=America/Chicago:20300313T170000
DTEND;TZID=America/Chicago:20300313T190000
DTSTAMP:20260423T182455
CREATED:20260221T121346Z
LAST-MODIFIED:20260221T121447Z
UID:10005222-1899651600-1899658800@fccunited.org
SUMMARY:Midweek Connection
DESCRIPTION:
URL:https://fccunited.org/event/midweek-connection/2030-03-13/
CATEGORIES:Fellowship
ATTACH;FMTTYPE=image/jpeg:https://fccunited.org/wp-content/uploads/2026/02/midweek-connection-3.jpg
END:VEVENT
BEGIN:VEVENT
DTSTART;TZID=America/Chicago:20300313T190000
DTEND;TZID=America/Chicago:20300313T200000
DTSTAMP:20260423T182455
CREATED:20260108T163528Z
LAST-MODIFIED:20260210T171104Z
UID:10003686-1899658800-1899662400@fccunited.org
SUMMARY:Choir Practice
DESCRIPTION:
URL:https://fccunited.org/event/choir-practice-4/2030-03-13/
CATEGORIES:Worship
ATTACH;FMTTYPE=image/jpeg:https://fccunited.org/wp-content/uploads/2026/01/choir-practice.jpg
END:VEVENT
BEGIN:VEVENT
DTSTART;TZID=America/Chicago:20300317T091500
DTEND;TZID=America/Chicago:20300317T101500
DTSTAMP:20260423T182455
CREATED:20260127T133219Z
LAST-MODIFIED:20260127T133453Z
UID:10004315-1899969300-1899972900@fccunited.org
SUMMARY:Study Classes
DESCRIPTION:We offer classes for adults and for youth.
URL:https://fccunited.org/event/study-classes/2030-03-17/
CATEGORIES:Bible Study
ATTACH;FMTTYPE=image/jpeg:https://fccunited.org/wp-content/uploads/2026/01/study-class.jpg
END:VEVENT
BEGIN:VEVENT
DTSTART;TZID=America/Chicago:20300317T102500
DTEND;TZID=America/Chicago:20300317T113000
DTSTAMP:20260423T182455
CREATED:20260325T123948Z
LAST-MODIFIED:20260325T123948Z
UID:10005688-1899973500-1899977400@fccunited.org
SUMMARY:Sunday Worship
DESCRIPTION:
URL:https://fccunited.org/event/sunday-worship/2030-03-17/
CATEGORIES:Worship
END:VEVENT
BEGIN:VEVENT
DTSTART;TZID=America/Chicago:20300320T160000
DTEND;TZID=America/Chicago:20300320T170000
DTSTAMP:20260423T182455
CREATED:20260221T121225Z
LAST-MODIFIED:20260221T122346Z
UID:10004962-1900252800-1900256400@fccunited.org
SUMMARY:Hour of Prayer
DESCRIPTION:
URL:https://fccunited.org/event/hour-of-prayer/2030-03-20/
CATEGORIES:Fellowship
ATTACH;FMTTYPE=image/jpeg:https://fccunited.org/wp-content/uploads/2026/02/hour-of-prayer-1.jpg
END:VEVENT
BEGIN:VEVENT
DTSTART;TZID=America/Chicago:20300320T170000
DTEND;TZID=America/Chicago:20300320T190000
DTSTAMP:20260423T182455
CREATED:20260221T121346Z
LAST-MODIFIED:20260221T121447Z
UID:10005223-1900256400-1900263600@fccunited.org
SUMMARY:Midweek Connection
DESCRIPTION:
URL:https://fccunited.org/event/midweek-connection/2030-03-20/
CATEGORIES:Fellowship
ATTACH;FMTTYPE=image/jpeg:https://fccunited.org/wp-content/uploads/2026/02/midweek-connection-3.jpg
END:VEVENT
BEGIN:VEVENT
DTSTART;TZID=America/Chicago:20300320T190000
DTEND;TZID=America/Chicago:20300320T200000
DTSTAMP:20260423T182455
CREATED:20260108T163528Z
LAST-MODIFIED:20260210T171104Z
UID:10003687-1900263600-1900267200@fccunited.org
SUMMARY:Choir Practice
DESCRIPTION:
URL:https://fccunited.org/event/choir-practice-4/2030-03-20/
CATEGORIES:Worship
ATTACH;FMTTYPE=image/jpeg:https://fccunited.org/wp-content/uploads/2026/01/choir-practice.jpg
END:VEVENT
BEGIN:VEVENT
DTSTART;TZID=America/Chicago:20300324T081500
DTEND;TZID=America/Chicago:20300324T091500
DTSTAMP:20260423T182455
CREATED:20260221T120438Z
LAST-MODIFIED:20260221T120438Z
UID:10004739-1900570500-1900574100@fccunited.org
SUMMARY:Elders Meeting
DESCRIPTION:
URL:https://fccunited.org/event/elders-meeting/2030-03-24/
CATEGORIES:Fellowship
ATTACH;FMTTYPE=image/jpeg:https://fccunited.org/wp-content/uploads/2026/02/20260125-elder-meeting.jpg
END:VEVENT
BEGIN:VEVENT
DTSTART;TZID=America/Chicago:20300324T091500
DTEND;TZID=America/Chicago:20300324T101500
DTSTAMP:20260423T182455
CREATED:20260127T133219Z
LAST-MODIFIED:20260127T133453Z
UID:10004316-1900574100-1900577700@fccunited.org
SUMMARY:Study Classes
DESCRIPTION:We offer classes for adults and for youth.
URL:https://fccunited.org/event/study-classes/2030-03-24/
CATEGORIES:Bible Study
ATTACH;FMTTYPE=image/jpeg:https://fccunited.org/wp-content/uploads/2026/01/study-class.jpg
END:VEVENT
BEGIN:VEVENT
DTSTART;TZID=America/Chicago:20300324T102500
DTEND;TZID=America/Chicago:20300324T113000
DTSTAMP:20260423T182455
CREATED:20260325T123948Z
LAST-MODIFIED:20260325T123948Z
UID:10005689-1900578300-1900582200@fccunited.org
SUMMARY:Sunday Worship
DESCRIPTION:
URL:https://fccunited.org/event/sunday-worship/2030-03-24/
CATEGORIES:Worship
END:VEVENT
BEGIN:VEVENT
DTSTART;TZID=America/Chicago:20300326T190000
DTEND;TZID=America/Chicago:20300326T203000
DTSTAMP:20260423T182455
CREATED:20260127T122330Z
LAST-MODIFIED:20260127T131202Z
UID:10004030-1900782000-1900787400@fccunited.org
SUMMARY:Potpourri Ladies
DESCRIPTION:
URL:https://fccunited.org/event/potpourri-ladies/2030-03-26/
CATEGORIES:Fellowship
ATTACH;FMTTYPE=image/jpeg:https://fccunited.org/wp-content/uploads/2026/01/20260127-potpourri-ladies-1.jpg
END:VEVENT
BEGIN:VEVENT
DTSTART;TZID=America/Chicago:20300327T160000
DTEND;TZID=America/Chicago:20300327T170000
DTSTAMP:20260423T182455
CREATED:20260221T121225Z
LAST-MODIFIED:20260221T122346Z
UID:10004963-1900857600-1900861200@fccunited.org
SUMMARY:Hour of Prayer
DESCRIPTION:
URL:https://fccunited.org/event/hour-of-prayer/2030-03-27/
CATEGORIES:Fellowship
ATTACH;FMTTYPE=image/jpeg:https://fccunited.org/wp-content/uploads/2026/02/hour-of-prayer-1.jpg
END:VEVENT
BEGIN:VEVENT
DTSTART;TZID=America/Chicago:20300327T170000
DTEND;TZID=America/Chicago:20300327T190000
DTSTAMP:20260423T182455
CREATED:20260221T121346Z
LAST-MODIFIED:20260221T121447Z
UID:10005224-1900861200-1900868400@fccunited.org
SUMMARY:Midweek Connection
DESCRIPTION:
URL:https://fccunited.org/event/midweek-connection/2030-03-27/
CATEGORIES:Fellowship
ATTACH;FMTTYPE=image/jpeg:https://fccunited.org/wp-content/uploads/2026/02/midweek-connection-3.jpg
END:VEVENT
BEGIN:VEVENT
DTSTART;TZID=America/Chicago:20300327T190000
DTEND;TZID=America/Chicago:20300327T200000
DTSTAMP:20260423T182455
CREATED:20260108T163528Z
LAST-MODIFIED:20260210T171104Z
UID:10003688-1900868400-1900872000@fccunited.org
SUMMARY:Choir Practice
DESCRIPTION:
URL:https://fccunited.org/event/choir-practice-4/2030-03-27/
CATEGORIES:Worship
ATTACH;FMTTYPE=image/jpeg:https://fccunited.org/wp-content/uploads/2026/01/choir-practice.jpg
END:VEVENT
BEGIN:VEVENT
DTSTART;TZID=America/Chicago:20300328T100000
DTEND;TZID=America/Chicago:20300328T233000
DTSTAMP:20260423T182455
CREATED:20260216T125355Z
LAST-MODIFIED:20260415T134412Z
UID:10004678-1900922400-1900971000@fccunited.org
SUMMARY:MomCo
DESCRIPTION:Mom\, join us for faith\, fun\, and fellowship the fourth Thursday of each month.  Childcare is provided. \nCall 972-446-9808 for more information.
URL:https://fccunited.org/event/momco-1000-a-m-2/2030-03-28/
CATEGORIES:Fellowship
ATTACH;FMTTYPE=image/jpeg:https://fccunited.org/wp-content/uploads/2026/02/20260122-momco-3.jpg
END:VEVENT
BEGIN:VEVENT
DTSTART;TZID=America/Chicago:20300331T091500
DTEND;TZID=America/Chicago:20300331T101500
DTSTAMP:20260423T182455
CREATED:20260127T133219Z
LAST-MODIFIED:20260127T133453Z
UID:10004317-1901178900-1901182500@fccunited.org
SUMMARY:Study Classes
DESCRIPTION:We offer classes for adults and for youth.
URL:https://fccunited.org/event/study-classes/2030-03-31/
CATEGORIES:Bible Study
ATTACH;FMTTYPE=image/jpeg:https://fccunited.org/wp-content/uploads/2026/01/study-class.jpg
END:VEVENT
END:VCALENDAR