BEGIN:VCALENDAR
VERSION:2.0
PRODID:-//First Christian Church  United Lewisville, Texas - ECPv6.15.14//NONSGML v1.0//EN
CALSCALE:GREGORIAN
METHOD:PUBLISH
X-WR-CALNAME:First Christian Church  United Lewisville, Texas
X-ORIGINAL-URL:https://fccunited.org
X-WR-CALDESC:Events for First Christian Church  United Lewisville, Texas
REFRESH-INTERVAL;VALUE=DURATION:PT1H
X-Robots-Tag:noindex
X-PUBLISHED-TTL:PT1H
BEGIN:VTIMEZONE
TZID:America/Chicago
BEGIN:DAYLIGHT
TZOFFSETFROM:-0600
TZOFFSETTO:-0500
TZNAME:CDT
DTSTART:20270314T080000
END:DAYLIGHT
BEGIN:STANDARD
TZOFFSETFROM:-0500
TZOFFSETTO:-0600
TZNAME:CST
DTSTART:20271107T070000
END:STANDARD
BEGIN:DAYLIGHT
TZOFFSETFROM:-0600
TZOFFSETTO:-0500
TZNAME:CDT
DTSTART:20280312T080000
END:DAYLIGHT
BEGIN:STANDARD
TZOFFSETFROM:-0500
TZOFFSETTO:-0600
TZNAME:CST
DTSTART:20281105T070000
END:STANDARD
BEGIN:DAYLIGHT
TZOFFSETFROM:-0600
TZOFFSETTO:-0500
TZNAME:CDT
DTSTART:20290311T080000
END:DAYLIGHT
BEGIN:STANDARD
TZOFFSETFROM:-0500
TZOFFSETTO:-0600
TZNAME:CST
DTSTART:20291104T070000
END:STANDARD
END:VTIMEZONE
BEGIN:VEVENT
DTSTART;TZID=America/Chicago:20280328T190000
DTEND;TZID=America/Chicago:20280328T203000
DTSTAMP:20260422T172636
CREATED:20260127T122330Z
LAST-MODIFIED:20260127T131202Z
UID:10004006-1837882800-1837888200@fccunited.org
SUMMARY:Potpourri Ladies
DESCRIPTION:
URL:https://fccunited.org/event/potpourri-ladies/2028-03-28/
CATEGORIES:Fellowship
ATTACH;FMTTYPE=image/jpeg:https://fccunited.org/wp-content/uploads/2026/01/20260127-potpourri-ladies-1.jpg
END:VEVENT
BEGIN:VEVENT
DTSTART;TZID=America/Chicago:20280329T160000
DTEND;TZID=America/Chicago:20280329T170000
DTSTAMP:20260422T172636
CREATED:20260221T121225Z
LAST-MODIFIED:20260221T122346Z
UID:10004859-1837958400-1837962000@fccunited.org
SUMMARY:Hour of Prayer
DESCRIPTION:
URL:https://fccunited.org/event/hour-of-prayer/2028-03-29/
CATEGORIES:Fellowship
ATTACH;FMTTYPE=image/jpeg:https://fccunited.org/wp-content/uploads/2026/02/hour-of-prayer-1.jpg
END:VEVENT
BEGIN:VEVENT
DTSTART;TZID=America/Chicago:20280329T170000
DTEND;TZID=America/Chicago:20280329T190000
DTSTAMP:20260422T172636
CREATED:20260221T121346Z
LAST-MODIFIED:20260221T121447Z
UID:10005120-1837962000-1837969200@fccunited.org
SUMMARY:Midweek Connection
DESCRIPTION:
URL:https://fccunited.org/event/midweek-connection/2028-03-29/
CATEGORIES:Fellowship
ATTACH;FMTTYPE=image/jpeg:https://fccunited.org/wp-content/uploads/2026/02/midweek-connection-3.jpg
END:VEVENT
BEGIN:VEVENT
DTSTART;TZID=America/Chicago:20280329T190000
DTEND;TZID=America/Chicago:20280329T200000
DTSTAMP:20260422T172636
CREATED:20260108T163528Z
LAST-MODIFIED:20260210T171104Z
UID:10003584-1837969200-1837972800@fccunited.org
SUMMARY:Choir Practice
DESCRIPTION:
URL:https://fccunited.org/event/choir-practice-4/2028-03-29/
CATEGORIES:Worship
ATTACH;FMTTYPE=image/jpeg:https://fccunited.org/wp-content/uploads/2026/01/choir-practice.jpg
END:VEVENT
BEGIN:VEVENT
DTSTART;TZID=America/Chicago:20280401T083000
DTEND;TZID=America/Chicago:20280401T123000
DTSTAMP:20260422T172636
CREATED:20260421T113553Z
LAST-MODIFIED:20260421T114056Z
UID:10005929-1838190600-1838205000@fccunited.org
SUMMARY:Shipwright Food Pantry
DESCRIPTION:Shipwrights Food Pantry Ministry\n\nOn the 1st and 3rd Saturday of each month\, the Shipwrights Food Pantry provides a hot meal\,  groceries and other items for those facing food insecurity in Lewisville and the surrounding area. \nIf you would like to participate in this ministry\,  the time runs from 8:30am - 12:30pm.  Volunteers meet in the Serenity Church/FCCU parking lot at 8:30 on the 1st and 3rd Saturday of the month for preparations. \nFor more information reach out to Ken Blackerby at: 817-492-6983
URL:https://fccunited.org/event/shipwright-food-pantry/2028-04-01/
CATEGORIES:Ministries
ATTACH;FMTTYPE=image/png:https://fccunited.org/wp-content/uploads/2026/04/shipwrights-food-pantry.png
END:VEVENT
BEGIN:VEVENT
DTSTART;TZID=America/Chicago:20280402T091500
DTEND;TZID=America/Chicago:20280402T101500
DTSTAMP:20260422T172636
CREATED:20260127T133219Z
LAST-MODIFIED:20260127T133453Z
UID:10004213-1838279700-1838283300@fccunited.org
SUMMARY:Study Classes
DESCRIPTION:We offer classes for adults and for youth.
URL:https://fccunited.org/event/study-classes/2028-04-02/
CATEGORIES:Bible Study
ATTACH;FMTTYPE=image/jpeg:https://fccunited.org/wp-content/uploads/2026/01/study-class.jpg
END:VEVENT
BEGIN:VEVENT
DTSTART;TZID=America/Chicago:20280402T102500
DTEND;TZID=America/Chicago:20280402T113000
DTSTAMP:20260422T172636
CREATED:20260325T123948Z
LAST-MODIFIED:20260325T123948Z
UID:10005586-1838283900-1838287800@fccunited.org
SUMMARY:Sunday Worship
DESCRIPTION:
URL:https://fccunited.org/event/sunday-worship/2028-04-02/
CATEGORIES:Worship
END:VEVENT
BEGIN:VEVENT
DTSTART;TZID=America/Chicago:20280402T103000
DTEND;TZID=America/Chicago:20280402T113000
DTSTAMP:20260422T172636
CREATED:20260127T131829Z
LAST-MODIFIED:20260127T131829Z
UID:10004066-1838284200-1838287800@fccunited.org
SUMMARY:First Fruits Sunday
DESCRIPTION:Collecting non-perishables for CCA and Metrocrest Social Services.
URL:https://fccunited.org/event/first-fruits-sunday/2028-04-02/
CATEGORIES:Ministries
ATTACH;FMTTYPE=image/jpeg:https://fccunited.org/wp-content/uploads/2026/01/first-fruits-and-toilet-paper-sunday.jpg
END:VEVENT
BEGIN:VEVENT
DTSTART;TZID=America/Chicago:20280402T113000
DTEND;TZID=America/Chicago:20280402T123000
DTSTAMP:20260422T172636
CREATED:20260311T144206Z
LAST-MODIFIED:20260311T144208Z
UID:10005302-1838287800-1838291400@fccunited.org
SUMMARY:Fellowship Lunch
DESCRIPTION:
URL:https://fccunited.org/event/fellowship-lunch-2-2/2028-04-02/
LOCATION:Praise in the Morning Devotional - November 30\, 2025
CATEGORIES:Fellowship
END:VEVENT
BEGIN:VEVENT
DTSTART;TZID=America/Chicago:20280405T160000
DTEND;TZID=America/Chicago:20280405T170000
DTSTAMP:20260422T172636
CREATED:20260221T121225Z
LAST-MODIFIED:20260221T122346Z
UID:10004860-1838563200-1838566800@fccunited.org
SUMMARY:Hour of Prayer
DESCRIPTION:
URL:https://fccunited.org/event/hour-of-prayer/2028-04-05/
CATEGORIES:Fellowship
ATTACH;FMTTYPE=image/jpeg:https://fccunited.org/wp-content/uploads/2026/02/hour-of-prayer-1.jpg
END:VEVENT
BEGIN:VEVENT
DTSTART;TZID=America/Chicago:20280405T170000
DTEND;TZID=America/Chicago:20280405T190000
DTSTAMP:20260422T172636
CREATED:20260221T121346Z
LAST-MODIFIED:20260221T121447Z
UID:10005121-1838566800-1838574000@fccunited.org
SUMMARY:Midweek Connection
DESCRIPTION:
URL:https://fccunited.org/event/midweek-connection/2028-04-05/
CATEGORIES:Fellowship
ATTACH;FMTTYPE=image/jpeg:https://fccunited.org/wp-content/uploads/2026/02/midweek-connection-3.jpg
END:VEVENT
BEGIN:VEVENT
DTSTART;TZID=America/Chicago:20280405T190000
DTEND;TZID=America/Chicago:20280405T200000
DTSTAMP:20260422T172636
CREATED:20260108T163528Z
LAST-MODIFIED:20260210T171104Z
UID:10003585-1838574000-1838577600@fccunited.org
SUMMARY:Choir Practice
DESCRIPTION:
URL:https://fccunited.org/event/choir-practice-4/2028-04-05/
CATEGORIES:Worship
ATTACH;FMTTYPE=image/jpeg:https://fccunited.org/wp-content/uploads/2026/01/choir-practice.jpg
END:VEVENT
BEGIN:VEVENT
DTSTART;TZID=America/Chicago:20280408T100000
DTEND;TZID=America/Chicago:20280408T113000
DTSTAMP:20260422T172636
CREATED:20260224T200455Z
LAST-MODIFIED:20260224T200455Z
UID:10005362-1838800800-1838806200@fccunited.org
SUMMARY:Pin Pal Sewing Ministry
DESCRIPTION:
URL:https://fccunited.org/event/pin-pal-sewing-ministry/2028-04-08/
CATEGORIES:Fellowship
ATTACH;FMTTYPE=image/jpeg:https://fccunited.org/wp-content/uploads/2026/02/20260214-sewing-ministry.jpg
END:VEVENT
BEGIN:VEVENT
DTSTART;TZID=America/Chicago:20280409T091500
DTEND;TZID=America/Chicago:20280409T101500
DTSTAMP:20260422T172636
CREATED:20260127T133219Z
LAST-MODIFIED:20260127T133453Z
UID:10004214-1838884500-1838888100@fccunited.org
SUMMARY:Study Classes
DESCRIPTION:We offer classes for adults and for youth.
URL:https://fccunited.org/event/study-classes/2028-04-09/
CATEGORIES:Bible Study
ATTACH;FMTTYPE=image/jpeg:https://fccunited.org/wp-content/uploads/2026/01/study-class.jpg
END:VEVENT
BEGIN:VEVENT
DTSTART;TZID=America/Chicago:20280409T102500
DTEND;TZID=America/Chicago:20280409T113000
DTSTAMP:20260422T172636
CREATED:20260325T123948Z
LAST-MODIFIED:20260325T123948Z
UID:10005587-1838888700-1838892600@fccunited.org
SUMMARY:Sunday Worship
DESCRIPTION:
URL:https://fccunited.org/event/sunday-worship/2028-04-09/
CATEGORIES:Worship
END:VEVENT
BEGIN:VEVENT
DTSTART;TZID=America/Chicago:20280410T190000
DTEND;TZID=America/Chicago:20280410T203000
DTSTAMP:20260422T172636
CREATED:20260227T135325Z
LAST-MODIFIED:20260227T135325Z
UID:10005423-1839006000-1839011400@fccunited.org
SUMMARY:Agape Men
DESCRIPTION:
URL:https://fccunited.org/event/agape-men-2/2028-04-10/
CATEGORIES:Fellowship
ATTACH;FMTTYPE=image/jpeg:https://fccunited.org/wp-content/uploads/2026/02/20260309-agape-men.jpg
END:VEVENT
BEGIN:VEVENT
DTSTART;TZID=America/Chicago:20280412T160000
DTEND;TZID=America/Chicago:20280412T170000
DTSTAMP:20260422T172636
CREATED:20260221T121225Z
LAST-MODIFIED:20260221T122346Z
UID:10004861-1839168000-1839171600@fccunited.org
SUMMARY:Hour of Prayer
DESCRIPTION:
URL:https://fccunited.org/event/hour-of-prayer/2028-04-12/
CATEGORIES:Fellowship
ATTACH;FMTTYPE=image/jpeg:https://fccunited.org/wp-content/uploads/2026/02/hour-of-prayer-1.jpg
END:VEVENT
BEGIN:VEVENT
DTSTART;TZID=America/Chicago:20280412T170000
DTEND;TZID=America/Chicago:20280412T190000
DTSTAMP:20260422T172636
CREATED:20260221T121346Z
LAST-MODIFIED:20260221T121447Z
UID:10005122-1839171600-1839178800@fccunited.org
SUMMARY:Midweek Connection
DESCRIPTION:
URL:https://fccunited.org/event/midweek-connection/2028-04-12/
CATEGORIES:Fellowship
ATTACH;FMTTYPE=image/jpeg:https://fccunited.org/wp-content/uploads/2026/02/midweek-connection-3.jpg
END:VEVENT
BEGIN:VEVENT
DTSTART;TZID=America/Chicago:20280412T190000
DTEND;TZID=America/Chicago:20280412T200000
DTSTAMP:20260422T172636
CREATED:20260108T163528Z
LAST-MODIFIED:20260210T171104Z
UID:10003586-1839178800-1839182400@fccunited.org
SUMMARY:Choir Practice
DESCRIPTION:
URL:https://fccunited.org/event/choir-practice-4/2028-04-12/
CATEGORIES:Worship
ATTACH;FMTTYPE=image/jpeg:https://fccunited.org/wp-content/uploads/2026/01/choir-practice.jpg
END:VEVENT
BEGIN:VEVENT
DTSTART;TZID=America/Chicago:20280416T091500
DTEND;TZID=America/Chicago:20280416T101500
DTSTAMP:20260422T172636
CREATED:20260127T133219Z
LAST-MODIFIED:20260127T133453Z
UID:10004215-1839489300-1839492900@fccunited.org
SUMMARY:Study Classes
DESCRIPTION:We offer classes for adults and for youth.
URL:https://fccunited.org/event/study-classes/2028-04-16/
CATEGORIES:Bible Study
ATTACH;FMTTYPE=image/jpeg:https://fccunited.org/wp-content/uploads/2026/01/study-class.jpg
END:VEVENT
BEGIN:VEVENT
DTSTART;TZID=America/Chicago:20280416T102500
DTEND;TZID=America/Chicago:20280416T113000
DTSTAMP:20260422T172636
CREATED:20260325T123948Z
LAST-MODIFIED:20260325T123948Z
UID:10005588-1839493500-1839497400@fccunited.org
SUMMARY:Sunday Worship
DESCRIPTION:
URL:https://fccunited.org/event/sunday-worship/2028-04-16/
CATEGORIES:Worship
END:VEVENT
BEGIN:VEVENT
DTSTART;TZID=America/Chicago:20280419T160000
DTEND;TZID=America/Chicago:20280419T170000
DTSTAMP:20260422T172636
CREATED:20260221T121225Z
LAST-MODIFIED:20260221T122346Z
UID:10004862-1839772800-1839776400@fccunited.org
SUMMARY:Hour of Prayer
DESCRIPTION:
URL:https://fccunited.org/event/hour-of-prayer/2028-04-19/
CATEGORIES:Fellowship
ATTACH;FMTTYPE=image/jpeg:https://fccunited.org/wp-content/uploads/2026/02/hour-of-prayer-1.jpg
END:VEVENT
BEGIN:VEVENT
DTSTART;TZID=America/Chicago:20280419T170000
DTEND;TZID=America/Chicago:20280419T190000
DTSTAMP:20260422T172636
CREATED:20260221T121346Z
LAST-MODIFIED:20260221T121447Z
UID:10005123-1839776400-1839783600@fccunited.org
SUMMARY:Midweek Connection
DESCRIPTION:
URL:https://fccunited.org/event/midweek-connection/2028-04-19/
CATEGORIES:Fellowship
ATTACH;FMTTYPE=image/jpeg:https://fccunited.org/wp-content/uploads/2026/02/midweek-connection-3.jpg
END:VEVENT
BEGIN:VEVENT
DTSTART;TZID=America/Chicago:20280419T190000
DTEND;TZID=America/Chicago:20280419T200000
DTSTAMP:20260422T172636
CREATED:20260108T163528Z
LAST-MODIFIED:20260210T171104Z
UID:10003587-1839783600-1839787200@fccunited.org
SUMMARY:Choir Practice
DESCRIPTION:
URL:https://fccunited.org/event/choir-practice-4/2028-04-19/
CATEGORIES:Worship
ATTACH;FMTTYPE=image/jpeg:https://fccunited.org/wp-content/uploads/2026/01/choir-practice.jpg
END:VEVENT
BEGIN:VEVENT
DTSTART;TZID=America/Chicago:20280423T081500
DTEND;TZID=America/Chicago:20280423T091500
DTSTAMP:20260422T172636
CREATED:20260221T120438Z
LAST-MODIFIED:20260221T120438Z
UID:10004716-1840090500-1840094100@fccunited.org
SUMMARY:Elders Meeting
DESCRIPTION:
URL:https://fccunited.org/event/elders-meeting/2028-04-23/
CATEGORIES:Fellowship
ATTACH;FMTTYPE=image/jpeg:https://fccunited.org/wp-content/uploads/2026/02/20260125-elder-meeting.jpg
END:VEVENT
BEGIN:VEVENT
DTSTART;TZID=America/Chicago:20280423T091500
DTEND;TZID=America/Chicago:20280423T101500
DTSTAMP:20260422T172636
CREATED:20260127T133219Z
LAST-MODIFIED:20260127T133453Z
UID:10004216-1840094100-1840097700@fccunited.org
SUMMARY:Study Classes
DESCRIPTION:We offer classes for adults and for youth.
URL:https://fccunited.org/event/study-classes/2028-04-23/
CATEGORIES:Bible Study
ATTACH;FMTTYPE=image/jpeg:https://fccunited.org/wp-content/uploads/2026/01/study-class.jpg
END:VEVENT
BEGIN:VEVENT
DTSTART;TZID=America/Chicago:20280423T102500
DTEND;TZID=America/Chicago:20280423T113000
DTSTAMP:20260422T172636
CREATED:20260325T123948Z
LAST-MODIFIED:20260325T123948Z
UID:10005589-1840098300-1840102200@fccunited.org
SUMMARY:Sunday Worship
DESCRIPTION:
URL:https://fccunited.org/event/sunday-worship/2028-04-23/
CATEGORIES:Worship
END:VEVENT
BEGIN:VEVENT
DTSTART;TZID=America/Chicago:20280425T190000
DTEND;TZID=America/Chicago:20280425T203000
DTSTAMP:20260422T172636
CREATED:20260127T122330Z
LAST-MODIFIED:20260127T131202Z
UID:10004007-1840302000-1840307400@fccunited.org
SUMMARY:Potpourri Ladies
DESCRIPTION:
URL:https://fccunited.org/event/potpourri-ladies/2028-04-25/
CATEGORIES:Fellowship
ATTACH;FMTTYPE=image/jpeg:https://fccunited.org/wp-content/uploads/2026/01/20260127-potpourri-ladies-1.jpg
END:VEVENT
BEGIN:VEVENT
DTSTART;TZID=America/Chicago:20280426T160000
DTEND;TZID=America/Chicago:20280426T170000
DTSTAMP:20260422T172636
CREATED:20260221T121225Z
LAST-MODIFIED:20260221T122346Z
UID:10004863-1840377600-1840381200@fccunited.org
SUMMARY:Hour of Prayer
DESCRIPTION:
URL:https://fccunited.org/event/hour-of-prayer/2028-04-26/
CATEGORIES:Fellowship
ATTACH;FMTTYPE=image/jpeg:https://fccunited.org/wp-content/uploads/2026/02/hour-of-prayer-1.jpg
END:VEVENT
BEGIN:VEVENT
DTSTART;TZID=America/Chicago:20280426T170000
DTEND;TZID=America/Chicago:20280426T190000
DTSTAMP:20260422T172636
CREATED:20260221T121346Z
LAST-MODIFIED:20260221T121447Z
UID:10005124-1840381200-1840388400@fccunited.org
SUMMARY:Midweek Connection
DESCRIPTION:
URL:https://fccunited.org/event/midweek-connection/2028-04-26/
CATEGORIES:Fellowship
ATTACH;FMTTYPE=image/jpeg:https://fccunited.org/wp-content/uploads/2026/02/midweek-connection-3.jpg
END:VEVENT
END:VCALENDAR