BEGIN:VCALENDAR
VERSION:2.0
PRODID:-//First Christian Church  United Lewisville, Texas - ECPv6.15.14//NONSGML v1.0//EN
CALSCALE:GREGORIAN
METHOD:PUBLISH
X-WR-CALNAME:First Christian Church  United Lewisville, Texas
X-ORIGINAL-URL:https://fccunited.org
X-WR-CALDESC:Events for First Christian Church  United Lewisville, Texas
REFRESH-INTERVAL;VALUE=DURATION:PT1H
X-Robots-Tag:noindex
X-PUBLISHED-TTL:PT1H
BEGIN:VTIMEZONE
TZID:America/Chicago
BEGIN:DAYLIGHT
TZOFFSETFROM:-0600
TZOFFSETTO:-0500
TZNAME:CDT
DTSTART:20260308T080000
END:DAYLIGHT
BEGIN:STANDARD
TZOFFSETFROM:-0500
TZOFFSETTO:-0600
TZNAME:CST
DTSTART:20261101T070000
END:STANDARD
BEGIN:DAYLIGHT
TZOFFSETFROM:-0600
TZOFFSETTO:-0500
TZNAME:CDT
DTSTART:20270314T080000
END:DAYLIGHT
BEGIN:STANDARD
TZOFFSETFROM:-0500
TZOFFSETTO:-0600
TZNAME:CST
DTSTART:20271107T070000
END:STANDARD
BEGIN:DAYLIGHT
TZOFFSETFROM:-0600
TZOFFSETTO:-0500
TZNAME:CDT
DTSTART:20280312T080000
END:DAYLIGHT
BEGIN:STANDARD
TZOFFSETFROM:-0500
TZOFFSETTO:-0600
TZNAME:CST
DTSTART:20281105T070000
END:STANDARD
END:VTIMEZONE
BEGIN:VEVENT
DTSTART;TZID=America/Chicago:20271107T103000
DTEND;TZID=America/Chicago:20271107T113000
DTSTAMP:20260422T165936
CREATED:20260127T131829Z
LAST-MODIFIED:20260127T131829Z
UID:10004061-1825583400-1825587000@fccunited.org
SUMMARY:First Fruits Sunday
DESCRIPTION:Collecting non-perishables for CCA and Metrocrest Social Services.
URL:https://fccunited.org/event/first-fruits-sunday/2027-11-07/
CATEGORIES:Ministries
ATTACH;FMTTYPE=image/jpeg:https://fccunited.org/wp-content/uploads/2026/01/first-fruits-and-toilet-paper-sunday.jpg
END:VEVENT
BEGIN:VEVENT
DTSTART;TZID=America/Chicago:20271107T113000
DTEND;TZID=America/Chicago:20271107T123000
DTSTAMP:20260422T165936
CREATED:20260311T144206Z
LAST-MODIFIED:20260311T144208Z
UID:10005297-1825587000-1825590600@fccunited.org
SUMMARY:Fellowship Lunch
DESCRIPTION:
URL:https://fccunited.org/event/fellowship-lunch-2-2/2027-11-07/
LOCATION:Praise in the Morning Devotional - November 30\, 2025
CATEGORIES:Fellowship
END:VEVENT
BEGIN:VEVENT
DTSTART;TZID=America/Chicago:20271108T190000
DTEND;TZID=America/Chicago:20271108T203000
DTSTAMP:20260422T165936
CREATED:20260227T135325Z
LAST-MODIFIED:20260227T135325Z
UID:10005418-1825700400-1825705800@fccunited.org
SUMMARY:Agape Men
DESCRIPTION:
URL:https://fccunited.org/event/agape-men-2/2027-11-08/
CATEGORIES:Fellowship
ATTACH;FMTTYPE=image/jpeg:https://fccunited.org/wp-content/uploads/2026/02/20260309-agape-men.jpg
END:VEVENT
BEGIN:VEVENT
DTSTART;TZID=America/Chicago:20271109T083000
DTEND;TZID=America/Chicago:20271109T103000
DTSTAMP:20260422T165936
CREATED:20260415T135010Z
LAST-MODIFIED:20260415T135124Z
UID:10005768-1825749000-1825756200@fccunited.org
SUMMARY:CCA Food Pantry
DESCRIPTION:
URL:https://fccunited.org/event/cca-food-pantry/2027-11-09/
CATEGORIES:Fellowship
ATTACH;FMTTYPE=image/jpeg:https://fccunited.org/wp-content/uploads/2026/04/20260310-cca-food-pantry.jpg
END:VEVENT
BEGIN:VEVENT
DTSTART;TZID=America/Chicago:20271110T160000
DTEND;TZID=America/Chicago:20271110T170000
DTSTAMP:20260422T165936
CREATED:20260221T121225Z
LAST-MODIFIED:20260221T122346Z
UID:10004839-1825862400-1825866000@fccunited.org
SUMMARY:Hour of Prayer
DESCRIPTION:
URL:https://fccunited.org/event/hour-of-prayer/2027-11-10/
CATEGORIES:Fellowship
ATTACH;FMTTYPE=image/jpeg:https://fccunited.org/wp-content/uploads/2026/02/hour-of-prayer-1.jpg
END:VEVENT
BEGIN:VEVENT
DTSTART;TZID=America/Chicago:20271110T170000
DTEND;TZID=America/Chicago:20271110T190000
DTSTAMP:20260422T165936
CREATED:20260221T121346Z
LAST-MODIFIED:20260221T121447Z
UID:10005100-1825866000-1825873200@fccunited.org
SUMMARY:Midweek Connection
DESCRIPTION:
URL:https://fccunited.org/event/midweek-connection/2027-11-10/
CATEGORIES:Fellowship
ATTACH;FMTTYPE=image/jpeg:https://fccunited.org/wp-content/uploads/2026/02/midweek-connection-3.jpg
END:VEVENT
BEGIN:VEVENT
DTSTART;TZID=America/Chicago:20271110T190000
DTEND;TZID=America/Chicago:20271110T200000
DTSTAMP:20260422T165936
CREATED:20260108T163528Z
LAST-MODIFIED:20260210T171104Z
UID:10003564-1825873200-1825876800@fccunited.org
SUMMARY:Choir Practice
DESCRIPTION:
URL:https://fccunited.org/event/choir-practice-4/2027-11-10/
CATEGORIES:Worship
ATTACH;FMTTYPE=image/jpeg:https://fccunited.org/wp-content/uploads/2026/01/choir-practice.jpg
END:VEVENT
BEGIN:VEVENT
DTSTART;TZID=America/Chicago:20271111T100000
DTEND;TZID=America/Chicago:20271111T110000
DTSTAMP:20260422T165937
CREATED:20251112T171206Z
LAST-MODIFIED:20260112T171425Z
UID:10003456-1825927200-1825930800@fccunited.org
SUMMARY:MOMCo 2nd Thursdays
DESCRIPTION:
URL:https://fccunited.org/event/momco/2027-11-11/
CATEGORIES:Ministries
ATTACH;FMTTYPE=image/png:https://fccunited.org/wp-content/uploads/2025/11/momco-mothers-of-preschoolers-1-1.png
END:VEVENT
BEGIN:VEVENT
DTSTART;TZID=America/Chicago:20271113T100000
DTEND;TZID=America/Chicago:20271113T113000
DTSTAMP:20260422T165937
CREATED:20260224T200455Z
LAST-MODIFIED:20260224T200455Z
UID:10005357-1826100000-1826105400@fccunited.org
SUMMARY:Pin Pal Sewing Ministry
DESCRIPTION:
URL:https://fccunited.org/event/pin-pal-sewing-ministry/2027-11-13/
CATEGORIES:Fellowship
ATTACH;FMTTYPE=image/jpeg:https://fccunited.org/wp-content/uploads/2026/02/20260214-sewing-ministry.jpg
END:VEVENT
BEGIN:VEVENT
DTSTART;TZID=America/Chicago:20271114T091500
DTEND;TZID=America/Chicago:20271114T101500
DTSTAMP:20260422T165937
CREATED:20260127T133219Z
LAST-MODIFIED:20260127T133453Z
UID:10004193-1826183700-1826187300@fccunited.org
SUMMARY:Study Classes
DESCRIPTION:We offer classes for adults and for youth.
URL:https://fccunited.org/event/study-classes/2027-11-14/
CATEGORIES:Bible Study
ATTACH;FMTTYPE=image/jpeg:https://fccunited.org/wp-content/uploads/2026/01/study-class.jpg
END:VEVENT
BEGIN:VEVENT
DTSTART;TZID=America/Chicago:20271114T102500
DTEND;TZID=America/Chicago:20271114T113000
DTSTAMP:20260422T165937
CREATED:20260325T123948Z
LAST-MODIFIED:20260325T123948Z
UID:10005566-1826187900-1826191800@fccunited.org
SUMMARY:Sunday Worship
DESCRIPTION:
URL:https://fccunited.org/event/sunday-worship/2027-11-14/
CATEGORIES:Worship
END:VEVENT
BEGIN:VEVENT
DTSTART;TZID=America/Chicago:20271117T160000
DTEND;TZID=America/Chicago:20271117T170000
DTSTAMP:20260422T165937
CREATED:20260221T121225Z
LAST-MODIFIED:20260221T122346Z
UID:10004840-1826467200-1826470800@fccunited.org
SUMMARY:Hour of Prayer
DESCRIPTION:
URL:https://fccunited.org/event/hour-of-prayer/2027-11-17/
CATEGORIES:Fellowship
ATTACH;FMTTYPE=image/jpeg:https://fccunited.org/wp-content/uploads/2026/02/hour-of-prayer-1.jpg
END:VEVENT
BEGIN:VEVENT
DTSTART;TZID=America/Chicago:20271117T170000
DTEND;TZID=America/Chicago:20271117T190000
DTSTAMP:20260422T165937
CREATED:20260221T121346Z
LAST-MODIFIED:20260221T121447Z
UID:10005101-1826470800-1826478000@fccunited.org
SUMMARY:Midweek Connection
DESCRIPTION:
URL:https://fccunited.org/event/midweek-connection/2027-11-17/
CATEGORIES:Fellowship
ATTACH;FMTTYPE=image/jpeg:https://fccunited.org/wp-content/uploads/2026/02/midweek-connection-3.jpg
END:VEVENT
BEGIN:VEVENT
DTSTART;TZID=America/Chicago:20271117T190000
DTEND;TZID=America/Chicago:20271117T200000
DTSTAMP:20260422T165937
CREATED:20260108T163528Z
LAST-MODIFIED:20260210T171104Z
UID:10003565-1826478000-1826481600@fccunited.org
SUMMARY:Choir Practice
DESCRIPTION:
URL:https://fccunited.org/event/choir-practice-4/2027-11-17/
CATEGORIES:Worship
ATTACH;FMTTYPE=image/jpeg:https://fccunited.org/wp-content/uploads/2026/01/choir-practice.jpg
END:VEVENT
BEGIN:VEVENT
DTSTART;TZID=America/Chicago:20271121T091500
DTEND;TZID=America/Chicago:20271121T101500
DTSTAMP:20260422T165937
CREATED:20260127T133219Z
LAST-MODIFIED:20260127T133453Z
UID:10004194-1826788500-1826792100@fccunited.org
SUMMARY:Study Classes
DESCRIPTION:We offer classes for adults and for youth.
URL:https://fccunited.org/event/study-classes/2027-11-21/
CATEGORIES:Bible Study
ATTACH;FMTTYPE=image/jpeg:https://fccunited.org/wp-content/uploads/2026/01/study-class.jpg
END:VEVENT
BEGIN:VEVENT
DTSTART;TZID=America/Chicago:20271121T102500
DTEND;TZID=America/Chicago:20271121T113000
DTSTAMP:20260422T165937
CREATED:20260325T123948Z
LAST-MODIFIED:20260325T123948Z
UID:10005567-1826792700-1826796600@fccunited.org
SUMMARY:Sunday Worship
DESCRIPTION:
URL:https://fccunited.org/event/sunday-worship/2027-11-21/
CATEGORIES:Worship
END:VEVENT
BEGIN:VEVENT
DTSTART;TZID=America/Chicago:20271123T190000
DTEND;TZID=America/Chicago:20271123T203000
DTSTAMP:20260422T165937
CREATED:20260127T122330Z
LAST-MODIFIED:20260127T131202Z
UID:10004002-1826996400-1827001800@fccunited.org
SUMMARY:Potpourri Ladies
DESCRIPTION:
URL:https://fccunited.org/event/potpourri-ladies/2027-11-23/
CATEGORIES:Fellowship
ATTACH;FMTTYPE=image/jpeg:https://fccunited.org/wp-content/uploads/2026/01/20260127-potpourri-ladies-1.jpg
END:VEVENT
BEGIN:VEVENT
DTSTART;TZID=America/Chicago:20271124T160000
DTEND;TZID=America/Chicago:20271124T170000
DTSTAMP:20260422T165937
CREATED:20260221T121225Z
LAST-MODIFIED:20260221T122346Z
UID:10004841-1827072000-1827075600@fccunited.org
SUMMARY:Hour of Prayer
DESCRIPTION:
URL:https://fccunited.org/event/hour-of-prayer/2027-11-24/
CATEGORIES:Fellowship
ATTACH;FMTTYPE=image/jpeg:https://fccunited.org/wp-content/uploads/2026/02/hour-of-prayer-1.jpg
END:VEVENT
BEGIN:VEVENT
DTSTART;TZID=America/Chicago:20271124T170000
DTEND;TZID=America/Chicago:20271124T190000
DTSTAMP:20260422T165937
CREATED:20260221T121346Z
LAST-MODIFIED:20260221T121447Z
UID:10005102-1827075600-1827082800@fccunited.org
SUMMARY:Midweek Connection
DESCRIPTION:
URL:https://fccunited.org/event/midweek-connection/2027-11-24/
CATEGORIES:Fellowship
ATTACH;FMTTYPE=image/jpeg:https://fccunited.org/wp-content/uploads/2026/02/midweek-connection-3.jpg
END:VEVENT
BEGIN:VEVENT
DTSTART;TZID=America/Chicago:20271124T190000
DTEND;TZID=America/Chicago:20271124T200000
DTSTAMP:20260422T165937
CREATED:20260108T163528Z
LAST-MODIFIED:20260210T171104Z
UID:10003566-1827082800-1827086400@fccunited.org
SUMMARY:Choir Practice
DESCRIPTION:
URL:https://fccunited.org/event/choir-practice-4/2027-11-24/
CATEGORIES:Worship
ATTACH;FMTTYPE=image/jpeg:https://fccunited.org/wp-content/uploads/2026/01/choir-practice.jpg
END:VEVENT
BEGIN:VEVENT
DTSTART;TZID=America/Chicago:20271125T100000
DTEND;TZID=America/Chicago:20271125T233000
DTSTAMP:20260422T165937
CREATED:20260216T125355Z
LAST-MODIFIED:20260415T134412Z
UID:10004650-1827136800-1827185400@fccunited.org
SUMMARY:MomCo
DESCRIPTION:Mom\, join us for faith\, fun\, and fellowship the fourth Thursday of each month.  Childcare is provided. \nCall 972-446-9808 for more information.
URL:https://fccunited.org/event/momco-1000-a-m-2/2027-11-25/
CATEGORIES:Fellowship
ATTACH;FMTTYPE=image/jpeg:https://fccunited.org/wp-content/uploads/2026/02/20260122-momco-3.jpg
END:VEVENT
BEGIN:VEVENT
DTSTART;TZID=America/Chicago:20271128T081500
DTEND;TZID=America/Chicago:20271128T091500
DTSTAMP:20260422T165937
CREATED:20260221T120438Z
LAST-MODIFIED:20260221T120438Z
UID:10004711-1827389700-1827393300@fccunited.org
SUMMARY:Elders Meeting
DESCRIPTION:
URL:https://fccunited.org/event/elders-meeting/2027-11-28/
CATEGORIES:Fellowship
ATTACH;FMTTYPE=image/jpeg:https://fccunited.org/wp-content/uploads/2026/02/20260125-elder-meeting.jpg
END:VEVENT
BEGIN:VEVENT
DTSTART;TZID=America/Chicago:20271128T091500
DTEND;TZID=America/Chicago:20271128T101500
DTSTAMP:20260422T165937
CREATED:20260127T133219Z
LAST-MODIFIED:20260127T133453Z
UID:10004195-1827393300-1827396900@fccunited.org
SUMMARY:Study Classes
DESCRIPTION:We offer classes for adults and for youth.
URL:https://fccunited.org/event/study-classes/2027-11-28/
CATEGORIES:Bible Study
ATTACH;FMTTYPE=image/jpeg:https://fccunited.org/wp-content/uploads/2026/01/study-class.jpg
END:VEVENT
BEGIN:VEVENT
DTSTART;TZID=America/Chicago:20271128T102500
DTEND;TZID=America/Chicago:20271128T113000
DTSTAMP:20260422T165937
CREATED:20260325T123948Z
LAST-MODIFIED:20260325T123948Z
UID:10005568-1827397500-1827401400@fccunited.org
SUMMARY:Sunday Worship
DESCRIPTION:
URL:https://fccunited.org/event/sunday-worship/2027-11-28/
CATEGORIES:Worship
END:VEVENT
BEGIN:VEVENT
DTSTART;TZID=America/Chicago:20271201T160000
DTEND;TZID=America/Chicago:20271201T170000
DTSTAMP:20260422T165937
CREATED:20260221T121225Z
LAST-MODIFIED:20260221T122346Z
UID:10004842-1827676800-1827680400@fccunited.org
SUMMARY:Hour of Prayer
DESCRIPTION:
URL:https://fccunited.org/event/hour-of-prayer/2027-12-01/
CATEGORIES:Fellowship
ATTACH;FMTTYPE=image/jpeg:https://fccunited.org/wp-content/uploads/2026/02/hour-of-prayer-1.jpg
END:VEVENT
BEGIN:VEVENT
DTSTART;TZID=America/Chicago:20271201T170000
DTEND;TZID=America/Chicago:20271201T190000
DTSTAMP:20260422T165937
CREATED:20260221T121346Z
LAST-MODIFIED:20260221T121447Z
UID:10005103-1827680400-1827687600@fccunited.org
SUMMARY:Midweek Connection
DESCRIPTION:
URL:https://fccunited.org/event/midweek-connection/2027-12-01/
CATEGORIES:Fellowship
ATTACH;FMTTYPE=image/jpeg:https://fccunited.org/wp-content/uploads/2026/02/midweek-connection-3.jpg
END:VEVENT
BEGIN:VEVENT
DTSTART;TZID=America/Chicago:20271201T190000
DTEND;TZID=America/Chicago:20271201T200000
DTSTAMP:20260422T165937
CREATED:20260108T163528Z
LAST-MODIFIED:20260210T171104Z
UID:10003567-1827687600-1827691200@fccunited.org
SUMMARY:Choir Practice
DESCRIPTION:
URL:https://fccunited.org/event/choir-practice-4/2027-12-01/
CATEGORIES:Worship
ATTACH;FMTTYPE=image/jpeg:https://fccunited.org/wp-content/uploads/2026/01/choir-practice.jpg
END:VEVENT
BEGIN:VEVENT
DTSTART;TZID=America/Chicago:20271204T083000
DTEND;TZID=America/Chicago:20271204T123000
DTSTAMP:20260422T165937
CREATED:20260421T113553Z
LAST-MODIFIED:20260421T114056Z
UID:10005927-1827909000-1827923400@fccunited.org
SUMMARY:Shipwright Food Pantry
DESCRIPTION:Shipwrights Food Pantry Ministry\n\nOn the 1st and 3rd Saturday of each month\, the Shipwrights Food Pantry provides a hot meal\,  groceries and other items for those facing food insecurity in Lewisville and the surrounding area. \nIf you would like to participate in this ministry\,  the time runs from 8:30am - 12:30pm.  Volunteers meet in the Serenity Church/FCCU parking lot at 8:30 on the 1st and 3rd Saturday of the month for preparations. \nFor more information reach out to Ken Blackerby at: 817-492-6983
URL:https://fccunited.org/event/shipwright-food-pantry/2027-12-04/
CATEGORIES:Ministries
ATTACH;FMTTYPE=image/png:https://fccunited.org/wp-content/uploads/2026/04/shipwrights-food-pantry.png
END:VEVENT
BEGIN:VEVENT
DTSTART;TZID=America/Chicago:20271205T091500
DTEND;TZID=America/Chicago:20271205T101500
DTSTAMP:20260422T165937
CREATED:20260127T133219Z
LAST-MODIFIED:20260127T133453Z
UID:10004196-1827998100-1828001700@fccunited.org
SUMMARY:Study Classes
DESCRIPTION:We offer classes for adults and for youth.
URL:https://fccunited.org/event/study-classes/2027-12-05/
CATEGORIES:Bible Study
ATTACH;FMTTYPE=image/jpeg:https://fccunited.org/wp-content/uploads/2026/01/study-class.jpg
END:VEVENT
BEGIN:VEVENT
DTSTART;TZID=America/Chicago:20271205T102500
DTEND;TZID=America/Chicago:20271205T113000
DTSTAMP:20260422T165937
CREATED:20260325T123948Z
LAST-MODIFIED:20260325T123948Z
UID:10005569-1828002300-1828006200@fccunited.org
SUMMARY:Sunday Worship
DESCRIPTION:
URL:https://fccunited.org/event/sunday-worship/2027-12-05/
CATEGORIES:Worship
END:VEVENT
END:VCALENDAR