BEGIN:VCALENDAR
VERSION:2.0
PRODID:-//First Christian Church  United Lewisville, Texas - ECPv6.15.14//NONSGML v1.0//EN
CALSCALE:GREGORIAN
METHOD:PUBLISH
X-WR-CALNAME:First Christian Church  United Lewisville, Texas
X-ORIGINAL-URL:https://fccunited.org
X-WR-CALDESC:Events for First Christian Church  United Lewisville, Texas
REFRESH-INTERVAL;VALUE=DURATION:PT1H
X-Robots-Tag:noindex
X-PUBLISHED-TTL:PT1H
BEGIN:VTIMEZONE
TZID:America/Chicago
BEGIN:DAYLIGHT
TZOFFSETFROM:-0600
TZOFFSETTO:-0500
TZNAME:CDT
DTSTART:20270314T080000
END:DAYLIGHT
BEGIN:STANDARD
TZOFFSETFROM:-0500
TZOFFSETTO:-0600
TZNAME:CST
DTSTART:20271107T070000
END:STANDARD
BEGIN:DAYLIGHT
TZOFFSETFROM:-0600
TZOFFSETTO:-0500
TZNAME:CDT
DTSTART:20280312T080000
END:DAYLIGHT
BEGIN:STANDARD
TZOFFSETFROM:-0500
TZOFFSETTO:-0600
TZNAME:CST
DTSTART:20281105T070000
END:STANDARD
BEGIN:DAYLIGHT
TZOFFSETFROM:-0600
TZOFFSETTO:-0500
TZNAME:CDT
DTSTART:20290311T080000
END:DAYLIGHT
BEGIN:STANDARD
TZOFFSETFROM:-0500
TZOFFSETTO:-0600
TZNAME:CST
DTSTART:20291104T070000
END:STANDARD
BEGIN:DAYLIGHT
TZOFFSETFROM:-0600
TZOFFSETTO:-0500
TZNAME:CDT
DTSTART:20300310T080000
END:DAYLIGHT
BEGIN:STANDARD
TZOFFSETFROM:-0500
TZOFFSETTO:-0600
TZNAME:CST
DTSTART:20301103T070000
END:STANDARD
END:VTIMEZONE
BEGIN:VEVENT
DTSTART;TZID=America/Chicago:20281226T190000
DTEND;TZID=America/Chicago:20281226T203000
DTSTAMP:20260422T165902
CREATED:20260127T122330Z
LAST-MODIFIED:20260127T131202Z
UID:10004015-1861470000-1861475400@fccunited.org
SUMMARY:Potpourri Ladies
DESCRIPTION:
URL:https://fccunited.org/event/potpourri-ladies/2028-12-26/
CATEGORIES:Fellowship
ATTACH;FMTTYPE=image/jpeg:https://fccunited.org/wp-content/uploads/2026/01/20260127-potpourri-ladies-1.jpg
END:VEVENT
BEGIN:VEVENT
DTSTART;TZID=America/Chicago:20281227T160000
DTEND;TZID=America/Chicago:20281227T170000
DTSTAMP:20260422T165902
CREATED:20260221T121225Z
LAST-MODIFIED:20260221T122346Z
UID:10004898-1861545600-1861549200@fccunited.org
SUMMARY:Hour of Prayer
DESCRIPTION:
URL:https://fccunited.org/event/hour-of-prayer/2028-12-27/
CATEGORIES:Fellowship
ATTACH;FMTTYPE=image/jpeg:https://fccunited.org/wp-content/uploads/2026/02/hour-of-prayer-1.jpg
END:VEVENT
BEGIN:VEVENT
DTSTART;TZID=America/Chicago:20281227T170000
DTEND;TZID=America/Chicago:20281227T190000
DTSTAMP:20260422T165902
CREATED:20260221T121346Z
LAST-MODIFIED:20260221T121447Z
UID:10005159-1861549200-1861556400@fccunited.org
SUMMARY:Midweek Connection
DESCRIPTION:
URL:https://fccunited.org/event/midweek-connection/2028-12-27/
CATEGORIES:Fellowship
ATTACH;FMTTYPE=image/jpeg:https://fccunited.org/wp-content/uploads/2026/02/midweek-connection-3.jpg
END:VEVENT
BEGIN:VEVENT
DTSTART;TZID=America/Chicago:20281227T190000
DTEND;TZID=America/Chicago:20281227T200000
DTSTAMP:20260422T165902
CREATED:20260108T163528Z
LAST-MODIFIED:20260210T171104Z
UID:10003623-1861556400-1861560000@fccunited.org
SUMMARY:Choir Practice
DESCRIPTION:
URL:https://fccunited.org/event/choir-practice-4/2028-12-27/
CATEGORIES:Worship
ATTACH;FMTTYPE=image/jpeg:https://fccunited.org/wp-content/uploads/2026/01/choir-practice.jpg
END:VEVENT
BEGIN:VEVENT
DTSTART;TZID=America/Chicago:20281228T100000
DTEND;TZID=America/Chicago:20281228T233000
DTSTAMP:20260422T165902
CREATED:20260216T125355Z
LAST-MODIFIED:20260415T134412Z
UID:10004663-1861610400-1861659000@fccunited.org
SUMMARY:MomCo
DESCRIPTION:Mom\, join us for faith\, fun\, and fellowship the fourth Thursday of each month.  Childcare is provided. \nCall 972-446-9808 for more information.
URL:https://fccunited.org/event/momco-1000-a-m-2/2028-12-28/
CATEGORIES:Fellowship
ATTACH;FMTTYPE=image/jpeg:https://fccunited.org/wp-content/uploads/2026/02/20260122-momco-3.jpg
END:VEVENT
BEGIN:VEVENT
DTSTART;TZID=America/Chicago:20281231T091500
DTEND;TZID=America/Chicago:20281231T101500
DTSTAMP:20260422T165902
CREATED:20260127T133219Z
LAST-MODIFIED:20260127T133453Z
UID:10004252-1861866900-1861870500@fccunited.org
SUMMARY:Study Classes
DESCRIPTION:We offer classes for adults and for youth.
URL:https://fccunited.org/event/study-classes/2028-12-31/
CATEGORIES:Bible Study
ATTACH;FMTTYPE=image/jpeg:https://fccunited.org/wp-content/uploads/2026/01/study-class.jpg
END:VEVENT
BEGIN:VEVENT
DTSTART;TZID=America/Chicago:20281231T102500
DTEND;TZID=America/Chicago:20281231T113000
DTSTAMP:20260422T165902
CREATED:20260325T123948Z
LAST-MODIFIED:20260325T123948Z
UID:10005625-1861871100-1861875000@fccunited.org
SUMMARY:Sunday Worship
DESCRIPTION:
URL:https://fccunited.org/event/sunday-worship/2028-12-31/
CATEGORIES:Worship
END:VEVENT
BEGIN:VEVENT
DTSTART;TZID=America/Chicago:20290103T160000
DTEND;TZID=America/Chicago:20290103T170000
DTSTAMP:20260422T165902
CREATED:20260221T121225Z
LAST-MODIFIED:20260221T122346Z
UID:10004899-1862150400-1862154000@fccunited.org
SUMMARY:Hour of Prayer
DESCRIPTION:
URL:https://fccunited.org/event/hour-of-prayer/2029-01-03/
CATEGORIES:Fellowship
ATTACH;FMTTYPE=image/jpeg:https://fccunited.org/wp-content/uploads/2026/02/hour-of-prayer-1.jpg
END:VEVENT
BEGIN:VEVENT
DTSTART;TZID=America/Chicago:20290103T170000
DTEND;TZID=America/Chicago:20290103T190000
DTSTAMP:20260422T165902
CREATED:20260221T121346Z
LAST-MODIFIED:20260221T121447Z
UID:10005160-1862154000-1862161200@fccunited.org
SUMMARY:Midweek Connection
DESCRIPTION:
URL:https://fccunited.org/event/midweek-connection/2029-01-03/
CATEGORIES:Fellowship
ATTACH;FMTTYPE=image/jpeg:https://fccunited.org/wp-content/uploads/2026/02/midweek-connection-3.jpg
END:VEVENT
BEGIN:VEVENT
DTSTART;TZID=America/Chicago:20290103T190000
DTEND;TZID=America/Chicago:20290103T200000
DTSTAMP:20260422T165902
CREATED:20260108T163528Z
LAST-MODIFIED:20260210T171104Z
UID:10003624-1862161200-1862164800@fccunited.org
SUMMARY:Choir Practice
DESCRIPTION:
URL:https://fccunited.org/event/choir-practice-4/2029-01-03/
CATEGORIES:Worship
ATTACH;FMTTYPE=image/jpeg:https://fccunited.org/wp-content/uploads/2026/01/choir-practice.jpg
END:VEVENT
BEGIN:VEVENT
DTSTART;TZID=America/Chicago:20290106T083000
DTEND;TZID=America/Chicago:20290106T123000
DTSTAMP:20260422T165902
CREATED:20260421T113553Z
LAST-MODIFIED:20260421T114056Z
UID:10005936-1862382600-1862397000@fccunited.org
SUMMARY:Shipwright Food Pantry
DESCRIPTION:Shipwrights Food Pantry Ministry\n\nOn the 1st and 3rd Saturday of each month\, the Shipwrights Food Pantry provides a hot meal\,  groceries and other items for those facing food insecurity in Lewisville and the surrounding area. \nIf you would like to participate in this ministry\,  the time runs from 8:30am - 12:30pm.  Volunteers meet in the Serenity Church/FCCU parking lot at 8:30 on the 1st and 3rd Saturday of the month for preparations. \nFor more information reach out to Ken Blackerby at: 817-492-6983
URL:https://fccunited.org/event/shipwright-food-pantry/2029-01-06/
CATEGORIES:Ministries
ATTACH;FMTTYPE=image/png:https://fccunited.org/wp-content/uploads/2026/04/shipwrights-food-pantry.png
END:VEVENT
BEGIN:VEVENT
DTSTART;TZID=America/Chicago:20290107T091500
DTEND;TZID=America/Chicago:20290107T101500
DTSTAMP:20260422T165902
CREATED:20260127T133219Z
LAST-MODIFIED:20260127T133453Z
UID:10004253-1862471700-1862475300@fccunited.org
SUMMARY:Study Classes
DESCRIPTION:We offer classes for adults and for youth.
URL:https://fccunited.org/event/study-classes/2029-01-07/
CATEGORIES:Bible Study
ATTACH;FMTTYPE=image/jpeg:https://fccunited.org/wp-content/uploads/2026/01/study-class.jpg
END:VEVENT
BEGIN:VEVENT
DTSTART;TZID=America/Chicago:20290107T102500
DTEND;TZID=America/Chicago:20290107T113000
DTSTAMP:20260422T165902
CREATED:20260325T123948Z
LAST-MODIFIED:20260325T123948Z
UID:10005626-1862475900-1862479800@fccunited.org
SUMMARY:Sunday Worship
DESCRIPTION:
URL:https://fccunited.org/event/sunday-worship/2029-01-07/
CATEGORIES:Worship
END:VEVENT
BEGIN:VEVENT
DTSTART;TZID=America/Chicago:20290107T103000
DTEND;TZID=America/Chicago:20290107T113000
DTSTAMP:20260422T165902
CREATED:20260127T131829Z
LAST-MODIFIED:20260127T131829Z
UID:10004075-1862476200-1862479800@fccunited.org
SUMMARY:First Fruits Sunday
DESCRIPTION:Collecting non-perishables for CCA and Metrocrest Social Services.
URL:https://fccunited.org/event/first-fruits-sunday/2029-01-07/
CATEGORIES:Ministries
ATTACH;FMTTYPE=image/jpeg:https://fccunited.org/wp-content/uploads/2026/01/first-fruits-and-toilet-paper-sunday.jpg
END:VEVENT
BEGIN:VEVENT
DTSTART;TZID=America/Chicago:20290107T113000
DTEND;TZID=America/Chicago:20290107T123000
DTSTAMP:20260422T165902
CREATED:20260311T144206Z
LAST-MODIFIED:20260311T144208Z
UID:10005311-1862479800-1862483400@fccunited.org
SUMMARY:Fellowship Lunch
DESCRIPTION:
URL:https://fccunited.org/event/fellowship-lunch-2-2/2029-01-07/
LOCATION:Praise in the Morning Devotional - November 30\, 2025
CATEGORIES:Fellowship
END:VEVENT
BEGIN:VEVENT
DTSTART;TZID=America/Chicago:20290108T190000
DTEND;TZID=America/Chicago:20290108T203000
DTSTAMP:20260422T165902
CREATED:20260227T135325Z
LAST-MODIFIED:20260227T135325Z
UID:10005432-1862593200-1862598600@fccunited.org
SUMMARY:Agape Men
DESCRIPTION:
URL:https://fccunited.org/event/agape-men-2/2029-01-08/
CATEGORIES:Fellowship
ATTACH;FMTTYPE=image/jpeg:https://fccunited.org/wp-content/uploads/2026/02/20260309-agape-men.jpg
END:VEVENT
BEGIN:VEVENT
DTSTART;TZID=America/Chicago:20290109T083000
DTEND;TZID=America/Chicago:20290109T103000
DTSTAMP:20260422T165902
CREATED:20260415T135010Z
LAST-MODIFIED:20260415T135124Z
UID:10005782-1862641800-1862649000@fccunited.org
SUMMARY:CCA Food Pantry
DESCRIPTION:
URL:https://fccunited.org/event/cca-food-pantry/2029-01-09/
CATEGORIES:Fellowship
ATTACH;FMTTYPE=image/jpeg:https://fccunited.org/wp-content/uploads/2026/04/20260310-cca-food-pantry.jpg
END:VEVENT
BEGIN:VEVENT
DTSTART;TZID=America/Chicago:20290110T160000
DTEND;TZID=America/Chicago:20290110T170000
DTSTAMP:20260422T165902
CREATED:20260221T121225Z
LAST-MODIFIED:20260221T122346Z
UID:10004900-1862755200-1862758800@fccunited.org
SUMMARY:Hour of Prayer
DESCRIPTION:
URL:https://fccunited.org/event/hour-of-prayer/2029-01-10/
CATEGORIES:Fellowship
ATTACH;FMTTYPE=image/jpeg:https://fccunited.org/wp-content/uploads/2026/02/hour-of-prayer-1.jpg
END:VEVENT
BEGIN:VEVENT
DTSTART;TZID=America/Chicago:20290110T170000
DTEND;TZID=America/Chicago:20290110T190000
DTSTAMP:20260422T165902
CREATED:20260221T121346Z
LAST-MODIFIED:20260221T121447Z
UID:10005161-1862758800-1862766000@fccunited.org
SUMMARY:Midweek Connection
DESCRIPTION:
URL:https://fccunited.org/event/midweek-connection/2029-01-10/
CATEGORIES:Fellowship
ATTACH;FMTTYPE=image/jpeg:https://fccunited.org/wp-content/uploads/2026/02/midweek-connection-3.jpg
END:VEVENT
BEGIN:VEVENT
DTSTART;TZID=America/Chicago:20290110T190000
DTEND;TZID=America/Chicago:20290110T200000
DTSTAMP:20260422T165902
CREATED:20260108T163528Z
LAST-MODIFIED:20260210T171104Z
UID:10003625-1862766000-1862769600@fccunited.org
SUMMARY:Choir Practice
DESCRIPTION:
URL:https://fccunited.org/event/choir-practice-4/2029-01-10/
CATEGORIES:Worship
ATTACH;FMTTYPE=image/jpeg:https://fccunited.org/wp-content/uploads/2026/01/choir-practice.jpg
END:VEVENT
BEGIN:VEVENT
DTSTART;TZID=America/Chicago:20290113T100000
DTEND;TZID=America/Chicago:20290113T113000
DTSTAMP:20260422T165902
CREATED:20260224T200455Z
LAST-MODIFIED:20260224T200455Z
UID:10005371-1862992800-1862998200@fccunited.org
SUMMARY:Pin Pal Sewing Ministry
DESCRIPTION:
URL:https://fccunited.org/event/pin-pal-sewing-ministry/2029-01-13/
CATEGORIES:Fellowship
ATTACH;FMTTYPE=image/jpeg:https://fccunited.org/wp-content/uploads/2026/02/20260214-sewing-ministry.jpg
END:VEVENT
BEGIN:VEVENT
DTSTART;TZID=America/Chicago:20290114T091500
DTEND;TZID=America/Chicago:20290114T101500
DTSTAMP:20260422T165902
CREATED:20260127T133219Z
LAST-MODIFIED:20260127T133453Z
UID:10004254-1863076500-1863080100@fccunited.org
SUMMARY:Study Classes
DESCRIPTION:We offer classes for adults and for youth.
URL:https://fccunited.org/event/study-classes/2029-01-14/
CATEGORIES:Bible Study
ATTACH;FMTTYPE=image/jpeg:https://fccunited.org/wp-content/uploads/2026/01/study-class.jpg
END:VEVENT
BEGIN:VEVENT
DTSTART;TZID=America/Chicago:20290114T102500
DTEND;TZID=America/Chicago:20290114T113000
DTSTAMP:20260422T165902
CREATED:20260325T123948Z
LAST-MODIFIED:20260325T123948Z
UID:10005627-1863080700-1863084600@fccunited.org
SUMMARY:Sunday Worship
DESCRIPTION:
URL:https://fccunited.org/event/sunday-worship/2029-01-14/
CATEGORIES:Worship
END:VEVENT
BEGIN:VEVENT
DTSTART;TZID=America/Chicago:20290117T160000
DTEND;TZID=America/Chicago:20290117T170000
DTSTAMP:20260422T165902
CREATED:20260221T121225Z
LAST-MODIFIED:20260221T122346Z
UID:10004901-1863360000-1863363600@fccunited.org
SUMMARY:Hour of Prayer
DESCRIPTION:
URL:https://fccunited.org/event/hour-of-prayer/2029-01-17/
CATEGORIES:Fellowship
ATTACH;FMTTYPE=image/jpeg:https://fccunited.org/wp-content/uploads/2026/02/hour-of-prayer-1.jpg
END:VEVENT
BEGIN:VEVENT
DTSTART;TZID=America/Chicago:20290117T170000
DTEND;TZID=America/Chicago:20290117T190000
DTSTAMP:20260422T165902
CREATED:20260221T121346Z
LAST-MODIFIED:20260221T121447Z
UID:10005162-1863363600-1863370800@fccunited.org
SUMMARY:Midweek Connection
DESCRIPTION:
URL:https://fccunited.org/event/midweek-connection/2029-01-17/
CATEGORIES:Fellowship
ATTACH;FMTTYPE=image/jpeg:https://fccunited.org/wp-content/uploads/2026/02/midweek-connection-3.jpg
END:VEVENT
BEGIN:VEVENT
DTSTART;TZID=America/Chicago:20290117T190000
DTEND;TZID=America/Chicago:20290117T200000
DTSTAMP:20260422T165902
CREATED:20260108T163528Z
LAST-MODIFIED:20260210T171104Z
UID:10003626-1863370800-1863374400@fccunited.org
SUMMARY:Choir Practice
DESCRIPTION:
URL:https://fccunited.org/event/choir-practice-4/2029-01-17/
CATEGORIES:Worship
ATTACH;FMTTYPE=image/jpeg:https://fccunited.org/wp-content/uploads/2026/01/choir-practice.jpg
END:VEVENT
BEGIN:VEVENT
DTSTART;TZID=America/Chicago:20290121T091500
DTEND;TZID=America/Chicago:20290121T101500
DTSTAMP:20260422T165902
CREATED:20260127T133219Z
LAST-MODIFIED:20260127T133453Z
UID:10004255-1863681300-1863684900@fccunited.org
SUMMARY:Study Classes
DESCRIPTION:We offer classes for adults and for youth.
URL:https://fccunited.org/event/study-classes/2029-01-21/
CATEGORIES:Bible Study
ATTACH;FMTTYPE=image/jpeg:https://fccunited.org/wp-content/uploads/2026/01/study-class.jpg
END:VEVENT
BEGIN:VEVENT
DTSTART;TZID=America/Chicago:20290121T102500
DTEND;TZID=America/Chicago:20290121T113000
DTSTAMP:20260422T165902
CREATED:20260325T123948Z
LAST-MODIFIED:20260325T123948Z
UID:10005628-1863685500-1863689400@fccunited.org
SUMMARY:Sunday Worship
DESCRIPTION:
URL:https://fccunited.org/event/sunday-worship/2029-01-21/
CATEGORIES:Worship
END:VEVENT
BEGIN:VEVENT
DTSTART;TZID=America/Chicago:20290123T190000
DTEND;TZID=America/Chicago:20290123T203000
DTSTAMP:20260422T165902
CREATED:20260127T122330Z
LAST-MODIFIED:20260127T131202Z
UID:10004016-1863889200-1863894600@fccunited.org
SUMMARY:Potpourri Ladies
DESCRIPTION:
URL:https://fccunited.org/event/potpourri-ladies/2029-01-23/
CATEGORIES:Fellowship
ATTACH;FMTTYPE=image/jpeg:https://fccunited.org/wp-content/uploads/2026/01/20260127-potpourri-ladies-1.jpg
END:VEVENT
BEGIN:VEVENT
DTSTART;TZID=America/Chicago:20290124T160000
DTEND;TZID=America/Chicago:20290124T170000
DTSTAMP:20260422T165902
CREATED:20260221T121225Z
LAST-MODIFIED:20260221T122346Z
UID:10004902-1863964800-1863968400@fccunited.org
SUMMARY:Hour of Prayer
DESCRIPTION:
URL:https://fccunited.org/event/hour-of-prayer/2029-01-24/
CATEGORIES:Fellowship
ATTACH;FMTTYPE=image/jpeg:https://fccunited.org/wp-content/uploads/2026/02/hour-of-prayer-1.jpg
END:VEVENT
END:VCALENDAR