BEGIN:VCALENDAR
VERSION:2.0
PRODID:-//First Christian Church  United Lewisville, Texas - ECPv6.15.14//NONSGML v1.0//EN
CALSCALE:GREGORIAN
METHOD:PUBLISH
X-WR-CALNAME:First Christian Church  United Lewisville, Texas
X-ORIGINAL-URL:https://fccunited.org
X-WR-CALDESC:Events for First Christian Church  United Lewisville, Texas
REFRESH-INTERVAL;VALUE=DURATION:PT1H
X-Robots-Tag:noindex
X-PUBLISHED-TTL:PT1H
BEGIN:VTIMEZONE
TZID:America/Chicago
BEGIN:DAYLIGHT
TZOFFSETFROM:-0600
TZOFFSETTO:-0500
TZNAME:CDT
DTSTART:20290311T080000
END:DAYLIGHT
BEGIN:STANDARD
TZOFFSETFROM:-0500
TZOFFSETTO:-0600
TZNAME:CST
DTSTART:20291104T070000
END:STANDARD
BEGIN:DAYLIGHT
TZOFFSETFROM:-0600
TZOFFSETTO:-0500
TZNAME:CDT
DTSTART:20300310T080000
END:DAYLIGHT
BEGIN:STANDARD
TZOFFSETFROM:-0500
TZOFFSETTO:-0600
TZNAME:CST
DTSTART:20301103T070000
END:STANDARD
BEGIN:DAYLIGHT
TZOFFSETFROM:-0600
TZOFFSETTO:-0500
TZNAME:CDT
DTSTART:20310309T080000
END:DAYLIGHT
BEGIN:STANDARD
TZOFFSETFROM:-0500
TZOFFSETTO:-0600
TZNAME:CST
DTSTART:20311102T070000
END:STANDARD
BEGIN:DAYLIGHT
TZOFFSETFROM:-0600
TZOFFSETTO:-0500
TZNAME:CDT
DTSTART:20320314T080000
END:DAYLIGHT
BEGIN:STANDARD
TZOFFSETFROM:-0500
TZOFFSETTO:-0600
TZNAME:CST
DTSTART:20321107T070000
END:STANDARD
END:VTIMEZONE
BEGIN:VEVENT
DTSTART;TZID=America/Chicago:20301208T091500
DTEND;TZID=America/Chicago:20301208T101500
DTSTAMP:20260424T090137
CREATED:20260127T133219Z
LAST-MODIFIED:20260127T133453Z
UID:10004353-1922951700-1922955300@fccunited.org
SUMMARY:Study Classes
DESCRIPTION:We offer classes for adults and for youth.
URL:https://fccunited.org/event/study-classes/2030-12-08/
CATEGORIES:Bible Study
ATTACH;FMTTYPE=image/jpeg:https://fccunited.org/wp-content/uploads/2026/01/study-class.jpg
END:VEVENT
BEGIN:VEVENT
DTSTART;TZID=America/Chicago:20301208T102500
DTEND;TZID=America/Chicago:20301208T113000
DTSTAMP:20260424T090137
CREATED:20260325T123948Z
LAST-MODIFIED:20260325T123948Z
UID:10005726-1922955900-1922959800@fccunited.org
SUMMARY:Sunday Worship
DESCRIPTION:
URL:https://fccunited.org/event/sunday-worship/2030-12-08/
CATEGORIES:Worship
END:VEVENT
BEGIN:VEVENT
DTSTART;TZID=America/Chicago:20301209T190000
DTEND;TZID=America/Chicago:20301209T203000
DTSTAMP:20260424T090137
CREATED:20260227T135325Z
LAST-MODIFIED:20260227T135325Z
UID:10005455-1923073200-1923078600@fccunited.org
SUMMARY:Agape Men
DESCRIPTION:
URL:https://fccunited.org/event/agape-men-2/2030-12-09/
CATEGORIES:Fellowship
ATTACH;FMTTYPE=image/jpeg:https://fccunited.org/wp-content/uploads/2026/02/20260309-agape-men.jpg
END:VEVENT
BEGIN:VEVENT
DTSTART;TZID=America/Chicago:20301211T160000
DTEND;TZID=America/Chicago:20301211T170000
DTSTAMP:20260424T090137
CREATED:20260221T121225Z
LAST-MODIFIED:20260221T122346Z
UID:10005000-1923235200-1923238800@fccunited.org
SUMMARY:Hour of Prayer
DESCRIPTION:
URL:https://fccunited.org/event/hour-of-prayer/2030-12-11/
CATEGORIES:Fellowship
ATTACH;FMTTYPE=image/jpeg:https://fccunited.org/wp-content/uploads/2026/02/hour-of-prayer-1.jpg
END:VEVENT
BEGIN:VEVENT
DTSTART;TZID=America/Chicago:20301211T170000
DTEND;TZID=America/Chicago:20301211T190000
DTSTAMP:20260424T090137
CREATED:20260221T121346Z
LAST-MODIFIED:20260221T121447Z
UID:10005261-1923238800-1923246000@fccunited.org
SUMMARY:Midweek Connection
DESCRIPTION:
URL:https://fccunited.org/event/midweek-connection/2030-12-11/
CATEGORIES:Fellowship
ATTACH;FMTTYPE=image/jpeg:https://fccunited.org/wp-content/uploads/2026/02/midweek-connection-3.jpg
END:VEVENT
BEGIN:VEVENT
DTSTART;TZID=America/Chicago:20301211T190000
DTEND;TZID=America/Chicago:20301211T200000
DTSTAMP:20260424T090137
CREATED:20260108T163528Z
LAST-MODIFIED:20260210T171104Z
UID:10003725-1923246000-1923249600@fccunited.org
SUMMARY:Choir Practice
DESCRIPTION:
URL:https://fccunited.org/event/choir-practice-4/2030-12-11/
CATEGORIES:Worship
ATTACH;FMTTYPE=image/jpeg:https://fccunited.org/wp-content/uploads/2026/01/choir-practice.jpg
END:VEVENT
BEGIN:VEVENT
DTSTART;TZID=America/Chicago:20301212T100000
DTEND;TZID=America/Chicago:20301212T110000
DTSTAMP:20260424T090137
CREATED:20251112T171206Z
LAST-MODIFIED:20260112T171425Z
UID:10003463-1923300000-1923303600@fccunited.org
SUMMARY:MOMCo 2nd Thursdays
DESCRIPTION:
URL:https://fccunited.org/event/momco/2030-12-12/
CATEGORIES:Ministries
ATTACH;FMTTYPE=image/png:https://fccunited.org/wp-content/uploads/2025/11/momco-mothers-of-preschoolers-1-1.png
END:VEVENT
BEGIN:VEVENT
DTSTART;TZID=America/Chicago:20301214T100000
DTEND;TZID=America/Chicago:20301214T113000
DTSTAMP:20260424T090137
CREATED:20260224T200455Z
LAST-MODIFIED:20260224T200455Z
UID:10005394-1923472800-1923478200@fccunited.org
SUMMARY:Pin Pal Sewing Ministry
DESCRIPTION:
URL:https://fccunited.org/event/pin-pal-sewing-ministry/2030-12-14/
CATEGORIES:Fellowship
ATTACH;FMTTYPE=image/jpeg:https://fccunited.org/wp-content/uploads/2026/02/20260214-sewing-ministry.jpg
END:VEVENT
BEGIN:VEVENT
DTSTART;TZID=America/Chicago:20301215T091500
DTEND;TZID=America/Chicago:20301215T101500
DTSTAMP:20260424T090137
CREATED:20260127T133219Z
LAST-MODIFIED:20260127T133453Z
UID:10004354-1923556500-1923560100@fccunited.org
SUMMARY:Study Classes
DESCRIPTION:We offer classes for adults and for youth.
URL:https://fccunited.org/event/study-classes/2030-12-15/
CATEGORIES:Bible Study
ATTACH;FMTTYPE=image/jpeg:https://fccunited.org/wp-content/uploads/2026/01/study-class.jpg
END:VEVENT
BEGIN:VEVENT
DTSTART;TZID=America/Chicago:20301215T102500
DTEND;TZID=America/Chicago:20301215T113000
DTSTAMP:20260424T090137
CREATED:20260325T123948Z
LAST-MODIFIED:20260325T123948Z
UID:10005727-1923560700-1923564600@fccunited.org
SUMMARY:Sunday Worship
DESCRIPTION:
URL:https://fccunited.org/event/sunday-worship/2030-12-15/
CATEGORIES:Worship
END:VEVENT
BEGIN:VEVENT
DTSTART;TZID=America/Chicago:20301218T160000
DTEND;TZID=America/Chicago:20301218T170000
DTSTAMP:20260424T090137
CREATED:20260221T121225Z
LAST-MODIFIED:20260221T122346Z
UID:10005001-1923840000-1923843600@fccunited.org
SUMMARY:Hour of Prayer
DESCRIPTION:
URL:https://fccunited.org/event/hour-of-prayer/2030-12-18/
CATEGORIES:Fellowship
ATTACH;FMTTYPE=image/jpeg:https://fccunited.org/wp-content/uploads/2026/02/hour-of-prayer-1.jpg
END:VEVENT
BEGIN:VEVENT
DTSTART;TZID=America/Chicago:20301218T170000
DTEND;TZID=America/Chicago:20301218T190000
DTSTAMP:20260424T090137
CREATED:20260221T121346Z
LAST-MODIFIED:20260221T121447Z
UID:10005262-1923843600-1923850800@fccunited.org
SUMMARY:Midweek Connection
DESCRIPTION:
URL:https://fccunited.org/event/midweek-connection/2030-12-18/
CATEGORIES:Fellowship
ATTACH;FMTTYPE=image/jpeg:https://fccunited.org/wp-content/uploads/2026/02/midweek-connection-3.jpg
END:VEVENT
BEGIN:VEVENT
DTSTART;TZID=America/Chicago:20301218T190000
DTEND;TZID=America/Chicago:20301218T200000
DTSTAMP:20260424T090137
CREATED:20260108T163528Z
LAST-MODIFIED:20260210T171104Z
UID:10003726-1923850800-1923854400@fccunited.org
SUMMARY:Choir Practice
DESCRIPTION:
URL:https://fccunited.org/event/choir-practice-4/2030-12-18/
CATEGORIES:Worship
ATTACH;FMTTYPE=image/jpeg:https://fccunited.org/wp-content/uploads/2026/01/choir-practice.jpg
END:VEVENT
BEGIN:VEVENT
DTSTART;TZID=America/Chicago:20301222T081500
DTEND;TZID=America/Chicago:20301222T091500
DTSTAMP:20260424T090137
CREATED:20260221T120438Z
LAST-MODIFIED:20260221T120438Z
UID:10004748-1924157700-1924161300@fccunited.org
SUMMARY:Elders Meeting
DESCRIPTION:
URL:https://fccunited.org/event/elders-meeting/2030-12-22/
CATEGORIES:Fellowship
ATTACH;FMTTYPE=image/jpeg:https://fccunited.org/wp-content/uploads/2026/02/20260125-elder-meeting.jpg
END:VEVENT
BEGIN:VEVENT
DTSTART;TZID=America/Chicago:20301222T091500
DTEND;TZID=America/Chicago:20301222T101500
DTSTAMP:20260424T090137
CREATED:20260127T133219Z
LAST-MODIFIED:20260127T133453Z
UID:10004355-1924161300-1924164900@fccunited.org
SUMMARY:Study Classes
DESCRIPTION:We offer classes for adults and for youth.
URL:https://fccunited.org/event/study-classes/2030-12-22/
CATEGORIES:Bible Study
ATTACH;FMTTYPE=image/jpeg:https://fccunited.org/wp-content/uploads/2026/01/study-class.jpg
END:VEVENT
BEGIN:VEVENT
DTSTART;TZID=America/Chicago:20301222T102500
DTEND;TZID=America/Chicago:20301222T113000
DTSTAMP:20260424T090137
CREATED:20260325T123948Z
LAST-MODIFIED:20260325T123948Z
UID:10005728-1924165500-1924169400@fccunited.org
SUMMARY:Sunday Worship
DESCRIPTION:
URL:https://fccunited.org/event/sunday-worship/2030-12-22/
CATEGORIES:Worship
END:VEVENT
BEGIN:VEVENT
DTSTART;TZID=America/Chicago:20301224T190000
DTEND;TZID=America/Chicago:20301224T203000
DTSTAMP:20260424T090137
CREATED:20260127T122330Z
LAST-MODIFIED:20260127T131202Z
UID:10004039-1924369200-1924374600@fccunited.org
SUMMARY:Potpourri Ladies
DESCRIPTION:
URL:https://fccunited.org/event/potpourri-ladies/2030-12-24/
CATEGORIES:Fellowship
ATTACH;FMTTYPE=image/jpeg:https://fccunited.org/wp-content/uploads/2026/01/20260127-potpourri-ladies-1.jpg
END:VEVENT
BEGIN:VEVENT
DTSTART;TZID=America/Chicago:20301225T160000
DTEND;TZID=America/Chicago:20301225T170000
DTSTAMP:20260424T090137
CREATED:20260221T121225Z
LAST-MODIFIED:20260221T122346Z
UID:10005002-1924444800-1924448400@fccunited.org
SUMMARY:Hour of Prayer
DESCRIPTION:
URL:https://fccunited.org/event/hour-of-prayer/2030-12-25/
CATEGORIES:Fellowship
ATTACH;FMTTYPE=image/jpeg:https://fccunited.org/wp-content/uploads/2026/02/hour-of-prayer-1.jpg
END:VEVENT
BEGIN:VEVENT
DTSTART;TZID=America/Chicago:20301225T170000
DTEND;TZID=America/Chicago:20301225T190000
DTSTAMP:20260424T090137
CREATED:20260221T121346Z
LAST-MODIFIED:20260221T121447Z
UID:10005263-1924448400-1924455600@fccunited.org
SUMMARY:Midweek Connection
DESCRIPTION:
URL:https://fccunited.org/event/midweek-connection/2030-12-25/
CATEGORIES:Fellowship
ATTACH;FMTTYPE=image/jpeg:https://fccunited.org/wp-content/uploads/2026/02/midweek-connection-3.jpg
END:VEVENT
BEGIN:VEVENT
DTSTART;TZID=America/Chicago:20301225T190000
DTEND;TZID=America/Chicago:20301225T200000
DTSTAMP:20260424T090137
CREATED:20260108T163528Z
LAST-MODIFIED:20260210T171104Z
UID:10003727-1924455600-1924459200@fccunited.org
SUMMARY:Choir Practice
DESCRIPTION:
URL:https://fccunited.org/event/choir-practice-4/2030-12-25/
CATEGORIES:Worship
ATTACH;FMTTYPE=image/jpeg:https://fccunited.org/wp-content/uploads/2026/01/choir-practice.jpg
END:VEVENT
BEGIN:VEVENT
DTSTART;TZID=America/Chicago:20301226T100000
DTEND;TZID=America/Chicago:20301226T233000
DTSTAMP:20260424T090137
CREATED:20260216T125355Z
LAST-MODIFIED:20260415T134412Z
UID:10004687-1924509600-1924558200@fccunited.org
SUMMARY:MomCo
DESCRIPTION:Mom\, join us for faith\, fun\, and fellowship the fourth Thursday of each month.  Childcare is provided. \nCall 972-446-9808 for more information.
URL:https://fccunited.org/event/momco-1000-a-m-2/2030-12-26/
CATEGORIES:Fellowship
ATTACH;FMTTYPE=image/jpeg:https://fccunited.org/wp-content/uploads/2026/02/20260122-momco-3.jpg
END:VEVENT
BEGIN:VEVENT
DTSTART;TZID=America/Chicago:20301229T091500
DTEND;TZID=America/Chicago:20301229T101500
DTSTAMP:20260424T090137
CREATED:20260127T133219Z
LAST-MODIFIED:20260127T133453Z
UID:10004356-1924766100-1924769700@fccunited.org
SUMMARY:Study Classes
DESCRIPTION:We offer classes for adults and for youth.
URL:https://fccunited.org/event/study-classes/2030-12-29/
CATEGORIES:Bible Study
ATTACH;FMTTYPE=image/jpeg:https://fccunited.org/wp-content/uploads/2026/01/study-class.jpg
END:VEVENT
BEGIN:VEVENT
DTSTART;TZID=America/Chicago:20301229T102500
DTEND;TZID=America/Chicago:20301229T113000
DTSTAMP:20260424T090137
CREATED:20260325T123948Z
LAST-MODIFIED:20260325T123948Z
UID:10005729-1924770300-1924774200@fccunited.org
SUMMARY:Sunday Worship
DESCRIPTION:
URL:https://fccunited.org/event/sunday-worship/2030-12-29/
CATEGORIES:Worship
END:VEVENT
BEGIN:VEVENT
DTSTART;TZID=America/Chicago:20310101T160000
DTEND;TZID=America/Chicago:20310101T170000
DTSTAMP:20260424T090137
CREATED:20260221T121225Z
LAST-MODIFIED:20260221T122346Z
UID:10005003-1925049600-1925053200@fccunited.org
SUMMARY:Hour of Prayer
DESCRIPTION:
URL:https://fccunited.org/event/hour-of-prayer/2031-01-01/
CATEGORIES:Fellowship
ATTACH;FMTTYPE=image/jpeg:https://fccunited.org/wp-content/uploads/2026/02/hour-of-prayer-1.jpg
END:VEVENT
BEGIN:VEVENT
DTSTART;TZID=America/Chicago:20310101T170000
DTEND;TZID=America/Chicago:20310101T190000
DTSTAMP:20260424T090137
CREATED:20260221T121346Z
LAST-MODIFIED:20260221T121447Z
UID:10005264-1925053200-1925060400@fccunited.org
SUMMARY:Midweek Connection
DESCRIPTION:
URL:https://fccunited.org/event/midweek-connection/2031-01-01/
CATEGORIES:Fellowship
ATTACH;FMTTYPE=image/jpeg:https://fccunited.org/wp-content/uploads/2026/02/midweek-connection-3.jpg
END:VEVENT
BEGIN:VEVENT
DTSTART;TZID=America/Chicago:20310101T190000
DTEND;TZID=America/Chicago:20310101T200000
DTSTAMP:20260424T090137
CREATED:20260108T163528Z
LAST-MODIFIED:20260210T171104Z
UID:10003728-1925060400-1925064000@fccunited.org
SUMMARY:Choir Practice
DESCRIPTION:
URL:https://fccunited.org/event/choir-practice-4/2031-01-01/
CATEGORIES:Worship
ATTACH;FMTTYPE=image/jpeg:https://fccunited.org/wp-content/uploads/2026/01/choir-practice.jpg
END:VEVENT
BEGIN:VEVENT
DTSTART;TZID=America/Chicago:20310104T083000
DTEND;TZID=America/Chicago:20310104T123000
DTSTAMP:20260424T090137
CREATED:20260421T113553Z
LAST-MODIFIED:20260421T114056Z
UID:10005909-1925281800-1925296200@fccunited.org
SUMMARY:Shipwright Food Pantry
DESCRIPTION:Shipwrights Food Pantry Ministry\n\nOn the 1st and 3rd Saturday of each month\, the Shipwrights Food Pantry provides a hot meal\,  groceries and other items for those facing food insecurity in Lewisville and the surrounding area. \nIf you would like to participate in this ministry\,  the time runs from 8:30am - 12:30pm.  Volunteers meet in the Serenity Church/FCCU parking lot at 8:30 on the 1st and 3rd Saturday of the month for preparations. \nFor more information reach out to Ken Blackerby at: 817-492-6983
URL:https://fccunited.org/event/shipwright-food-pantry/2031-01-04/
CATEGORIES:Ministries
ATTACH;FMTTYPE=image/png:https://fccunited.org/wp-content/uploads/2026/04/shipwrights-food-pantry.png
END:VEVENT
BEGIN:VEVENT
DTSTART;TZID=America/Chicago:20310105T091500
DTEND;TZID=America/Chicago:20310105T101500
DTSTAMP:20260424T090137
CREATED:20260127T133219Z
LAST-MODIFIED:20260127T133453Z
UID:10004357-1925370900-1925374500@fccunited.org
SUMMARY:Study Classes
DESCRIPTION:We offer classes for adults and for youth.
URL:https://fccunited.org/event/study-classes/2031-01-05/
CATEGORIES:Bible Study
ATTACH;FMTTYPE=image/jpeg:https://fccunited.org/wp-content/uploads/2026/01/study-class.jpg
END:VEVENT
BEGIN:VEVENT
DTSTART;TZID=America/Chicago:20310105T102500
DTEND;TZID=America/Chicago:20310105T113000
DTSTAMP:20260424T090137
CREATED:20260325T123948Z
LAST-MODIFIED:20260325T123948Z
UID:10005730-1925375100-1925379000@fccunited.org
SUMMARY:Sunday Worship
DESCRIPTION:
URL:https://fccunited.org/event/sunday-worship/2031-01-05/
CATEGORIES:Worship
END:VEVENT
BEGIN:VEVENT
DTSTART;TZID=America/Chicago:20310105T103000
DTEND;TZID=America/Chicago:20310105T113000
DTSTAMP:20260424T090138
CREATED:20260127T131829Z
LAST-MODIFIED:20260127T131829Z
UID:10004099-1925375400-1925379000@fccunited.org
SUMMARY:First Fruits Sunday
DESCRIPTION:Collecting non-perishables for CCA and Metrocrest Social Services.
URL:https://fccunited.org/event/first-fruits-sunday/2031-01-05/
CATEGORIES:Ministries
ATTACH;FMTTYPE=image/jpeg:https://fccunited.org/wp-content/uploads/2026/01/first-fruits-and-toilet-paper-sunday.jpg
END:VEVENT
END:VCALENDAR