BEGIN:VCALENDAR
VERSION:2.0
PRODID:-//First Christian Church  United Lewisville, Texas - ECPv6.15.14//NONSGML v1.0//EN
CALSCALE:GREGORIAN
METHOD:PUBLISH
X-ORIGINAL-URL:https://fccunited.org
X-WR-CALDESC:Events for First Christian Church  United Lewisville, Texas
REFRESH-INTERVAL;VALUE=DURATION:PT1H
X-Robots-Tag:noindex
X-PUBLISHED-TTL:PT1H
BEGIN:VTIMEZONE
TZID:America/Chicago
BEGIN:DAYLIGHT
TZOFFSETFROM:-0600
TZOFFSETTO:-0500
TZNAME:CDT
DTSTART:20270314T080000
END:DAYLIGHT
BEGIN:STANDARD
TZOFFSETFROM:-0500
TZOFFSETTO:-0600
TZNAME:CST
DTSTART:20271107T070000
END:STANDARD
BEGIN:DAYLIGHT
TZOFFSETFROM:-0600
TZOFFSETTO:-0500
TZNAME:CDT
DTSTART:20280312T080000
END:DAYLIGHT
BEGIN:STANDARD
TZOFFSETFROM:-0500
TZOFFSETTO:-0600
TZNAME:CST
DTSTART:20281105T070000
END:STANDARD
BEGIN:DAYLIGHT
TZOFFSETFROM:-0600
TZOFFSETTO:-0500
TZNAME:CDT
DTSTART:20290311T080000
END:DAYLIGHT
BEGIN:STANDARD
TZOFFSETFROM:-0500
TZOFFSETTO:-0600
TZNAME:CST
DTSTART:20291104T070000
END:STANDARD
END:VTIMEZONE
BEGIN:VEVENT
DTSTART;TZID=America/Chicago:20280928T100000
DTEND;TZID=America/Chicago:20280928T233000
DTSTAMP:20260422T170207
CREATED:20260216T125355Z
LAST-MODIFIED:20260415T134412Z
UID:10004660-1853748000-1853796600@fccunited.org
SUMMARY:MomCo
DESCRIPTION:Mom\, join us for faith\, fun\, and fellowship the fourth Thursday of each month.  Childcare is provided. \nCall 972-446-9808 for more information.
URL:https://fccunited.org/event/momco-1000-a-m-2/2028-09-28/
CATEGORIES:Fellowship
ATTACH;FMTTYPE=image/jpeg:https://fccunited.org/wp-content/uploads/2026/02/20260122-momco-3.jpg
END:VEVENT
BEGIN:VEVENT
DTSTART;TZID=America/Chicago:20281001T091500
DTEND;TZID=America/Chicago:20281001T101500
DTSTAMP:20260422T170207
CREATED:20260127T133219Z
LAST-MODIFIED:20260127T133453Z
UID:10004239-1854004500-1854008100@fccunited.org
SUMMARY:Study Classes
DESCRIPTION:We offer classes for adults and for youth.
URL:https://fccunited.org/event/study-classes/2028-10-01/
CATEGORIES:Bible Study
ATTACH;FMTTYPE=image/jpeg:https://fccunited.org/wp-content/uploads/2026/01/study-class.jpg
END:VEVENT
BEGIN:VEVENT
DTSTART;TZID=America/Chicago:20281001T102500
DTEND;TZID=America/Chicago:20281001T113000
DTSTAMP:20260422T170207
CREATED:20260325T123948Z
LAST-MODIFIED:20260325T123948Z
UID:10005612-1854008700-1854012600@fccunited.org
SUMMARY:Sunday Worship
DESCRIPTION:
URL:https://fccunited.org/event/sunday-worship/2028-10-01/
CATEGORIES:Worship
END:VEVENT
BEGIN:VEVENT
DTSTART;TZID=America/Chicago:20281001T103000
DTEND;TZID=America/Chicago:20281001T113000
DTSTAMP:20260422T170207
CREATED:20260127T131829Z
LAST-MODIFIED:20260127T131829Z
UID:10004072-1854009000-1854012600@fccunited.org
SUMMARY:First Fruits Sunday
DESCRIPTION:Collecting non-perishables for CCA and Metrocrest Social Services.
URL:https://fccunited.org/event/first-fruits-sunday/2028-10-01/
CATEGORIES:Ministries
ATTACH;FMTTYPE=image/jpeg:https://fccunited.org/wp-content/uploads/2026/01/first-fruits-and-toilet-paper-sunday.jpg
END:VEVENT
BEGIN:VEVENT
DTSTART;TZID=America/Chicago:20281001T113000
DTEND;TZID=America/Chicago:20281001T123000
DTSTAMP:20260422T170207
CREATED:20260311T144206Z
LAST-MODIFIED:20260311T144208Z
UID:10005308-1854012600-1854016200@fccunited.org
SUMMARY:Fellowship Lunch
DESCRIPTION:
URL:https://fccunited.org/event/fellowship-lunch-2-2/2028-10-01/
LOCATION:Praise in the Morning Devotional - November 30\, 2025
CATEGORIES:Fellowship
END:VEVENT
BEGIN:VEVENT
DTSTART;TZID=America/Chicago:20281004T160000
DTEND;TZID=America/Chicago:20281004T170000
DTSTAMP:20260422T170207
CREATED:20260221T121225Z
LAST-MODIFIED:20260221T122346Z
UID:10004886-1854288000-1854291600@fccunited.org
SUMMARY:Hour of Prayer
DESCRIPTION:
URL:https://fccunited.org/event/hour-of-prayer/2028-10-04/
CATEGORIES:Fellowship
ATTACH;FMTTYPE=image/jpeg:https://fccunited.org/wp-content/uploads/2026/02/hour-of-prayer-1.jpg
END:VEVENT
BEGIN:VEVENT
DTSTART;TZID=America/Chicago:20281004T170000
DTEND;TZID=America/Chicago:20281004T190000
DTSTAMP:20260422T170207
CREATED:20260221T121346Z
LAST-MODIFIED:20260221T121447Z
UID:10005147-1854291600-1854298800@fccunited.org
SUMMARY:Midweek Connection
DESCRIPTION:
URL:https://fccunited.org/event/midweek-connection/2028-10-04/
CATEGORIES:Fellowship
ATTACH;FMTTYPE=image/jpeg:https://fccunited.org/wp-content/uploads/2026/02/midweek-connection-3.jpg
END:VEVENT
BEGIN:VEVENT
DTSTART;TZID=America/Chicago:20281004T190000
DTEND;TZID=America/Chicago:20281004T200000
DTSTAMP:20260422T170207
CREATED:20260108T163528Z
LAST-MODIFIED:20260210T171104Z
UID:10003611-1854298800-1854302400@fccunited.org
SUMMARY:Choir Practice
DESCRIPTION:
URL:https://fccunited.org/event/choir-practice-4/2028-10-04/
CATEGORIES:Worship
ATTACH;FMTTYPE=image/jpeg:https://fccunited.org/wp-content/uploads/2026/01/choir-practice.jpg
END:VEVENT
BEGIN:VEVENT
DTSTART;TZID=America/Chicago:20281007T083000
DTEND;TZID=America/Chicago:20281007T123000
DTSTAMP:20260422T170207
CREATED:20260421T113553Z
LAST-MODIFIED:20260421T114056Z
UID:10005933-1854520200-1854534600@fccunited.org
SUMMARY:Shipwright Food Pantry
DESCRIPTION:Shipwrights Food Pantry Ministry\n\nOn the 1st and 3rd Saturday of each month\, the Shipwrights Food Pantry provides a hot meal\,  groceries and other items for those facing food insecurity in Lewisville and the surrounding area. \nIf you would like to participate in this ministry\,  the time runs from 8:30am - 12:30pm.  Volunteers meet in the Serenity Church/FCCU parking lot at 8:30 on the 1st and 3rd Saturday of the month for preparations. \nFor more information reach out to Ken Blackerby at: 817-492-6983
URL:https://fccunited.org/event/shipwright-food-pantry/2028-10-07/
CATEGORIES:Ministries
ATTACH;FMTTYPE=image/png:https://fccunited.org/wp-content/uploads/2026/04/shipwrights-food-pantry.png
END:VEVENT
BEGIN:VEVENT
DTSTART;TZID=America/Chicago:20281008T091500
DTEND;TZID=America/Chicago:20281008T101500
DTSTAMP:20260422T170207
CREATED:20260127T133219Z
LAST-MODIFIED:20260127T133453Z
UID:10004240-1854609300-1854612900@fccunited.org
SUMMARY:Study Classes
DESCRIPTION:We offer classes for adults and for youth.
URL:https://fccunited.org/event/study-classes/2028-10-08/
CATEGORIES:Bible Study
ATTACH;FMTTYPE=image/jpeg:https://fccunited.org/wp-content/uploads/2026/01/study-class.jpg
END:VEVENT
BEGIN:VEVENT
DTSTART;TZID=America/Chicago:20281008T102500
DTEND;TZID=America/Chicago:20281008T113000
DTSTAMP:20260422T170207
CREATED:20260325T123948Z
LAST-MODIFIED:20260325T123948Z
UID:10005613-1854613500-1854617400@fccunited.org
SUMMARY:Sunday Worship
DESCRIPTION:
URL:https://fccunited.org/event/sunday-worship/2028-10-08/
CATEGORIES:Worship
END:VEVENT
BEGIN:VEVENT
DTSTART;TZID=America/Chicago:20281009T190000
DTEND;TZID=America/Chicago:20281009T203000
DTSTAMP:20260422T170207
CREATED:20260227T135325Z
LAST-MODIFIED:20260227T135325Z
UID:10005429-1854730800-1854736200@fccunited.org
SUMMARY:Agape Men
DESCRIPTION:
URL:https://fccunited.org/event/agape-men-2/2028-10-09/
CATEGORIES:Fellowship
ATTACH;FMTTYPE=image/jpeg:https://fccunited.org/wp-content/uploads/2026/02/20260309-agape-men.jpg
END:VEVENT
BEGIN:VEVENT
DTSTART;TZID=America/Chicago:20281011T160000
DTEND;TZID=America/Chicago:20281011T170000
DTSTAMP:20260422T170207
CREATED:20260221T121225Z
LAST-MODIFIED:20260221T122346Z
UID:10004887-1854892800-1854896400@fccunited.org
SUMMARY:Hour of Prayer
DESCRIPTION:
URL:https://fccunited.org/event/hour-of-prayer/2028-10-11/
CATEGORIES:Fellowship
ATTACH;FMTTYPE=image/jpeg:https://fccunited.org/wp-content/uploads/2026/02/hour-of-prayer-1.jpg
END:VEVENT
BEGIN:VEVENT
DTSTART;TZID=America/Chicago:20281011T170000
DTEND;TZID=America/Chicago:20281011T190000
DTSTAMP:20260422T170207
CREATED:20260221T121346Z
LAST-MODIFIED:20260221T121447Z
UID:10005148-1854896400-1854903600@fccunited.org
SUMMARY:Midweek Connection
DESCRIPTION:
URL:https://fccunited.org/event/midweek-connection/2028-10-11/
CATEGORIES:Fellowship
ATTACH;FMTTYPE=image/jpeg:https://fccunited.org/wp-content/uploads/2026/02/midweek-connection-3.jpg
END:VEVENT
BEGIN:VEVENT
DTSTART;TZID=America/Chicago:20281011T190000
DTEND;TZID=America/Chicago:20281011T200000
DTSTAMP:20260422T170207
CREATED:20260108T163528Z
LAST-MODIFIED:20260210T171104Z
UID:10003612-1854903600-1854907200@fccunited.org
SUMMARY:Choir Practice
DESCRIPTION:
URL:https://fccunited.org/event/choir-practice-4/2028-10-11/
CATEGORIES:Worship
ATTACH;FMTTYPE=image/jpeg:https://fccunited.org/wp-content/uploads/2026/01/choir-practice.jpg
END:VEVENT
BEGIN:VEVENT
DTSTART;TZID=America/Chicago:20281014T100000
DTEND;TZID=America/Chicago:20281014T113000
DTSTAMP:20260422T170207
CREATED:20260224T200455Z
LAST-MODIFIED:20260224T200455Z
UID:10005368-1855130400-1855135800@fccunited.org
SUMMARY:Pin Pal Sewing Ministry
DESCRIPTION:
URL:https://fccunited.org/event/pin-pal-sewing-ministry/2028-10-14/
CATEGORIES:Fellowship
ATTACH;FMTTYPE=image/jpeg:https://fccunited.org/wp-content/uploads/2026/02/20260214-sewing-ministry.jpg
END:VEVENT
BEGIN:VEVENT
DTSTART;TZID=America/Chicago:20281015T091500
DTEND;TZID=America/Chicago:20281015T101500
DTSTAMP:20260422T170207
CREATED:20260127T133219Z
LAST-MODIFIED:20260127T133453Z
UID:10004241-1855214100-1855217700@fccunited.org
SUMMARY:Study Classes
DESCRIPTION:We offer classes for adults and for youth.
URL:https://fccunited.org/event/study-classes/2028-10-15/
CATEGORIES:Bible Study
ATTACH;FMTTYPE=image/jpeg:https://fccunited.org/wp-content/uploads/2026/01/study-class.jpg
END:VEVENT
BEGIN:VEVENT
DTSTART;TZID=America/Chicago:20281015T102500
DTEND;TZID=America/Chicago:20281015T113000
DTSTAMP:20260422T170207
CREATED:20260325T123948Z
LAST-MODIFIED:20260325T123948Z
UID:10005614-1855218300-1855222200@fccunited.org
SUMMARY:Sunday Worship
DESCRIPTION:
URL:https://fccunited.org/event/sunday-worship/2028-10-15/
CATEGORIES:Worship
END:VEVENT
BEGIN:VEVENT
DTSTART;TZID=America/Chicago:20281018T160000
DTEND;TZID=America/Chicago:20281018T170000
DTSTAMP:20260422T170207
CREATED:20260221T121225Z
LAST-MODIFIED:20260221T122346Z
UID:10004888-1855497600-1855501200@fccunited.org
SUMMARY:Hour of Prayer
DESCRIPTION:
URL:https://fccunited.org/event/hour-of-prayer/2028-10-18/
CATEGORIES:Fellowship
ATTACH;FMTTYPE=image/jpeg:https://fccunited.org/wp-content/uploads/2026/02/hour-of-prayer-1.jpg
END:VEVENT
BEGIN:VEVENT
DTSTART;TZID=America/Chicago:20281018T170000
DTEND;TZID=America/Chicago:20281018T190000
DTSTAMP:20260422T170207
CREATED:20260221T121346Z
LAST-MODIFIED:20260221T121447Z
UID:10005149-1855501200-1855508400@fccunited.org
SUMMARY:Midweek Connection
DESCRIPTION:
URL:https://fccunited.org/event/midweek-connection/2028-10-18/
CATEGORIES:Fellowship
ATTACH;FMTTYPE=image/jpeg:https://fccunited.org/wp-content/uploads/2026/02/midweek-connection-3.jpg
END:VEVENT
BEGIN:VEVENT
DTSTART;TZID=America/Chicago:20281018T190000
DTEND;TZID=America/Chicago:20281018T200000
DTSTAMP:20260422T170207
CREATED:20260108T163528Z
LAST-MODIFIED:20260210T171104Z
UID:10003613-1855508400-1855512000@fccunited.org
SUMMARY:Choir Practice
DESCRIPTION:
URL:https://fccunited.org/event/choir-practice-4/2028-10-18/
CATEGORIES:Worship
ATTACH;FMTTYPE=image/jpeg:https://fccunited.org/wp-content/uploads/2026/01/choir-practice.jpg
END:VEVENT
BEGIN:VEVENT
DTSTART;TZID=America/Chicago:20281022T081500
DTEND;TZID=America/Chicago:20281022T091500
DTSTAMP:20260422T170207
CREATED:20260221T120438Z
LAST-MODIFIED:20260221T120438Z
UID:10004722-1855815300-1855818900@fccunited.org
SUMMARY:Elders Meeting
DESCRIPTION:
URL:https://fccunited.org/event/elders-meeting/2028-10-22/
CATEGORIES:Fellowship
ATTACH;FMTTYPE=image/jpeg:https://fccunited.org/wp-content/uploads/2026/02/20260125-elder-meeting.jpg
END:VEVENT
BEGIN:VEVENT
DTSTART;TZID=America/Chicago:20281022T091500
DTEND;TZID=America/Chicago:20281022T101500
DTSTAMP:20260422T170207
CREATED:20260127T133219Z
LAST-MODIFIED:20260127T133453Z
UID:10004242-1855818900-1855822500@fccunited.org
SUMMARY:Study Classes
DESCRIPTION:We offer classes for adults and for youth.
URL:https://fccunited.org/event/study-classes/2028-10-22/
CATEGORIES:Bible Study
ATTACH;FMTTYPE=image/jpeg:https://fccunited.org/wp-content/uploads/2026/01/study-class.jpg
END:VEVENT
BEGIN:VEVENT
DTSTART;TZID=America/Chicago:20281022T102500
DTEND;TZID=America/Chicago:20281022T113000
DTSTAMP:20260422T170207
CREATED:20260325T123948Z
LAST-MODIFIED:20260325T123948Z
UID:10005615-1855823100-1855827000@fccunited.org
SUMMARY:Sunday Worship
DESCRIPTION:
URL:https://fccunited.org/event/sunday-worship/2028-10-22/
CATEGORIES:Worship
END:VEVENT
BEGIN:VEVENT
DTSTART;TZID=America/Chicago:20281024T190000
DTEND;TZID=America/Chicago:20281024T203000
DTSTAMP:20260422T170207
CREATED:20260127T122330Z
LAST-MODIFIED:20260127T131202Z
UID:10004013-1856026800-1856032200@fccunited.org
SUMMARY:Potpourri Ladies
DESCRIPTION:
URL:https://fccunited.org/event/potpourri-ladies/2028-10-24/
CATEGORIES:Fellowship
ATTACH;FMTTYPE=image/jpeg:https://fccunited.org/wp-content/uploads/2026/01/20260127-potpourri-ladies-1.jpg
END:VEVENT
BEGIN:VEVENT
DTSTART;TZID=America/Chicago:20281025T160000
DTEND;TZID=America/Chicago:20281025T170000
DTSTAMP:20260422T170207
CREATED:20260221T121225Z
LAST-MODIFIED:20260221T122346Z
UID:10004889-1856102400-1856106000@fccunited.org
SUMMARY:Hour of Prayer
DESCRIPTION:
URL:https://fccunited.org/event/hour-of-prayer/2028-10-25/
CATEGORIES:Fellowship
ATTACH;FMTTYPE=image/jpeg:https://fccunited.org/wp-content/uploads/2026/02/hour-of-prayer-1.jpg
END:VEVENT
BEGIN:VEVENT
DTSTART;TZID=America/Chicago:20281025T170000
DTEND;TZID=America/Chicago:20281025T190000
DTSTAMP:20260422T170207
CREATED:20260221T121346Z
LAST-MODIFIED:20260221T121447Z
UID:10005150-1856106000-1856113200@fccunited.org
SUMMARY:Midweek Connection
DESCRIPTION:
URL:https://fccunited.org/event/midweek-connection/2028-10-25/
CATEGORIES:Fellowship
ATTACH;FMTTYPE=image/jpeg:https://fccunited.org/wp-content/uploads/2026/02/midweek-connection-3.jpg
END:VEVENT
BEGIN:VEVENT
DTSTART;TZID=America/Chicago:20281025T190000
DTEND;TZID=America/Chicago:20281025T200000
DTSTAMP:20260422T170207
CREATED:20260108T163528Z
LAST-MODIFIED:20260210T171104Z
UID:10003614-1856113200-1856116800@fccunited.org
SUMMARY:Choir Practice
DESCRIPTION:
URL:https://fccunited.org/event/choir-practice-4/2028-10-25/
CATEGORIES:Worship
ATTACH;FMTTYPE=image/jpeg:https://fccunited.org/wp-content/uploads/2026/01/choir-practice.jpg
END:VEVENT
BEGIN:VEVENT
DTSTART;TZID=America/Chicago:20281026T100000
DTEND;TZID=America/Chicago:20281026T233000
DTSTAMP:20260422T170207
CREATED:20260216T125355Z
LAST-MODIFIED:20260415T134412Z
UID:10004661-1856167200-1856215800@fccunited.org
SUMMARY:MomCo
DESCRIPTION:Mom\, join us for faith\, fun\, and fellowship the fourth Thursday of each month.  Childcare is provided. \nCall 972-446-9808 for more information.
URL:https://fccunited.org/event/momco-1000-a-m-2/2028-10-26/
CATEGORIES:Fellowship
ATTACH;FMTTYPE=image/jpeg:https://fccunited.org/wp-content/uploads/2026/02/20260122-momco-3.jpg
END:VEVENT
BEGIN:VEVENT
DTSTART;TZID=America/Chicago:20281029T091500
DTEND;TZID=America/Chicago:20281029T101500
DTSTAMP:20260422T170207
CREATED:20260127T133219Z
LAST-MODIFIED:20260127T133453Z
UID:10004243-1856423700-1856427300@fccunited.org
SUMMARY:Study Classes
DESCRIPTION:We offer classes for adults and for youth.
URL:https://fccunited.org/event/study-classes/2028-10-29/
CATEGORIES:Bible Study
ATTACH;FMTTYPE=image/jpeg:https://fccunited.org/wp-content/uploads/2026/01/study-class.jpg
END:VEVENT
END:VCALENDAR