BEGIN:VCALENDAR
VERSION:2.0
PRODID:-//First Christian Church  United Lewisville, Texas - ECPv6.15.14//NONSGML v1.0//EN
CALSCALE:GREGORIAN
METHOD:PUBLISH
X-ORIGINAL-URL:https://fccunited.org
X-WR-CALDESC:Events for First Christian Church  United Lewisville, Texas
REFRESH-INTERVAL;VALUE=DURATION:PT1H
X-Robots-Tag:noindex
X-PUBLISHED-TTL:PT1H
BEGIN:VTIMEZONE
TZID:America/Chicago
BEGIN:DAYLIGHT
TZOFFSETFROM:-0600
TZOFFSETTO:-0500
TZNAME:CDT
DTSTART:20280312T080000
END:DAYLIGHT
BEGIN:STANDARD
TZOFFSETFROM:-0500
TZOFFSETTO:-0600
TZNAME:CST
DTSTART:20281105T070000
END:STANDARD
BEGIN:DAYLIGHT
TZOFFSETFROM:-0600
TZOFFSETTO:-0500
TZNAME:CDT
DTSTART:20290311T080000
END:DAYLIGHT
BEGIN:STANDARD
TZOFFSETFROM:-0500
TZOFFSETTO:-0600
TZNAME:CST
DTSTART:20291104T070000
END:STANDARD
BEGIN:DAYLIGHT
TZOFFSETFROM:-0600
TZOFFSETTO:-0500
TZNAME:CDT
DTSTART:20300310T080000
END:DAYLIGHT
BEGIN:STANDARD
TZOFFSETFROM:-0500
TZOFFSETTO:-0600
TZNAME:CST
DTSTART:20301103T070000
END:STANDARD
END:VTIMEZONE
BEGIN:VEVENT
DTSTART;TZID=America/Chicago:20290110T190000
DTEND;TZID=America/Chicago:20290110T200000
DTSTAMP:20260422T165934
CREATED:20260108T163528Z
LAST-MODIFIED:20260210T171104Z
UID:10003625-1862766000-1862769600@fccunited.org
SUMMARY:Choir Practice
DESCRIPTION:
URL:https://fccunited.org/event/choir-practice-4/2029-01-10/
CATEGORIES:Worship
ATTACH;FMTTYPE=image/jpeg:https://fccunited.org/wp-content/uploads/2026/01/choir-practice.jpg
END:VEVENT
BEGIN:VEVENT
DTSTART;TZID=America/Chicago:20290113T100000
DTEND;TZID=America/Chicago:20290113T113000
DTSTAMP:20260422T165934
CREATED:20260224T200455Z
LAST-MODIFIED:20260224T200455Z
UID:10005371-1862992800-1862998200@fccunited.org
SUMMARY:Pin Pal Sewing Ministry
DESCRIPTION:
URL:https://fccunited.org/event/pin-pal-sewing-ministry/2029-01-13/
CATEGORIES:Fellowship
ATTACH;FMTTYPE=image/jpeg:https://fccunited.org/wp-content/uploads/2026/02/20260214-sewing-ministry.jpg
END:VEVENT
BEGIN:VEVENT
DTSTART;TZID=America/Chicago:20290114T091500
DTEND;TZID=America/Chicago:20290114T101500
DTSTAMP:20260422T165934
CREATED:20260127T133219Z
LAST-MODIFIED:20260127T133453Z
UID:10004254-1863076500-1863080100@fccunited.org
SUMMARY:Study Classes
DESCRIPTION:We offer classes for adults and for youth.
URL:https://fccunited.org/event/study-classes/2029-01-14/
CATEGORIES:Bible Study
ATTACH;FMTTYPE=image/jpeg:https://fccunited.org/wp-content/uploads/2026/01/study-class.jpg
END:VEVENT
BEGIN:VEVENT
DTSTART;TZID=America/Chicago:20290114T102500
DTEND;TZID=America/Chicago:20290114T113000
DTSTAMP:20260422T165934
CREATED:20260325T123948Z
LAST-MODIFIED:20260325T123948Z
UID:10005627-1863080700-1863084600@fccunited.org
SUMMARY:Sunday Worship
DESCRIPTION:
URL:https://fccunited.org/event/sunday-worship/2029-01-14/
CATEGORIES:Worship
END:VEVENT
BEGIN:VEVENT
DTSTART;TZID=America/Chicago:20290117T160000
DTEND;TZID=America/Chicago:20290117T170000
DTSTAMP:20260422T165934
CREATED:20260221T121225Z
LAST-MODIFIED:20260221T122346Z
UID:10004901-1863360000-1863363600@fccunited.org
SUMMARY:Hour of Prayer
DESCRIPTION:
URL:https://fccunited.org/event/hour-of-prayer/2029-01-17/
CATEGORIES:Fellowship
ATTACH;FMTTYPE=image/jpeg:https://fccunited.org/wp-content/uploads/2026/02/hour-of-prayer-1.jpg
END:VEVENT
BEGIN:VEVENT
DTSTART;TZID=America/Chicago:20290117T170000
DTEND;TZID=America/Chicago:20290117T190000
DTSTAMP:20260422T165934
CREATED:20260221T121346Z
LAST-MODIFIED:20260221T121447Z
UID:10005162-1863363600-1863370800@fccunited.org
SUMMARY:Midweek Connection
DESCRIPTION:
URL:https://fccunited.org/event/midweek-connection/2029-01-17/
CATEGORIES:Fellowship
ATTACH;FMTTYPE=image/jpeg:https://fccunited.org/wp-content/uploads/2026/02/midweek-connection-3.jpg
END:VEVENT
BEGIN:VEVENT
DTSTART;TZID=America/Chicago:20290117T190000
DTEND;TZID=America/Chicago:20290117T200000
DTSTAMP:20260422T165934
CREATED:20260108T163528Z
LAST-MODIFIED:20260210T171104Z
UID:10003626-1863370800-1863374400@fccunited.org
SUMMARY:Choir Practice
DESCRIPTION:
URL:https://fccunited.org/event/choir-practice-4/2029-01-17/
CATEGORIES:Worship
ATTACH;FMTTYPE=image/jpeg:https://fccunited.org/wp-content/uploads/2026/01/choir-practice.jpg
END:VEVENT
BEGIN:VEVENT
DTSTART;TZID=America/Chicago:20290121T091500
DTEND;TZID=America/Chicago:20290121T101500
DTSTAMP:20260422T165934
CREATED:20260127T133219Z
LAST-MODIFIED:20260127T133453Z
UID:10004255-1863681300-1863684900@fccunited.org
SUMMARY:Study Classes
DESCRIPTION:We offer classes for adults and for youth.
URL:https://fccunited.org/event/study-classes/2029-01-21/
CATEGORIES:Bible Study
ATTACH;FMTTYPE=image/jpeg:https://fccunited.org/wp-content/uploads/2026/01/study-class.jpg
END:VEVENT
BEGIN:VEVENT
DTSTART;TZID=America/Chicago:20290121T102500
DTEND;TZID=America/Chicago:20290121T113000
DTSTAMP:20260422T165934
CREATED:20260325T123948Z
LAST-MODIFIED:20260325T123948Z
UID:10005628-1863685500-1863689400@fccunited.org
SUMMARY:Sunday Worship
DESCRIPTION:
URL:https://fccunited.org/event/sunday-worship/2029-01-21/
CATEGORIES:Worship
END:VEVENT
BEGIN:VEVENT
DTSTART;TZID=America/Chicago:20290123T190000
DTEND;TZID=America/Chicago:20290123T203000
DTSTAMP:20260422T165934
CREATED:20260127T122330Z
LAST-MODIFIED:20260127T131202Z
UID:10004016-1863889200-1863894600@fccunited.org
SUMMARY:Potpourri Ladies
DESCRIPTION:
URL:https://fccunited.org/event/potpourri-ladies/2029-01-23/
CATEGORIES:Fellowship
ATTACH;FMTTYPE=image/jpeg:https://fccunited.org/wp-content/uploads/2026/01/20260127-potpourri-ladies-1.jpg
END:VEVENT
BEGIN:VEVENT
DTSTART;TZID=America/Chicago:20290124T160000
DTEND;TZID=America/Chicago:20290124T170000
DTSTAMP:20260422T165934
CREATED:20260221T121225Z
LAST-MODIFIED:20260221T122346Z
UID:10004902-1863964800-1863968400@fccunited.org
SUMMARY:Hour of Prayer
DESCRIPTION:
URL:https://fccunited.org/event/hour-of-prayer/2029-01-24/
CATEGORIES:Fellowship
ATTACH;FMTTYPE=image/jpeg:https://fccunited.org/wp-content/uploads/2026/02/hour-of-prayer-1.jpg
END:VEVENT
BEGIN:VEVENT
DTSTART;TZID=America/Chicago:20290124T170000
DTEND;TZID=America/Chicago:20290124T190000
DTSTAMP:20260422T165934
CREATED:20260221T121346Z
LAST-MODIFIED:20260221T121447Z
UID:10005163-1863968400-1863975600@fccunited.org
SUMMARY:Midweek Connection
DESCRIPTION:
URL:https://fccunited.org/event/midweek-connection/2029-01-24/
CATEGORIES:Fellowship
ATTACH;FMTTYPE=image/jpeg:https://fccunited.org/wp-content/uploads/2026/02/midweek-connection-3.jpg
END:VEVENT
BEGIN:VEVENT
DTSTART;TZID=America/Chicago:20290124T190000
DTEND;TZID=America/Chicago:20290124T200000
DTSTAMP:20260422T165934
CREATED:20260108T163528Z
LAST-MODIFIED:20260210T171104Z
UID:10003627-1863975600-1863979200@fccunited.org
SUMMARY:Choir Practice
DESCRIPTION:
URL:https://fccunited.org/event/choir-practice-4/2029-01-24/
CATEGORIES:Worship
ATTACH;FMTTYPE=image/jpeg:https://fccunited.org/wp-content/uploads/2026/01/choir-practice.jpg
END:VEVENT
BEGIN:VEVENT
DTSTART;TZID=America/Chicago:20290125T100000
DTEND;TZID=America/Chicago:20290125T233000
DTSTAMP:20260422T165934
CREATED:20260216T125355Z
LAST-MODIFIED:20260415T134412Z
UID:10004664-1864029600-1864078200@fccunited.org
SUMMARY:MomCo
DESCRIPTION:Mom\, join us for faith\, fun\, and fellowship the fourth Thursday of each month.  Childcare is provided. \nCall 972-446-9808 for more information.
URL:https://fccunited.org/event/momco-1000-a-m-2/2029-01-25/
CATEGORIES:Fellowship
ATTACH;FMTTYPE=image/jpeg:https://fccunited.org/wp-content/uploads/2026/02/20260122-momco-3.jpg
END:VEVENT
BEGIN:VEVENT
DTSTART;TZID=America/Chicago:20290128T081500
DTEND;TZID=America/Chicago:20290128T091500
DTSTAMP:20260422T165934
CREATED:20260221T120438Z
LAST-MODIFIED:20260221T120438Z
UID:10004725-1864282500-1864286100@fccunited.org
SUMMARY:Elders Meeting
DESCRIPTION:
URL:https://fccunited.org/event/elders-meeting/2029-01-28/
CATEGORIES:Fellowship
ATTACH;FMTTYPE=image/jpeg:https://fccunited.org/wp-content/uploads/2026/02/20260125-elder-meeting.jpg
END:VEVENT
BEGIN:VEVENT
DTSTART;TZID=America/Chicago:20290128T091500
DTEND;TZID=America/Chicago:20290128T101500
DTSTAMP:20260422T165934
CREATED:20260127T133219Z
LAST-MODIFIED:20260127T133453Z
UID:10004256-1864286100-1864289700@fccunited.org
SUMMARY:Study Classes
DESCRIPTION:We offer classes for adults and for youth.
URL:https://fccunited.org/event/study-classes/2029-01-28/
CATEGORIES:Bible Study
ATTACH;FMTTYPE=image/jpeg:https://fccunited.org/wp-content/uploads/2026/01/study-class.jpg
END:VEVENT
BEGIN:VEVENT
DTSTART;TZID=America/Chicago:20290128T102500
DTEND;TZID=America/Chicago:20290128T113000
DTSTAMP:20260422T165934
CREATED:20260325T123948Z
LAST-MODIFIED:20260325T123948Z
UID:10005629-1864290300-1864294200@fccunited.org
SUMMARY:Sunday Worship
DESCRIPTION:
URL:https://fccunited.org/event/sunday-worship/2029-01-28/
CATEGORIES:Worship
END:VEVENT
BEGIN:VEVENT
DTSTART;TZID=America/Chicago:20290131T160000
DTEND;TZID=America/Chicago:20290131T170000
DTSTAMP:20260422T165934
CREATED:20260221T121225Z
LAST-MODIFIED:20260221T122346Z
UID:10004903-1864569600-1864573200@fccunited.org
SUMMARY:Hour of Prayer
DESCRIPTION:
URL:https://fccunited.org/event/hour-of-prayer/2029-01-31/
CATEGORIES:Fellowship
ATTACH;FMTTYPE=image/jpeg:https://fccunited.org/wp-content/uploads/2026/02/hour-of-prayer-1.jpg
END:VEVENT
BEGIN:VEVENT
DTSTART;TZID=America/Chicago:20290131T170000
DTEND;TZID=America/Chicago:20290131T190000
DTSTAMP:20260422T165934
CREATED:20260221T121346Z
LAST-MODIFIED:20260221T121447Z
UID:10005164-1864573200-1864580400@fccunited.org
SUMMARY:Midweek Connection
DESCRIPTION:
URL:https://fccunited.org/event/midweek-connection/2029-01-31/
CATEGORIES:Fellowship
ATTACH;FMTTYPE=image/jpeg:https://fccunited.org/wp-content/uploads/2026/02/midweek-connection-3.jpg
END:VEVENT
BEGIN:VEVENT
DTSTART;TZID=America/Chicago:20290131T190000
DTEND;TZID=America/Chicago:20290131T200000
DTSTAMP:20260422T165934
CREATED:20260108T163528Z
LAST-MODIFIED:20260210T171104Z
UID:10003628-1864580400-1864584000@fccunited.org
SUMMARY:Choir Practice
DESCRIPTION:
URL:https://fccunited.org/event/choir-practice-4/2029-01-31/
CATEGORIES:Worship
ATTACH;FMTTYPE=image/jpeg:https://fccunited.org/wp-content/uploads/2026/01/choir-practice.jpg
END:VEVENT
BEGIN:VEVENT
DTSTART;TZID=America/Chicago:20290203T083000
DTEND;TZID=America/Chicago:20290203T123000
DTSTAMP:20260422T165934
CREATED:20260421T113553Z
LAST-MODIFIED:20260421T114056Z
UID:10005869-1864801800-1864816200@fccunited.org
SUMMARY:Shipwright Food Pantry
DESCRIPTION:Shipwrights Food Pantry Ministry\n\nOn the 1st and 3rd Saturday of each month\, the Shipwrights Food Pantry provides a hot meal\,  groceries and other items for those facing food insecurity in Lewisville and the surrounding area. \nIf you would like to participate in this ministry\,  the time runs from 8:30am - 12:30pm.  Volunteers meet in the Serenity Church/FCCU parking lot at 8:30 on the 1st and 3rd Saturday of the month for preparations. \nFor more information reach out to Ken Blackerby at: 817-492-6983
URL:https://fccunited.org/event/shipwright-food-pantry/2029-02-03/
CATEGORIES:Ministries
ATTACH;FMTTYPE=image/png:https://fccunited.org/wp-content/uploads/2026/04/shipwrights-food-pantry.png
END:VEVENT
BEGIN:VEVENT
DTSTART;TZID=America/Chicago:20290204T091500
DTEND;TZID=America/Chicago:20290204T101500
DTSTAMP:20260422T165934
CREATED:20260127T133219Z
LAST-MODIFIED:20260127T133453Z
UID:10004257-1864890900-1864894500@fccunited.org
SUMMARY:Study Classes
DESCRIPTION:We offer classes for adults and for youth.
URL:https://fccunited.org/event/study-classes/2029-02-04/
CATEGORIES:Bible Study
ATTACH;FMTTYPE=image/jpeg:https://fccunited.org/wp-content/uploads/2026/01/study-class.jpg
END:VEVENT
BEGIN:VEVENT
DTSTART;TZID=America/Chicago:20290204T102500
DTEND;TZID=America/Chicago:20290204T113000
DTSTAMP:20260422T165934
CREATED:20260325T123948Z
LAST-MODIFIED:20260325T123948Z
UID:10005630-1864895100-1864899000@fccunited.org
SUMMARY:Sunday Worship
DESCRIPTION:
URL:https://fccunited.org/event/sunday-worship/2029-02-04/
CATEGORIES:Worship
END:VEVENT
BEGIN:VEVENT
DTSTART;TZID=America/Chicago:20290204T103000
DTEND;TZID=America/Chicago:20290204T113000
DTSTAMP:20260422T165934
CREATED:20260127T131829Z
LAST-MODIFIED:20260127T131829Z
UID:10004076-1864895400-1864899000@fccunited.org
SUMMARY:First Fruits Sunday
DESCRIPTION:Collecting non-perishables for CCA and Metrocrest Social Services.
URL:https://fccunited.org/event/first-fruits-sunday/2029-02-04/
CATEGORIES:Ministries
ATTACH;FMTTYPE=image/jpeg:https://fccunited.org/wp-content/uploads/2026/01/first-fruits-and-toilet-paper-sunday.jpg
END:VEVENT
BEGIN:VEVENT
DTSTART;TZID=America/Chicago:20290204T113000
DTEND;TZID=America/Chicago:20290204T123000
DTSTAMP:20260422T165934
CREATED:20260311T144206Z
LAST-MODIFIED:20260311T144208Z
UID:10005312-1864899000-1864902600@fccunited.org
SUMMARY:Fellowship Lunch
DESCRIPTION:
URL:https://fccunited.org/event/fellowship-lunch-2-2/2029-02-04/
LOCATION:Praise in the Morning Devotional - November 30\, 2025
CATEGORIES:Fellowship
END:VEVENT
BEGIN:VEVENT
DTSTART;TZID=America/Chicago:20290207T160000
DTEND;TZID=America/Chicago:20290207T170000
DTSTAMP:20260422T165934
CREATED:20260221T121225Z
LAST-MODIFIED:20260221T122346Z
UID:10004904-1865174400-1865178000@fccunited.org
SUMMARY:Hour of Prayer
DESCRIPTION:
URL:https://fccunited.org/event/hour-of-prayer/2029-02-07/
CATEGORIES:Fellowship
ATTACH;FMTTYPE=image/jpeg:https://fccunited.org/wp-content/uploads/2026/02/hour-of-prayer-1.jpg
END:VEVENT
BEGIN:VEVENT
DTSTART;TZID=America/Chicago:20290207T170000
DTEND;TZID=America/Chicago:20290207T190000
DTSTAMP:20260422T165934
CREATED:20260221T121346Z
LAST-MODIFIED:20260221T121447Z
UID:10005165-1865178000-1865185200@fccunited.org
SUMMARY:Midweek Connection
DESCRIPTION:
URL:https://fccunited.org/event/midweek-connection/2029-02-07/
CATEGORIES:Fellowship
ATTACH;FMTTYPE=image/jpeg:https://fccunited.org/wp-content/uploads/2026/02/midweek-connection-3.jpg
END:VEVENT
BEGIN:VEVENT
DTSTART;TZID=America/Chicago:20290207T190000
DTEND;TZID=America/Chicago:20290207T200000
DTSTAMP:20260422T165934
CREATED:20260108T163528Z
LAST-MODIFIED:20260210T171104Z
UID:10003629-1865185200-1865188800@fccunited.org
SUMMARY:Choir Practice
DESCRIPTION:
URL:https://fccunited.org/event/choir-practice-4/2029-02-07/
CATEGORIES:Worship
ATTACH;FMTTYPE=image/jpeg:https://fccunited.org/wp-content/uploads/2026/01/choir-practice.jpg
END:VEVENT
BEGIN:VEVENT
DTSTART;TZID=America/Chicago:20290210T100000
DTEND;TZID=America/Chicago:20290210T113000
DTSTAMP:20260422T165934
CREATED:20260224T200455Z
LAST-MODIFIED:20260224T200455Z
UID:10005372-1865412000-1865417400@fccunited.org
SUMMARY:Pin Pal Sewing Ministry
DESCRIPTION:
URL:https://fccunited.org/event/pin-pal-sewing-ministry/2029-02-10/
CATEGORIES:Fellowship
ATTACH;FMTTYPE=image/jpeg:https://fccunited.org/wp-content/uploads/2026/02/20260214-sewing-ministry.jpg
END:VEVENT
BEGIN:VEVENT
DTSTART;TZID=America/Chicago:20290211T091500
DTEND;TZID=America/Chicago:20290211T101500
DTSTAMP:20260422T165934
CREATED:20260127T133219Z
LAST-MODIFIED:20260127T133453Z
UID:10004258-1865495700-1865499300@fccunited.org
SUMMARY:Study Classes
DESCRIPTION:We offer classes for adults and for youth.
URL:https://fccunited.org/event/study-classes/2029-02-11/
CATEGORIES:Bible Study
ATTACH;FMTTYPE=image/jpeg:https://fccunited.org/wp-content/uploads/2026/01/study-class.jpg
END:VEVENT
END:VCALENDAR