BEGIN:VCALENDAR
VERSION:2.0
PRODID:-//First Christian Church  United Lewisville, Texas - ECPv6.15.14//NONSGML v1.0//EN
CALSCALE:GREGORIAN
METHOD:PUBLISH
X-ORIGINAL-URL:https://fccunited.org
X-WR-CALDESC:Events for First Christian Church  United Lewisville, Texas
REFRESH-INTERVAL;VALUE=DURATION:PT1H
X-Robots-Tag:noindex
X-PUBLISHED-TTL:PT1H
BEGIN:VTIMEZONE
TZID:America/Chicago
BEGIN:DAYLIGHT
TZOFFSETFROM:-0600
TZOFFSETTO:-0500
TZNAME:CDT
DTSTART:20280312T080000
END:DAYLIGHT
BEGIN:STANDARD
TZOFFSETFROM:-0500
TZOFFSETTO:-0600
TZNAME:CST
DTSTART:20281105T070000
END:STANDARD
BEGIN:DAYLIGHT
TZOFFSETFROM:-0600
TZOFFSETTO:-0500
TZNAME:CDT
DTSTART:20290311T080000
END:DAYLIGHT
BEGIN:STANDARD
TZOFFSETFROM:-0500
TZOFFSETTO:-0600
TZNAME:CST
DTSTART:20291104T070000
END:STANDARD
BEGIN:DAYLIGHT
TZOFFSETFROM:-0600
TZOFFSETTO:-0500
TZNAME:CDT
DTSTART:20300310T080000
END:DAYLIGHT
BEGIN:STANDARD
TZOFFSETFROM:-0500
TZOFFSETTO:-0600
TZNAME:CST
DTSTART:20301103T070000
END:STANDARD
END:VTIMEZONE
BEGIN:VEVENT
DTSTART;TZID=America/Chicago:20290520T102500
DTEND;TZID=America/Chicago:20290520T113000
DTSTAMP:20260423T034804
CREATED:20260325T123948Z
LAST-MODIFIED:20260325T123948Z
UID:10005645-1873967100-1873971000@fccunited.org
SUMMARY:Sunday Worship
DESCRIPTION:
URL:https://fccunited.org/event/sunday-worship/2029-05-20/
CATEGORIES:Worship
END:VEVENT
BEGIN:VEVENT
DTSTART;TZID=America/Chicago:20290522T190000
DTEND;TZID=America/Chicago:20290522T203000
DTSTAMP:20260423T034804
CREATED:20260127T122330Z
LAST-MODIFIED:20260127T131202Z
UID:10004020-1874170800-1874176200@fccunited.org
SUMMARY:Potpourri Ladies
DESCRIPTION:
URL:https://fccunited.org/event/potpourri-ladies/2029-05-22/
CATEGORIES:Fellowship
ATTACH;FMTTYPE=image/jpeg:https://fccunited.org/wp-content/uploads/2026/01/20260127-potpourri-ladies-1.jpg
END:VEVENT
BEGIN:VEVENT
DTSTART;TZID=America/Chicago:20290523T160000
DTEND;TZID=America/Chicago:20290523T170000
DTSTAMP:20260423T034804
CREATED:20260221T121225Z
LAST-MODIFIED:20260221T122346Z
UID:10004919-1874246400-1874250000@fccunited.org
SUMMARY:Hour of Prayer
DESCRIPTION:
URL:https://fccunited.org/event/hour-of-prayer/2029-05-23/
CATEGORIES:Fellowship
ATTACH;FMTTYPE=image/jpeg:https://fccunited.org/wp-content/uploads/2026/02/hour-of-prayer-1.jpg
END:VEVENT
BEGIN:VEVENT
DTSTART;TZID=America/Chicago:20290523T170000
DTEND;TZID=America/Chicago:20290523T190000
DTSTAMP:20260423T034804
CREATED:20260221T121346Z
LAST-MODIFIED:20260221T121447Z
UID:10005180-1874250000-1874257200@fccunited.org
SUMMARY:Midweek Connection
DESCRIPTION:
URL:https://fccunited.org/event/midweek-connection/2029-05-23/
CATEGORIES:Fellowship
ATTACH;FMTTYPE=image/jpeg:https://fccunited.org/wp-content/uploads/2026/02/midweek-connection-3.jpg
END:VEVENT
BEGIN:VEVENT
DTSTART;TZID=America/Chicago:20290523T190000
DTEND;TZID=America/Chicago:20290523T200000
DTSTAMP:20260423T034804
CREATED:20260108T163528Z
LAST-MODIFIED:20260210T171104Z
UID:10003644-1874257200-1874260800@fccunited.org
SUMMARY:Choir Practice
DESCRIPTION:
URL:https://fccunited.org/event/choir-practice-4/2029-05-23/
CATEGORIES:Worship
ATTACH;FMTTYPE=image/jpeg:https://fccunited.org/wp-content/uploads/2026/01/choir-practice.jpg
END:VEVENT
BEGIN:VEVENT
DTSTART;TZID=America/Chicago:20290524T100000
DTEND;TZID=America/Chicago:20290524T233000
DTSTAMP:20260423T034804
CREATED:20260216T125355Z
LAST-MODIFIED:20260415T134412Z
UID:10004668-1874311200-1874359800@fccunited.org
SUMMARY:MomCo
DESCRIPTION:Mom\, join us for faith\, fun\, and fellowship the fourth Thursday of each month.  Childcare is provided. \nCall 972-446-9808 for more information.
URL:https://fccunited.org/event/momco-1000-a-m-2/2029-05-24/
CATEGORIES:Fellowship
ATTACH;FMTTYPE=image/jpeg:https://fccunited.org/wp-content/uploads/2026/02/20260122-momco-3.jpg
END:VEVENT
BEGIN:VEVENT
DTSTART;TZID=America/Chicago:20290527T081500
DTEND;TZID=America/Chicago:20290527T091500
DTSTAMP:20260423T034804
CREATED:20260221T120438Z
LAST-MODIFIED:20260221T120438Z
UID:10004729-1874564100-1874567700@fccunited.org
SUMMARY:Elders Meeting
DESCRIPTION:
URL:https://fccunited.org/event/elders-meeting/2029-05-27/
CATEGORIES:Fellowship
ATTACH;FMTTYPE=image/jpeg:https://fccunited.org/wp-content/uploads/2026/02/20260125-elder-meeting.jpg
END:VEVENT
BEGIN:VEVENT
DTSTART;TZID=America/Chicago:20290527T091500
DTEND;TZID=America/Chicago:20290527T101500
DTSTAMP:20260423T034804
CREATED:20260127T133219Z
LAST-MODIFIED:20260127T133453Z
UID:10004273-1874567700-1874571300@fccunited.org
SUMMARY:Study Classes
DESCRIPTION:We offer classes for adults and for youth.
URL:https://fccunited.org/event/study-classes/2029-05-27/
CATEGORIES:Bible Study
ATTACH;FMTTYPE=image/jpeg:https://fccunited.org/wp-content/uploads/2026/01/study-class.jpg
END:VEVENT
BEGIN:VEVENT
DTSTART;TZID=America/Chicago:20290527T102500
DTEND;TZID=America/Chicago:20290527T113000
DTSTAMP:20260423T034804
CREATED:20260325T123948Z
LAST-MODIFIED:20260325T123948Z
UID:10005646-1874571900-1874575800@fccunited.org
SUMMARY:Sunday Worship
DESCRIPTION:
URL:https://fccunited.org/event/sunday-worship/2029-05-27/
CATEGORIES:Worship
END:VEVENT
BEGIN:VEVENT
DTSTART;TZID=America/Chicago:20290530T160000
DTEND;TZID=America/Chicago:20290530T170000
DTSTAMP:20260423T034804
CREATED:20260221T121225Z
LAST-MODIFIED:20260221T122346Z
UID:10004920-1874851200-1874854800@fccunited.org
SUMMARY:Hour of Prayer
DESCRIPTION:
URL:https://fccunited.org/event/hour-of-prayer/2029-05-30/
CATEGORIES:Fellowship
ATTACH;FMTTYPE=image/jpeg:https://fccunited.org/wp-content/uploads/2026/02/hour-of-prayer-1.jpg
END:VEVENT
BEGIN:VEVENT
DTSTART;TZID=America/Chicago:20290530T170000
DTEND;TZID=America/Chicago:20290530T190000
DTSTAMP:20260423T034804
CREATED:20260221T121346Z
LAST-MODIFIED:20260221T121447Z
UID:10005181-1874854800-1874862000@fccunited.org
SUMMARY:Midweek Connection
DESCRIPTION:
URL:https://fccunited.org/event/midweek-connection/2029-05-30/
CATEGORIES:Fellowship
ATTACH;FMTTYPE=image/jpeg:https://fccunited.org/wp-content/uploads/2026/02/midweek-connection-3.jpg
END:VEVENT
BEGIN:VEVENT
DTSTART;TZID=America/Chicago:20290530T190000
DTEND;TZID=America/Chicago:20290530T200000
DTSTAMP:20260423T034804
CREATED:20260108T163528Z
LAST-MODIFIED:20260210T171104Z
UID:10003645-1874862000-1874865600@fccunited.org
SUMMARY:Choir Practice
DESCRIPTION:
URL:https://fccunited.org/event/choir-practice-4/2029-05-30/
CATEGORIES:Worship
ATTACH;FMTTYPE=image/jpeg:https://fccunited.org/wp-content/uploads/2026/01/choir-practice.jpg
END:VEVENT
BEGIN:VEVENT
DTSTART;TZID=America/Chicago:20290602T083000
DTEND;TZID=America/Chicago:20290602T123000
DTSTAMP:20260423T034804
CREATED:20260421T113553Z
LAST-MODIFIED:20260421T114056Z
UID:10005939-1875083400-1875097800@fccunited.org
SUMMARY:Shipwright Food Pantry
DESCRIPTION:Shipwrights Food Pantry Ministry\n\nOn the 1st and 3rd Saturday of each month\, the Shipwrights Food Pantry provides a hot meal\,  groceries and other items for those facing food insecurity in Lewisville and the surrounding area. \nIf you would like to participate in this ministry\,  the time runs from 8:30am - 12:30pm.  Volunteers meet in the Serenity Church/FCCU parking lot at 8:30 on the 1st and 3rd Saturday of the month for preparations. \nFor more information reach out to Ken Blackerby at: 817-492-6983
URL:https://fccunited.org/event/shipwright-food-pantry/2029-06-02/
CATEGORIES:Ministries
ATTACH;FMTTYPE=image/png:https://fccunited.org/wp-content/uploads/2026/04/shipwrights-food-pantry.png
END:VEVENT
BEGIN:VEVENT
DTSTART;TZID=America/Chicago:20290603T091500
DTEND;TZID=America/Chicago:20290603T101500
DTSTAMP:20260423T034804
CREATED:20260127T133219Z
LAST-MODIFIED:20260127T133453Z
UID:10004274-1875172500-1875176100@fccunited.org
SUMMARY:Study Classes
DESCRIPTION:We offer classes for adults and for youth.
URL:https://fccunited.org/event/study-classes/2029-06-03/
CATEGORIES:Bible Study
ATTACH;FMTTYPE=image/jpeg:https://fccunited.org/wp-content/uploads/2026/01/study-class.jpg
END:VEVENT
BEGIN:VEVENT
DTSTART;TZID=America/Chicago:20290603T102500
DTEND;TZID=America/Chicago:20290603T113000
DTSTAMP:20260423T034804
CREATED:20260325T123948Z
LAST-MODIFIED:20260325T123948Z
UID:10005647-1875176700-1875180600@fccunited.org
SUMMARY:Sunday Worship
DESCRIPTION:
URL:https://fccunited.org/event/sunday-worship/2029-06-03/
CATEGORIES:Worship
END:VEVENT
BEGIN:VEVENT
DTSTART;TZID=America/Chicago:20290603T103000
DTEND;TZID=America/Chicago:20290603T113000
DTSTAMP:20260423T034804
CREATED:20260127T131829Z
LAST-MODIFIED:20260127T131829Z
UID:10004080-1875177000-1875180600@fccunited.org
SUMMARY:First Fruits Sunday
DESCRIPTION:Collecting non-perishables for CCA and Metrocrest Social Services.
URL:https://fccunited.org/event/first-fruits-sunday/2029-06-03/
CATEGORIES:Ministries
ATTACH;FMTTYPE=image/jpeg:https://fccunited.org/wp-content/uploads/2026/01/first-fruits-and-toilet-paper-sunday.jpg
END:VEVENT
BEGIN:VEVENT
DTSTART;TZID=America/Chicago:20290603T113000
DTEND;TZID=America/Chicago:20290603T123000
DTSTAMP:20260423T034804
CREATED:20260311T144206Z
LAST-MODIFIED:20260311T144208Z
UID:10005316-1875180600-1875184200@fccunited.org
SUMMARY:Fellowship Lunch
DESCRIPTION:
URL:https://fccunited.org/event/fellowship-lunch-2-2/2029-06-03/
LOCATION:Praise in the Morning Devotional - November 30\, 2025
CATEGORIES:Fellowship
END:VEVENT
BEGIN:VEVENT
DTSTART;TZID=America/Chicago:20290606T160000
DTEND;TZID=America/Chicago:20290606T170000
DTSTAMP:20260423T034804
CREATED:20260221T121225Z
LAST-MODIFIED:20260221T122346Z
UID:10004921-1875456000-1875459600@fccunited.org
SUMMARY:Hour of Prayer
DESCRIPTION:
URL:https://fccunited.org/event/hour-of-prayer/2029-06-06/
CATEGORIES:Fellowship
ATTACH;FMTTYPE=image/jpeg:https://fccunited.org/wp-content/uploads/2026/02/hour-of-prayer-1.jpg
END:VEVENT
BEGIN:VEVENT
DTSTART;TZID=America/Chicago:20290606T170000
DTEND;TZID=America/Chicago:20290606T190000
DTSTAMP:20260423T034804
CREATED:20260221T121346Z
LAST-MODIFIED:20260221T121447Z
UID:10005182-1875459600-1875466800@fccunited.org
SUMMARY:Midweek Connection
DESCRIPTION:
URL:https://fccunited.org/event/midweek-connection/2029-06-06/
CATEGORIES:Fellowship
ATTACH;FMTTYPE=image/jpeg:https://fccunited.org/wp-content/uploads/2026/02/midweek-connection-3.jpg
END:VEVENT
BEGIN:VEVENT
DTSTART;TZID=America/Chicago:20290606T190000
DTEND;TZID=America/Chicago:20290606T200000
DTSTAMP:20260423T034804
CREATED:20260108T163528Z
LAST-MODIFIED:20260210T171104Z
UID:10003646-1875466800-1875470400@fccunited.org
SUMMARY:Choir Practice
DESCRIPTION:
URL:https://fccunited.org/event/choir-practice-4/2029-06-06/
CATEGORIES:Worship
ATTACH;FMTTYPE=image/jpeg:https://fccunited.org/wp-content/uploads/2026/01/choir-practice.jpg
END:VEVENT
BEGIN:VEVENT
DTSTART;TZID=America/Chicago:20290609T100000
DTEND;TZID=America/Chicago:20290609T113000
DTSTAMP:20260423T034804
CREATED:20260224T200455Z
LAST-MODIFIED:20260224T200455Z
UID:10005376-1875693600-1875699000@fccunited.org
SUMMARY:Pin Pal Sewing Ministry
DESCRIPTION:
URL:https://fccunited.org/event/pin-pal-sewing-ministry/2029-06-09/
CATEGORIES:Fellowship
ATTACH;FMTTYPE=image/jpeg:https://fccunited.org/wp-content/uploads/2026/02/20260214-sewing-ministry.jpg
END:VEVENT
BEGIN:VEVENT
DTSTART;TZID=America/Chicago:20290610T091500
DTEND;TZID=America/Chicago:20290610T101500
DTSTAMP:20260423T034804
CREATED:20260127T133219Z
LAST-MODIFIED:20260127T133453Z
UID:10004275-1875777300-1875780900@fccunited.org
SUMMARY:Study Classes
DESCRIPTION:We offer classes for adults and for youth.
URL:https://fccunited.org/event/study-classes/2029-06-10/
CATEGORIES:Bible Study
ATTACH;FMTTYPE=image/jpeg:https://fccunited.org/wp-content/uploads/2026/01/study-class.jpg
END:VEVENT
BEGIN:VEVENT
DTSTART;TZID=America/Chicago:20290610T102500
DTEND;TZID=America/Chicago:20290610T113000
DTSTAMP:20260423T034804
CREATED:20260325T123948Z
LAST-MODIFIED:20260325T123948Z
UID:10005648-1875781500-1875785400@fccunited.org
SUMMARY:Sunday Worship
DESCRIPTION:
URL:https://fccunited.org/event/sunday-worship/2029-06-10/
CATEGORIES:Worship
END:VEVENT
BEGIN:VEVENT
DTSTART;TZID=America/Chicago:20290611T190000
DTEND;TZID=America/Chicago:20290611T203000
DTSTAMP:20260423T034805
CREATED:20260227T135325Z
LAST-MODIFIED:20260227T135325Z
UID:10005437-1875898800-1875904200@fccunited.org
SUMMARY:Agape Men
DESCRIPTION:
URL:https://fccunited.org/event/agape-men-2/2029-06-11/
CATEGORIES:Fellowship
ATTACH;FMTTYPE=image/jpeg:https://fccunited.org/wp-content/uploads/2026/02/20260309-agape-men.jpg
END:VEVENT
BEGIN:VEVENT
DTSTART;TZID=America/Chicago:20290613T160000
DTEND;TZID=America/Chicago:20290613T170000
DTSTAMP:20260423T034805
CREATED:20260221T121225Z
LAST-MODIFIED:20260221T122346Z
UID:10004922-1876060800-1876064400@fccunited.org
SUMMARY:Hour of Prayer
DESCRIPTION:
URL:https://fccunited.org/event/hour-of-prayer/2029-06-13/
CATEGORIES:Fellowship
ATTACH;FMTTYPE=image/jpeg:https://fccunited.org/wp-content/uploads/2026/02/hour-of-prayer-1.jpg
END:VEVENT
BEGIN:VEVENT
DTSTART;TZID=America/Chicago:20290613T170000
DTEND;TZID=America/Chicago:20290613T190000
DTSTAMP:20260423T034805
CREATED:20260221T121346Z
LAST-MODIFIED:20260221T121447Z
UID:10005183-1876064400-1876071600@fccunited.org
SUMMARY:Midweek Connection
DESCRIPTION:
URL:https://fccunited.org/event/midweek-connection/2029-06-13/
CATEGORIES:Fellowship
ATTACH;FMTTYPE=image/jpeg:https://fccunited.org/wp-content/uploads/2026/02/midweek-connection-3.jpg
END:VEVENT
BEGIN:VEVENT
DTSTART;TZID=America/Chicago:20290613T190000
DTEND;TZID=America/Chicago:20290613T200000
DTSTAMP:20260423T034805
CREATED:20260108T163528Z
LAST-MODIFIED:20260210T171104Z
UID:10003647-1876071600-1876075200@fccunited.org
SUMMARY:Choir Practice
DESCRIPTION:
URL:https://fccunited.org/event/choir-practice-4/2029-06-13/
CATEGORIES:Worship
ATTACH;FMTTYPE=image/jpeg:https://fccunited.org/wp-content/uploads/2026/01/choir-practice.jpg
END:VEVENT
BEGIN:VEVENT
DTSTART;TZID=America/Chicago:20290617T091500
DTEND;TZID=America/Chicago:20290617T101500
DTSTAMP:20260423T034805
CREATED:20260127T133219Z
LAST-MODIFIED:20260127T133453Z
UID:10004276-1876382100-1876385700@fccunited.org
SUMMARY:Study Classes
DESCRIPTION:We offer classes for adults and for youth.
URL:https://fccunited.org/event/study-classes/2029-06-17/
CATEGORIES:Bible Study
ATTACH;FMTTYPE=image/jpeg:https://fccunited.org/wp-content/uploads/2026/01/study-class.jpg
END:VEVENT
BEGIN:VEVENT
DTSTART;TZID=America/Chicago:20290617T102500
DTEND;TZID=America/Chicago:20290617T113000
DTSTAMP:20260423T034805
CREATED:20260325T123948Z
LAST-MODIFIED:20260325T123948Z
UID:10005649-1876386300-1876390200@fccunited.org
SUMMARY:Sunday Worship
DESCRIPTION:
URL:https://fccunited.org/event/sunday-worship/2029-06-17/
CATEGORIES:Worship
END:VEVENT
BEGIN:VEVENT
DTSTART;TZID=America/Chicago:20290620T160000
DTEND;TZID=America/Chicago:20290620T170000
DTSTAMP:20260423T034805
CREATED:20260221T121225Z
LAST-MODIFIED:20260221T122346Z
UID:10004923-1876665600-1876669200@fccunited.org
SUMMARY:Hour of Prayer
DESCRIPTION:
URL:https://fccunited.org/event/hour-of-prayer/2029-06-20/
CATEGORIES:Fellowship
ATTACH;FMTTYPE=image/jpeg:https://fccunited.org/wp-content/uploads/2026/02/hour-of-prayer-1.jpg
END:VEVENT
END:VCALENDAR