BEGIN:VCALENDAR
VERSION:2.0
PRODID:-//First Christian Church  United Lewisville, Texas - ECPv6.15.14//NONSGML v1.0//EN
CALSCALE:GREGORIAN
METHOD:PUBLISH
X-ORIGINAL-URL:https://fccunited.org
X-WR-CALDESC:Events for First Christian Church  United Lewisville, Texas
REFRESH-INTERVAL;VALUE=DURATION:PT1H
X-Robots-Tag:noindex
X-PUBLISHED-TTL:PT1H
BEGIN:VTIMEZONE
TZID:America/Chicago
BEGIN:DAYLIGHT
TZOFFSETFROM:-0600
TZOFFSETTO:-0500
TZNAME:CDT
DTSTART:20280312T080000
END:DAYLIGHT
BEGIN:STANDARD
TZOFFSETFROM:-0500
TZOFFSETTO:-0600
TZNAME:CST
DTSTART:20281105T070000
END:STANDARD
BEGIN:DAYLIGHT
TZOFFSETFROM:-0600
TZOFFSETTO:-0500
TZNAME:CDT
DTSTART:20290311T080000
END:DAYLIGHT
BEGIN:STANDARD
TZOFFSETFROM:-0500
TZOFFSETTO:-0600
TZNAME:CST
DTSTART:20291104T070000
END:STANDARD
BEGIN:DAYLIGHT
TZOFFSETFROM:-0600
TZOFFSETTO:-0500
TZNAME:CDT
DTSTART:20300310T080000
END:DAYLIGHT
BEGIN:STANDARD
TZOFFSETFROM:-0500
TZOFFSETTO:-0600
TZNAME:CST
DTSTART:20301103T070000
END:STANDARD
BEGIN:DAYLIGHT
TZOFFSETFROM:-0600
TZOFFSETTO:-0500
TZNAME:CDT
DTSTART:20310309T080000
END:DAYLIGHT
BEGIN:STANDARD
TZOFFSETFROM:-0500
TZOFFSETTO:-0600
TZNAME:CST
DTSTART:20311102T070000
END:STANDARD
END:VTIMEZONE
BEGIN:VEVENT
DTSTART;TZID=America/Chicago:20291230T102500
DTEND;TZID=America/Chicago:20291230T113000
DTSTAMP:20260423T183358
CREATED:20260325T123948Z
LAST-MODIFIED:20260325T123948Z
UID:10005677-1893320700-1893324600@fccunited.org
SUMMARY:Sunday Worship
DESCRIPTION:
URL:https://fccunited.org/event/sunday-worship/2029-12-30/
CATEGORIES:Worship
END:VEVENT
BEGIN:VEVENT
DTSTART;TZID=America/Chicago:20300102T160000
DTEND;TZID=America/Chicago:20300102T170000
DTSTAMP:20260423T183358
CREATED:20260221T121225Z
LAST-MODIFIED:20260221T122346Z
UID:10004951-1893600000-1893603600@fccunited.org
SUMMARY:Hour of Prayer
DESCRIPTION:
URL:https://fccunited.org/event/hour-of-prayer/2030-01-02/
CATEGORIES:Fellowship
ATTACH;FMTTYPE=image/jpeg:https://fccunited.org/wp-content/uploads/2026/02/hour-of-prayer-1.jpg
END:VEVENT
BEGIN:VEVENT
DTSTART;TZID=America/Chicago:20300102T170000
DTEND;TZID=America/Chicago:20300102T190000
DTSTAMP:20260423T183358
CREATED:20260221T121346Z
LAST-MODIFIED:20260221T121447Z
UID:10005212-1893603600-1893610800@fccunited.org
SUMMARY:Midweek Connection
DESCRIPTION:
URL:https://fccunited.org/event/midweek-connection/2030-01-02/
CATEGORIES:Fellowship
ATTACH;FMTTYPE=image/jpeg:https://fccunited.org/wp-content/uploads/2026/02/midweek-connection-3.jpg
END:VEVENT
BEGIN:VEVENT
DTSTART;TZID=America/Chicago:20300102T190000
DTEND;TZID=America/Chicago:20300102T200000
DTSTAMP:20260423T183358
CREATED:20260108T163528Z
LAST-MODIFIED:20260210T171104Z
UID:10003676-1893610800-1893614400@fccunited.org
SUMMARY:Choir Practice
DESCRIPTION:
URL:https://fccunited.org/event/choir-practice-4/2030-01-02/
CATEGORIES:Worship
ATTACH;FMTTYPE=image/jpeg:https://fccunited.org/wp-content/uploads/2026/01/choir-practice.jpg
END:VEVENT
BEGIN:VEVENT
DTSTART;TZID=America/Chicago:20300105T083000
DTEND;TZID=America/Chicago:20300105T123000
DTSTAMP:20260423T183358
CREATED:20260421T113553Z
LAST-MODIFIED:20260421T114056Z
UID:10005888-1893832200-1893846600@fccunited.org
SUMMARY:Shipwright Food Pantry
DESCRIPTION:Shipwrights Food Pantry Ministry\n\nOn the 1st and 3rd Saturday of each month\, the Shipwrights Food Pantry provides a hot meal\,  groceries and other items for those facing food insecurity in Lewisville and the surrounding area. \nIf you would like to participate in this ministry\,  the time runs from 8:30am - 12:30pm.  Volunteers meet in the Serenity Church/FCCU parking lot at 8:30 on the 1st and 3rd Saturday of the month for preparations. \nFor more information reach out to Ken Blackerby at: 817-492-6983
URL:https://fccunited.org/event/shipwright-food-pantry/2030-01-05/
CATEGORIES:Ministries
ATTACH;FMTTYPE=image/png:https://fccunited.org/wp-content/uploads/2026/04/shipwrights-food-pantry.png
END:VEVENT
BEGIN:VEVENT
DTSTART;TZID=America/Chicago:20300106T091500
DTEND;TZID=America/Chicago:20300106T101500
DTSTAMP:20260423T183358
CREATED:20260127T133219Z
LAST-MODIFIED:20260127T133453Z
UID:10004305-1893921300-1893924900@fccunited.org
SUMMARY:Study Classes
DESCRIPTION:We offer classes for adults and for youth.
URL:https://fccunited.org/event/study-classes/2030-01-06/
CATEGORIES:Bible Study
ATTACH;FMTTYPE=image/jpeg:https://fccunited.org/wp-content/uploads/2026/01/study-class.jpg
END:VEVENT
BEGIN:VEVENT
DTSTART;TZID=America/Chicago:20300106T102500
DTEND;TZID=America/Chicago:20300106T113000
DTSTAMP:20260423T183358
CREATED:20260325T123948Z
LAST-MODIFIED:20260325T123948Z
UID:10005678-1893925500-1893929400@fccunited.org
SUMMARY:Sunday Worship
DESCRIPTION:
URL:https://fccunited.org/event/sunday-worship/2030-01-06/
CATEGORIES:Worship
END:VEVENT
BEGIN:VEVENT
DTSTART;TZID=America/Chicago:20300106T103000
DTEND;TZID=America/Chicago:20300106T113000
DTSTAMP:20260423T183358
CREATED:20260127T131829Z
LAST-MODIFIED:20260127T131829Z
UID:10004087-1893925800-1893929400@fccunited.org
SUMMARY:First Fruits Sunday
DESCRIPTION:Collecting non-perishables for CCA and Metrocrest Social Services.
URL:https://fccunited.org/event/first-fruits-sunday/2030-01-06/
CATEGORIES:Ministries
ATTACH;FMTTYPE=image/jpeg:https://fccunited.org/wp-content/uploads/2026/01/first-fruits-and-toilet-paper-sunday.jpg
END:VEVENT
BEGIN:VEVENT
DTSTART;TZID=America/Chicago:20300106T113000
DTEND;TZID=America/Chicago:20300106T123000
DTSTAMP:20260423T183358
CREATED:20260311T144206Z
LAST-MODIFIED:20260311T144208Z
UID:10005323-1893929400-1893933000@fccunited.org
SUMMARY:Fellowship Lunch
DESCRIPTION:
URL:https://fccunited.org/event/fellowship-lunch-2-2/2030-01-06/
LOCATION:Praise in the Morning Devotional - November 30\, 2025
CATEGORIES:Fellowship
END:VEVENT
BEGIN:VEVENT
DTSTART;TZID=America/Chicago:20300108T083000
DTEND;TZID=America/Chicago:20300108T103000
DTSTAMP:20260423T183358
CREATED:20260415T135010Z
LAST-MODIFIED:20260415T135124Z
UID:10005794-1894091400-1894098600@fccunited.org
SUMMARY:CCA Food Pantry
DESCRIPTION:
URL:https://fccunited.org/event/cca-food-pantry/2030-01-08/
CATEGORIES:Fellowship
ATTACH;FMTTYPE=image/jpeg:https://fccunited.org/wp-content/uploads/2026/04/20260310-cca-food-pantry.jpg
END:VEVENT
BEGIN:VEVENT
DTSTART;TZID=America/Chicago:20300109T160000
DTEND;TZID=America/Chicago:20300109T170000
DTSTAMP:20260423T183358
CREATED:20260221T121225Z
LAST-MODIFIED:20260221T122346Z
UID:10004952-1894204800-1894208400@fccunited.org
SUMMARY:Hour of Prayer
DESCRIPTION:
URL:https://fccunited.org/event/hour-of-prayer/2030-01-09/
CATEGORIES:Fellowship
ATTACH;FMTTYPE=image/jpeg:https://fccunited.org/wp-content/uploads/2026/02/hour-of-prayer-1.jpg
END:VEVENT
BEGIN:VEVENT
DTSTART;TZID=America/Chicago:20300109T170000
DTEND;TZID=America/Chicago:20300109T190000
DTSTAMP:20260423T183358
CREATED:20260221T121346Z
LAST-MODIFIED:20260221T121447Z
UID:10005213-1894208400-1894215600@fccunited.org
SUMMARY:Midweek Connection
DESCRIPTION:
URL:https://fccunited.org/event/midweek-connection/2030-01-09/
CATEGORIES:Fellowship
ATTACH;FMTTYPE=image/jpeg:https://fccunited.org/wp-content/uploads/2026/02/midweek-connection-3.jpg
END:VEVENT
BEGIN:VEVENT
DTSTART;TZID=America/Chicago:20300109T190000
DTEND;TZID=America/Chicago:20300109T200000
DTSTAMP:20260423T183358
CREATED:20260108T163528Z
LAST-MODIFIED:20260210T171104Z
UID:10003677-1894215600-1894219200@fccunited.org
SUMMARY:Choir Practice
DESCRIPTION:
URL:https://fccunited.org/event/choir-practice-4/2030-01-09/
CATEGORIES:Worship
ATTACH;FMTTYPE=image/jpeg:https://fccunited.org/wp-content/uploads/2026/01/choir-practice.jpg
END:VEVENT
BEGIN:VEVENT
DTSTART;TZID=America/Chicago:20300112T100000
DTEND;TZID=America/Chicago:20300112T113000
DTSTAMP:20260423T183358
CREATED:20260224T200455Z
LAST-MODIFIED:20260224T200455Z
UID:10005383-1894442400-1894447800@fccunited.org
SUMMARY:Pin Pal Sewing Ministry
DESCRIPTION:
URL:https://fccunited.org/event/pin-pal-sewing-ministry/2030-01-12/
CATEGORIES:Fellowship
ATTACH;FMTTYPE=image/jpeg:https://fccunited.org/wp-content/uploads/2026/02/20260214-sewing-ministry.jpg
END:VEVENT
BEGIN:VEVENT
DTSTART;TZID=America/Chicago:20300113T091500
DTEND;TZID=America/Chicago:20300113T101500
DTSTAMP:20260423T183358
CREATED:20260127T133219Z
LAST-MODIFIED:20260127T133453Z
UID:10004306-1894526100-1894529700@fccunited.org
SUMMARY:Study Classes
DESCRIPTION:We offer classes for adults and for youth.
URL:https://fccunited.org/event/study-classes/2030-01-13/
CATEGORIES:Bible Study
ATTACH;FMTTYPE=image/jpeg:https://fccunited.org/wp-content/uploads/2026/01/study-class.jpg
END:VEVENT
BEGIN:VEVENT
DTSTART;TZID=America/Chicago:20300113T102500
DTEND;TZID=America/Chicago:20300113T113000
DTSTAMP:20260423T183358
CREATED:20260325T123948Z
LAST-MODIFIED:20260325T123948Z
UID:10005679-1894530300-1894534200@fccunited.org
SUMMARY:Sunday Worship
DESCRIPTION:
URL:https://fccunited.org/event/sunday-worship/2030-01-13/
CATEGORIES:Worship
END:VEVENT
BEGIN:VEVENT
DTSTART;TZID=America/Chicago:20300114T190000
DTEND;TZID=America/Chicago:20300114T203000
DTSTAMP:20260423T183359
CREATED:20260227T135325Z
LAST-MODIFIED:20260227T135325Z
UID:10005444-1894647600-1894653000@fccunited.org
SUMMARY:Agape Men
DESCRIPTION:
URL:https://fccunited.org/event/agape-men-2/2030-01-14/
CATEGORIES:Fellowship
ATTACH;FMTTYPE=image/jpeg:https://fccunited.org/wp-content/uploads/2026/02/20260309-agape-men.jpg
END:VEVENT
BEGIN:VEVENT
DTSTART;TZID=America/Chicago:20300116T160000
DTEND;TZID=America/Chicago:20300116T170000
DTSTAMP:20260423T183359
CREATED:20260221T121225Z
LAST-MODIFIED:20260221T122346Z
UID:10004953-1894809600-1894813200@fccunited.org
SUMMARY:Hour of Prayer
DESCRIPTION:
URL:https://fccunited.org/event/hour-of-prayer/2030-01-16/
CATEGORIES:Fellowship
ATTACH;FMTTYPE=image/jpeg:https://fccunited.org/wp-content/uploads/2026/02/hour-of-prayer-1.jpg
END:VEVENT
BEGIN:VEVENT
DTSTART;TZID=America/Chicago:20300116T170000
DTEND;TZID=America/Chicago:20300116T190000
DTSTAMP:20260423T183359
CREATED:20260221T121346Z
LAST-MODIFIED:20260221T121447Z
UID:10005214-1894813200-1894820400@fccunited.org
SUMMARY:Midweek Connection
DESCRIPTION:
URL:https://fccunited.org/event/midweek-connection/2030-01-16/
CATEGORIES:Fellowship
ATTACH;FMTTYPE=image/jpeg:https://fccunited.org/wp-content/uploads/2026/02/midweek-connection-3.jpg
END:VEVENT
BEGIN:VEVENT
DTSTART;TZID=America/Chicago:20300116T190000
DTEND;TZID=America/Chicago:20300116T200000
DTSTAMP:20260423T183359
CREATED:20260108T163528Z
LAST-MODIFIED:20260210T171104Z
UID:10003678-1894820400-1894824000@fccunited.org
SUMMARY:Choir Practice
DESCRIPTION:
URL:https://fccunited.org/event/choir-practice-4/2030-01-16/
CATEGORIES:Worship
ATTACH;FMTTYPE=image/jpeg:https://fccunited.org/wp-content/uploads/2026/01/choir-practice.jpg
END:VEVENT
BEGIN:VEVENT
DTSTART;TZID=America/Chicago:20300120T091500
DTEND;TZID=America/Chicago:20300120T101500
DTSTAMP:20260423T183359
CREATED:20260127T133219Z
LAST-MODIFIED:20260127T133453Z
UID:10004307-1895130900-1895134500@fccunited.org
SUMMARY:Study Classes
DESCRIPTION:We offer classes for adults and for youth.
URL:https://fccunited.org/event/study-classes/2030-01-20/
CATEGORIES:Bible Study
ATTACH;FMTTYPE=image/jpeg:https://fccunited.org/wp-content/uploads/2026/01/study-class.jpg
END:VEVENT
BEGIN:VEVENT
DTSTART;TZID=America/Chicago:20300120T102500
DTEND;TZID=America/Chicago:20300120T113000
DTSTAMP:20260423T183359
CREATED:20260325T123948Z
LAST-MODIFIED:20260325T123948Z
UID:10005680-1895135100-1895139000@fccunited.org
SUMMARY:Sunday Worship
DESCRIPTION:
URL:https://fccunited.org/event/sunday-worship/2030-01-20/
CATEGORIES:Worship
END:VEVENT
BEGIN:VEVENT
DTSTART;TZID=America/Chicago:20300122T190000
DTEND;TZID=America/Chicago:20300122T203000
DTSTAMP:20260423T183359
CREATED:20260127T122330Z
LAST-MODIFIED:20260127T131202Z
UID:10004028-1895338800-1895344200@fccunited.org
SUMMARY:Potpourri Ladies
DESCRIPTION:
URL:https://fccunited.org/event/potpourri-ladies/2030-01-22/
CATEGORIES:Fellowship
ATTACH;FMTTYPE=image/jpeg:https://fccunited.org/wp-content/uploads/2026/01/20260127-potpourri-ladies-1.jpg
END:VEVENT
BEGIN:VEVENT
DTSTART;TZID=America/Chicago:20300123T160000
DTEND;TZID=America/Chicago:20300123T170000
DTSTAMP:20260423T183359
CREATED:20260221T121225Z
LAST-MODIFIED:20260221T122346Z
UID:10004954-1895414400-1895418000@fccunited.org
SUMMARY:Hour of Prayer
DESCRIPTION:
URL:https://fccunited.org/event/hour-of-prayer/2030-01-23/
CATEGORIES:Fellowship
ATTACH;FMTTYPE=image/jpeg:https://fccunited.org/wp-content/uploads/2026/02/hour-of-prayer-1.jpg
END:VEVENT
BEGIN:VEVENT
DTSTART;TZID=America/Chicago:20300123T170000
DTEND;TZID=America/Chicago:20300123T190000
DTSTAMP:20260423T183359
CREATED:20260221T121346Z
LAST-MODIFIED:20260221T121447Z
UID:10005215-1895418000-1895425200@fccunited.org
SUMMARY:Midweek Connection
DESCRIPTION:
URL:https://fccunited.org/event/midweek-connection/2030-01-23/
CATEGORIES:Fellowship
ATTACH;FMTTYPE=image/jpeg:https://fccunited.org/wp-content/uploads/2026/02/midweek-connection-3.jpg
END:VEVENT
BEGIN:VEVENT
DTSTART;TZID=America/Chicago:20300123T190000
DTEND;TZID=America/Chicago:20300123T200000
DTSTAMP:20260423T183359
CREATED:20260108T163528Z
LAST-MODIFIED:20260210T171104Z
UID:10003679-1895425200-1895428800@fccunited.org
SUMMARY:Choir Practice
DESCRIPTION:
URL:https://fccunited.org/event/choir-practice-4/2030-01-23/
CATEGORIES:Worship
ATTACH;FMTTYPE=image/jpeg:https://fccunited.org/wp-content/uploads/2026/01/choir-practice.jpg
END:VEVENT
BEGIN:VEVENT
DTSTART;TZID=America/Chicago:20300124T100000
DTEND;TZID=America/Chicago:20300124T233000
DTSTAMP:20260423T183359
CREATED:20260216T125355Z
LAST-MODIFIED:20260415T134412Z
UID:10004676-1895479200-1895527800@fccunited.org
SUMMARY:MomCo
DESCRIPTION:Mom\, join us for faith\, fun\, and fellowship the fourth Thursday of each month.  Childcare is provided. \nCall 972-446-9808 for more information.
URL:https://fccunited.org/event/momco-1000-a-m-2/2030-01-24/
CATEGORIES:Fellowship
ATTACH;FMTTYPE=image/jpeg:https://fccunited.org/wp-content/uploads/2026/02/20260122-momco-3.jpg
END:VEVENT
BEGIN:VEVENT
DTSTART;TZID=America/Chicago:20300127T081500
DTEND;TZID=America/Chicago:20300127T091500
DTSTAMP:20260423T183359
CREATED:20260221T120438Z
LAST-MODIFIED:20260221T120438Z
UID:10004737-1895732100-1895735700@fccunited.org
SUMMARY:Elders Meeting
DESCRIPTION:
URL:https://fccunited.org/event/elders-meeting/2030-01-27/
CATEGORIES:Fellowship
ATTACH;FMTTYPE=image/jpeg:https://fccunited.org/wp-content/uploads/2026/02/20260125-elder-meeting.jpg
END:VEVENT
BEGIN:VEVENT
DTSTART;TZID=America/Chicago:20300127T091500
DTEND;TZID=America/Chicago:20300127T101500
DTSTAMP:20260423T183359
CREATED:20260127T133219Z
LAST-MODIFIED:20260127T133453Z
UID:10004308-1895735700-1895739300@fccunited.org
SUMMARY:Study Classes
DESCRIPTION:We offer classes for adults and for youth.
URL:https://fccunited.org/event/study-classes/2030-01-27/
CATEGORIES:Bible Study
ATTACH;FMTTYPE=image/jpeg:https://fccunited.org/wp-content/uploads/2026/01/study-class.jpg
END:VEVENT
BEGIN:VEVENT
DTSTART;TZID=America/Chicago:20300127T102500
DTEND;TZID=America/Chicago:20300127T113000
DTSTAMP:20260423T183359
CREATED:20260325T123948Z
LAST-MODIFIED:20260325T123948Z
UID:10005681-1895739900-1895743800@fccunited.org
SUMMARY:Sunday Worship
DESCRIPTION:
URL:https://fccunited.org/event/sunday-worship/2030-01-27/
CATEGORIES:Worship
END:VEVENT
END:VCALENDAR