BEGIN:VCALENDAR
VERSION:2.0
PRODID:-//First Christian Church  United Lewisville, Texas - ECPv6.15.14//NONSGML v1.0//EN
CALSCALE:GREGORIAN
METHOD:PUBLISH
X-ORIGINAL-URL:https://fccunited.org
X-WR-CALDESC:Events for First Christian Church  United Lewisville, Texas
REFRESH-INTERVAL;VALUE=DURATION:PT1H
X-Robots-Tag:noindex
X-PUBLISHED-TTL:PT1H
BEGIN:VTIMEZONE
TZID:America/Chicago
BEGIN:DAYLIGHT
TZOFFSETFROM:-0600
TZOFFSETTO:-0500
TZNAME:CDT
DTSTART:20290311T080000
END:DAYLIGHT
BEGIN:STANDARD
TZOFFSETFROM:-0500
TZOFFSETTO:-0600
TZNAME:CST
DTSTART:20291104T070000
END:STANDARD
BEGIN:DAYLIGHT
TZOFFSETFROM:-0600
TZOFFSETTO:-0500
TZNAME:CDT
DTSTART:20300310T080000
END:DAYLIGHT
BEGIN:STANDARD
TZOFFSETFROM:-0500
TZOFFSETTO:-0600
TZNAME:CST
DTSTART:20301103T070000
END:STANDARD
BEGIN:DAYLIGHT
TZOFFSETFROM:-0600
TZOFFSETTO:-0500
TZNAME:CDT
DTSTART:20310309T080000
END:DAYLIGHT
BEGIN:STANDARD
TZOFFSETFROM:-0500
TZOFFSETTO:-0600
TZNAME:CST
DTSTART:20311102T070000
END:STANDARD
END:VTIMEZONE
BEGIN:VEVENT
DTSTART;TZID=America/Chicago:20300929T102500
DTEND;TZID=America/Chicago:20300929T113000
DTSTAMP:20260424T073420
CREATED:20260325T123948Z
LAST-MODIFIED:20260325T123948Z
UID:10005716-1916907900-1916911800@fccunited.org
SUMMARY:Sunday Worship
DESCRIPTION:
URL:https://fccunited.org/event/sunday-worship/2030-09-29/
CATEGORIES:Worship
END:VEVENT
BEGIN:VEVENT
DTSTART;TZID=America/Chicago:20301002T160000
DTEND;TZID=America/Chicago:20301002T170000
DTSTAMP:20260424T073420
CREATED:20260221T121225Z
LAST-MODIFIED:20260221T122346Z
UID:10004990-1917187200-1917190800@fccunited.org
SUMMARY:Hour of Prayer
DESCRIPTION:
URL:https://fccunited.org/event/hour-of-prayer/2030-10-02/
CATEGORIES:Fellowship
ATTACH;FMTTYPE=image/jpeg:https://fccunited.org/wp-content/uploads/2026/02/hour-of-prayer-1.jpg
END:VEVENT
BEGIN:VEVENT
DTSTART;TZID=America/Chicago:20301002T170000
DTEND;TZID=America/Chicago:20301002T190000
DTSTAMP:20260424T073420
CREATED:20260221T121346Z
LAST-MODIFIED:20260221T121447Z
UID:10005251-1917190800-1917198000@fccunited.org
SUMMARY:Midweek Connection
DESCRIPTION:
URL:https://fccunited.org/event/midweek-connection/2030-10-02/
CATEGORIES:Fellowship
ATTACH;FMTTYPE=image/jpeg:https://fccunited.org/wp-content/uploads/2026/02/midweek-connection-3.jpg
END:VEVENT
BEGIN:VEVENT
DTSTART;TZID=America/Chicago:20301002T190000
DTEND;TZID=America/Chicago:20301002T200000
DTSTAMP:20260424T073420
CREATED:20260108T163528Z
LAST-MODIFIED:20260210T171104Z
UID:10003715-1917198000-1917201600@fccunited.org
SUMMARY:Choir Practice
DESCRIPTION:
URL:https://fccunited.org/event/choir-practice-4/2030-10-02/
CATEGORIES:Worship
ATTACH;FMTTYPE=image/jpeg:https://fccunited.org/wp-content/uploads/2026/01/choir-practice.jpg
END:VEVENT
BEGIN:VEVENT
DTSTART;TZID=America/Chicago:20301005T083000
DTEND;TZID=America/Chicago:20301005T123000
DTSTAMP:20260424T073420
CREATED:20260421T113553Z
LAST-MODIFIED:20260421T114056Z
UID:10005949-1917419400-1917433800@fccunited.org
SUMMARY:Shipwright Food Pantry
DESCRIPTION:Shipwrights Food Pantry Ministry\n\nOn the 1st and 3rd Saturday of each month\, the Shipwrights Food Pantry provides a hot meal\,  groceries and other items for those facing food insecurity in Lewisville and the surrounding area. \nIf you would like to participate in this ministry\,  the time runs from 8:30am - 12:30pm.  Volunteers meet in the Serenity Church/FCCU parking lot at 8:30 on the 1st and 3rd Saturday of the month for preparations. \nFor more information reach out to Ken Blackerby at: 817-492-6983
URL:https://fccunited.org/event/shipwright-food-pantry/2030-10-05/
CATEGORIES:Ministries
ATTACH;FMTTYPE=image/png:https://fccunited.org/wp-content/uploads/2026/04/shipwrights-food-pantry.png
END:VEVENT
BEGIN:VEVENT
DTSTART;TZID=America/Chicago:20301006T091500
DTEND;TZID=America/Chicago:20301006T101500
DTSTAMP:20260424T073420
CREATED:20260127T133219Z
LAST-MODIFIED:20260127T133453Z
UID:10004344-1917508500-1917512100@fccunited.org
SUMMARY:Study Classes
DESCRIPTION:We offer classes for adults and for youth.
URL:https://fccunited.org/event/study-classes/2030-10-06/
CATEGORIES:Bible Study
ATTACH;FMTTYPE=image/jpeg:https://fccunited.org/wp-content/uploads/2026/01/study-class.jpg
END:VEVENT
BEGIN:VEVENT
DTSTART;TZID=America/Chicago:20301006T102500
DTEND;TZID=America/Chicago:20301006T113000
DTSTAMP:20260424T073420
CREATED:20260325T123948Z
LAST-MODIFIED:20260325T123948Z
UID:10005717-1917512700-1917516600@fccunited.org
SUMMARY:Sunday Worship
DESCRIPTION:
URL:https://fccunited.org/event/sunday-worship/2030-10-06/
CATEGORIES:Worship
END:VEVENT
BEGIN:VEVENT
DTSTART;TZID=America/Chicago:20301006T103000
DTEND;TZID=America/Chicago:20301006T113000
DTSTAMP:20260424T073420
CREATED:20260127T131829Z
LAST-MODIFIED:20260127T131829Z
UID:10004096-1917513000-1917516600@fccunited.org
SUMMARY:First Fruits Sunday
DESCRIPTION:Collecting non-perishables for CCA and Metrocrest Social Services.
URL:https://fccunited.org/event/first-fruits-sunday/2030-10-06/
CATEGORIES:Ministries
ATTACH;FMTTYPE=image/jpeg:https://fccunited.org/wp-content/uploads/2026/01/first-fruits-and-toilet-paper-sunday.jpg
END:VEVENT
BEGIN:VEVENT
DTSTART;TZID=America/Chicago:20301006T113000
DTEND;TZID=America/Chicago:20301006T123000
DTSTAMP:20260424T073421
CREATED:20260311T144206Z
LAST-MODIFIED:20260311T144208Z
UID:10005332-1917516600-1917520200@fccunited.org
SUMMARY:Fellowship Lunch
DESCRIPTION:
URL:https://fccunited.org/event/fellowship-lunch-2-2/2030-10-06/
LOCATION:Praise in the Morning Devotional - November 30\, 2025
CATEGORIES:Fellowship
END:VEVENT
BEGIN:VEVENT
DTSTART;TZID=America/Chicago:20301009T160000
DTEND;TZID=America/Chicago:20301009T170000
DTSTAMP:20260424T073421
CREATED:20260221T121225Z
LAST-MODIFIED:20260221T122346Z
UID:10004991-1917792000-1917795600@fccunited.org
SUMMARY:Hour of Prayer
DESCRIPTION:
URL:https://fccunited.org/event/hour-of-prayer/2030-10-09/
CATEGORIES:Fellowship
ATTACH;FMTTYPE=image/jpeg:https://fccunited.org/wp-content/uploads/2026/02/hour-of-prayer-1.jpg
END:VEVENT
BEGIN:VEVENT
DTSTART;TZID=America/Chicago:20301009T170000
DTEND;TZID=America/Chicago:20301009T190000
DTSTAMP:20260424T073421
CREATED:20260221T121346Z
LAST-MODIFIED:20260221T121447Z
UID:10005252-1917795600-1917802800@fccunited.org
SUMMARY:Midweek Connection
DESCRIPTION:
URL:https://fccunited.org/event/midweek-connection/2030-10-09/
CATEGORIES:Fellowship
ATTACH;FMTTYPE=image/jpeg:https://fccunited.org/wp-content/uploads/2026/02/midweek-connection-3.jpg
END:VEVENT
BEGIN:VEVENT
DTSTART;TZID=America/Chicago:20301009T190000
DTEND;TZID=America/Chicago:20301009T200000
DTSTAMP:20260424T073421
CREATED:20260108T163528Z
LAST-MODIFIED:20260210T171104Z
UID:10003716-1917802800-1917806400@fccunited.org
SUMMARY:Choir Practice
DESCRIPTION:
URL:https://fccunited.org/event/choir-practice-4/2030-10-09/
CATEGORIES:Worship
ATTACH;FMTTYPE=image/jpeg:https://fccunited.org/wp-content/uploads/2026/01/choir-practice.jpg
END:VEVENT
BEGIN:VEVENT
DTSTART;TZID=America/Chicago:20301012T100000
DTEND;TZID=America/Chicago:20301012T113000
DTSTAMP:20260424T073421
CREATED:20260224T200455Z
LAST-MODIFIED:20260224T200455Z
UID:10005392-1918029600-1918035000@fccunited.org
SUMMARY:Pin Pal Sewing Ministry
DESCRIPTION:
URL:https://fccunited.org/event/pin-pal-sewing-ministry/2030-10-12/
CATEGORIES:Fellowship
ATTACH;FMTTYPE=image/jpeg:https://fccunited.org/wp-content/uploads/2026/02/20260214-sewing-ministry.jpg
END:VEVENT
BEGIN:VEVENT
DTSTART;TZID=America/Chicago:20301013T091500
DTEND;TZID=America/Chicago:20301013T101500
DTSTAMP:20260424T073421
CREATED:20260127T133219Z
LAST-MODIFIED:20260127T133453Z
UID:10004345-1918113300-1918116900@fccunited.org
SUMMARY:Study Classes
DESCRIPTION:We offer classes for adults and for youth.
URL:https://fccunited.org/event/study-classes/2030-10-13/
CATEGORIES:Bible Study
ATTACH;FMTTYPE=image/jpeg:https://fccunited.org/wp-content/uploads/2026/01/study-class.jpg
END:VEVENT
BEGIN:VEVENT
DTSTART;TZID=America/Chicago:20301013T102500
DTEND;TZID=America/Chicago:20301013T113000
DTSTAMP:20260424T073421
CREATED:20260325T123948Z
LAST-MODIFIED:20260325T123948Z
UID:10005718-1918117500-1918121400@fccunited.org
SUMMARY:Sunday Worship
DESCRIPTION:
URL:https://fccunited.org/event/sunday-worship/2030-10-13/
CATEGORIES:Worship
END:VEVENT
BEGIN:VEVENT
DTSTART;TZID=America/Chicago:20301014T190000
DTEND;TZID=America/Chicago:20301014T203000
DTSTAMP:20260424T073421
CREATED:20260227T135325Z
LAST-MODIFIED:20260227T135325Z
UID:10005453-1918234800-1918240200@fccunited.org
SUMMARY:Agape Men
DESCRIPTION:
URL:https://fccunited.org/event/agape-men-2/2030-10-14/
CATEGORIES:Fellowship
ATTACH;FMTTYPE=image/jpeg:https://fccunited.org/wp-content/uploads/2026/02/20260309-agape-men.jpg
END:VEVENT
BEGIN:VEVENT
DTSTART;TZID=America/Chicago:20301016T160000
DTEND;TZID=America/Chicago:20301016T170000
DTSTAMP:20260424T073421
CREATED:20260221T121225Z
LAST-MODIFIED:20260221T122346Z
UID:10004992-1918396800-1918400400@fccunited.org
SUMMARY:Hour of Prayer
DESCRIPTION:
URL:https://fccunited.org/event/hour-of-prayer/2030-10-16/
CATEGORIES:Fellowship
ATTACH;FMTTYPE=image/jpeg:https://fccunited.org/wp-content/uploads/2026/02/hour-of-prayer-1.jpg
END:VEVENT
BEGIN:VEVENT
DTSTART;TZID=America/Chicago:20301016T170000
DTEND;TZID=America/Chicago:20301016T190000
DTSTAMP:20260424T073421
CREATED:20260221T121346Z
LAST-MODIFIED:20260221T121447Z
UID:10005253-1918400400-1918407600@fccunited.org
SUMMARY:Midweek Connection
DESCRIPTION:
URL:https://fccunited.org/event/midweek-connection/2030-10-16/
CATEGORIES:Fellowship
ATTACH;FMTTYPE=image/jpeg:https://fccunited.org/wp-content/uploads/2026/02/midweek-connection-3.jpg
END:VEVENT
BEGIN:VEVENT
DTSTART;TZID=America/Chicago:20301016T190000
DTEND;TZID=America/Chicago:20301016T200000
DTSTAMP:20260424T073421
CREATED:20260108T163528Z
LAST-MODIFIED:20260210T171104Z
UID:10003717-1918407600-1918411200@fccunited.org
SUMMARY:Choir Practice
DESCRIPTION:
URL:https://fccunited.org/event/choir-practice-4/2030-10-16/
CATEGORIES:Worship
ATTACH;FMTTYPE=image/jpeg:https://fccunited.org/wp-content/uploads/2026/01/choir-practice.jpg
END:VEVENT
BEGIN:VEVENT
DTSTART;TZID=America/Chicago:20301020T091500
DTEND;TZID=America/Chicago:20301020T101500
DTSTAMP:20260424T073421
CREATED:20260127T133219Z
LAST-MODIFIED:20260127T133453Z
UID:10004346-1918718100-1918721700@fccunited.org
SUMMARY:Study Classes
DESCRIPTION:We offer classes for adults and for youth.
URL:https://fccunited.org/event/study-classes/2030-10-20/
CATEGORIES:Bible Study
ATTACH;FMTTYPE=image/jpeg:https://fccunited.org/wp-content/uploads/2026/01/study-class.jpg
END:VEVENT
BEGIN:VEVENT
DTSTART;TZID=America/Chicago:20301020T102500
DTEND;TZID=America/Chicago:20301020T113000
DTSTAMP:20260424T073421
CREATED:20260325T123948Z
LAST-MODIFIED:20260325T123948Z
UID:10005719-1918722300-1918726200@fccunited.org
SUMMARY:Sunday Worship
DESCRIPTION:
URL:https://fccunited.org/event/sunday-worship/2030-10-20/
CATEGORIES:Worship
END:VEVENT
BEGIN:VEVENT
DTSTART;TZID=America/Chicago:20301022T190000
DTEND;TZID=America/Chicago:20301022T203000
DTSTAMP:20260424T073421
CREATED:20260127T122330Z
LAST-MODIFIED:20260127T131202Z
UID:10004037-1918926000-1918931400@fccunited.org
SUMMARY:Potpourri Ladies
DESCRIPTION:
URL:https://fccunited.org/event/potpourri-ladies/2030-10-22/
CATEGORIES:Fellowship
ATTACH;FMTTYPE=image/jpeg:https://fccunited.org/wp-content/uploads/2026/01/20260127-potpourri-ladies-1.jpg
END:VEVENT
BEGIN:VEVENT
DTSTART;TZID=America/Chicago:20301023T160000
DTEND;TZID=America/Chicago:20301023T170000
DTSTAMP:20260424T073421
CREATED:20260221T121225Z
LAST-MODIFIED:20260221T122346Z
UID:10004993-1919001600-1919005200@fccunited.org
SUMMARY:Hour of Prayer
DESCRIPTION:
URL:https://fccunited.org/event/hour-of-prayer/2030-10-23/
CATEGORIES:Fellowship
ATTACH;FMTTYPE=image/jpeg:https://fccunited.org/wp-content/uploads/2026/02/hour-of-prayer-1.jpg
END:VEVENT
BEGIN:VEVENT
DTSTART;TZID=America/Chicago:20301023T170000
DTEND;TZID=America/Chicago:20301023T190000
DTSTAMP:20260424T073421
CREATED:20260221T121346Z
LAST-MODIFIED:20260221T121447Z
UID:10005254-1919005200-1919012400@fccunited.org
SUMMARY:Midweek Connection
DESCRIPTION:
URL:https://fccunited.org/event/midweek-connection/2030-10-23/
CATEGORIES:Fellowship
ATTACH;FMTTYPE=image/jpeg:https://fccunited.org/wp-content/uploads/2026/02/midweek-connection-3.jpg
END:VEVENT
BEGIN:VEVENT
DTSTART;TZID=America/Chicago:20301023T190000
DTEND;TZID=America/Chicago:20301023T200000
DTSTAMP:20260424T073421
CREATED:20260108T163528Z
LAST-MODIFIED:20260210T171104Z
UID:10003718-1919012400-1919016000@fccunited.org
SUMMARY:Choir Practice
DESCRIPTION:
URL:https://fccunited.org/event/choir-practice-4/2030-10-23/
CATEGORIES:Worship
ATTACH;FMTTYPE=image/jpeg:https://fccunited.org/wp-content/uploads/2026/01/choir-practice.jpg
END:VEVENT
BEGIN:VEVENT
DTSTART;TZID=America/Chicago:20301024T100000
DTEND;TZID=America/Chicago:20301024T233000
DTSTAMP:20260424T073421
CREATED:20260216T125355Z
LAST-MODIFIED:20260415T134412Z
UID:10004685-1919066400-1919115000@fccunited.org
SUMMARY:MomCo
DESCRIPTION:Mom\, join us for faith\, fun\, and fellowship the fourth Thursday of each month.  Childcare is provided. \nCall 972-446-9808 for more information.
URL:https://fccunited.org/event/momco-1000-a-m-2/2030-10-24/
CATEGORIES:Fellowship
ATTACH;FMTTYPE=image/jpeg:https://fccunited.org/wp-content/uploads/2026/02/20260122-momco-3.jpg
END:VEVENT
BEGIN:VEVENT
DTSTART;TZID=America/Chicago:20301027T081500
DTEND;TZID=America/Chicago:20301027T091500
DTSTAMP:20260424T073421
CREATED:20260221T120438Z
LAST-MODIFIED:20260221T120438Z
UID:10004746-1919319300-1919322900@fccunited.org
SUMMARY:Elders Meeting
DESCRIPTION:
URL:https://fccunited.org/event/elders-meeting/2030-10-27/
CATEGORIES:Fellowship
ATTACH;FMTTYPE=image/jpeg:https://fccunited.org/wp-content/uploads/2026/02/20260125-elder-meeting.jpg
END:VEVENT
BEGIN:VEVENT
DTSTART;TZID=America/Chicago:20301027T091500
DTEND;TZID=America/Chicago:20301027T101500
DTSTAMP:20260424T073421
CREATED:20260127T133219Z
LAST-MODIFIED:20260127T133453Z
UID:10004347-1919322900-1919326500@fccunited.org
SUMMARY:Study Classes
DESCRIPTION:We offer classes for adults and for youth.
URL:https://fccunited.org/event/study-classes/2030-10-27/
CATEGORIES:Bible Study
ATTACH;FMTTYPE=image/jpeg:https://fccunited.org/wp-content/uploads/2026/01/study-class.jpg
END:VEVENT
BEGIN:VEVENT
DTSTART;TZID=America/Chicago:20301027T102500
DTEND;TZID=America/Chicago:20301027T113000
DTSTAMP:20260424T073421
CREATED:20260325T123948Z
LAST-MODIFIED:20260325T123948Z
UID:10005720-1919327100-1919331000@fccunited.org
SUMMARY:Sunday Worship
DESCRIPTION:
URL:https://fccunited.org/event/sunday-worship/2030-10-27/
CATEGORIES:Worship
END:VEVENT
BEGIN:VEVENT
DTSTART;TZID=America/Chicago:20301030T160000
DTEND;TZID=America/Chicago:20301030T170000
DTSTAMP:20260424T073421
CREATED:20260221T121225Z
LAST-MODIFIED:20260221T122346Z
UID:10004994-1919606400-1919610000@fccunited.org
SUMMARY:Hour of Prayer
DESCRIPTION:
URL:https://fccunited.org/event/hour-of-prayer/2030-10-30/
CATEGORIES:Fellowship
ATTACH;FMTTYPE=image/jpeg:https://fccunited.org/wp-content/uploads/2026/02/hour-of-prayer-1.jpg
END:VEVENT
END:VCALENDAR