BEGIN:VCALENDAR
VERSION:2.0
PRODID:-//First Christian Church  United Lewisville, Texas - ECPv6.15.14//NONSGML v1.0//EN
CALSCALE:GREGORIAN
METHOD:PUBLISH
X-WR-CALNAME:First Christian Church  United Lewisville, Texas
X-ORIGINAL-URL:https://fccunited.org
X-WR-CALDESC:Events for First Christian Church  United Lewisville, Texas
REFRESH-INTERVAL;VALUE=DURATION:PT1H
X-Robots-Tag:noindex
X-PUBLISHED-TTL:PT1H
BEGIN:VTIMEZONE
TZID:America/Chicago
BEGIN:DAYLIGHT
TZOFFSETFROM:-0600
TZOFFSETTO:-0500
TZNAME:CDT
DTSTART:20250309T080000
END:DAYLIGHT
BEGIN:STANDARD
TZOFFSETFROM:-0500
TZOFFSETTO:-0600
TZNAME:CST
DTSTART:20251102T070000
END:STANDARD
BEGIN:DAYLIGHT
TZOFFSETFROM:-0600
TZOFFSETTO:-0500
TZNAME:CDT
DTSTART:20260308T080000
END:DAYLIGHT
BEGIN:STANDARD
TZOFFSETFROM:-0500
TZOFFSETTO:-0600
TZNAME:CST
DTSTART:20261101T070000
END:STANDARD
BEGIN:DAYLIGHT
TZOFFSETFROM:-0600
TZOFFSETTO:-0500
TZNAME:CDT
DTSTART:20270314T080000
END:DAYLIGHT
BEGIN:STANDARD
TZOFFSETFROM:-0500
TZOFFSETTO:-0600
TZNAME:CST
DTSTART:20271107T070000
END:STANDARD
END:VTIMEZONE
BEGIN:VEVENT
DTSTART;TZID=America/Chicago:20260503T091500
DTEND;TZID=America/Chicago:20260503T101500
DTSTAMP:20260420T200940
CREATED:20260127T133219Z
LAST-MODIFIED:20260127T133453Z
UID:10004113-1777799700-1777803300@fccunited.org
SUMMARY:Study Classes
DESCRIPTION:We offer classes for adults and for youth.
URL:https://fccunited.org/event/study-classes/2026-05-03/
CATEGORIES:Bible Study
ATTACH;FMTTYPE=image/jpeg:https://fccunited.org/wp-content/uploads/2026/01/study-class.jpg
END:VEVENT
BEGIN:VEVENT
DTSTART;TZID=America/Chicago:20260430T190000
DTEND;TZID=America/Chicago:20260430T210000
DTSTAMP:20260420T200940
CREATED:20260227T140107Z
LAST-MODIFIED:20260311T142947Z
UID:10005473-1777575600-1777582800@fccunited.org
SUMMARY:GriefShare
DESCRIPTION:For more information\, contact us at griefshare@fccunited.org \nor visit https://find.griefshare.org/groups/284199.
URL:https://fccunited.org/event/griefshare-2-2/2026-04-30/
CATEGORIES:Ministries
ATTACH;FMTTYPE=image/jpeg:https://fccunited.org/wp-content/uploads/2026/01/20260212-griefshare-fb-1.jpg
END:VEVENT
BEGIN:VEVENT
DTSTART;TZID=America/Chicago:20260429T190000
DTEND;TZID=America/Chicago:20260429T200000
DTSTAMP:20260420T200940
CREATED:20260108T163528Z
LAST-MODIFIED:20260210T171104Z
UID:10003484-1777489200-1777492800@fccunited.org
SUMMARY:Choir Practice
DESCRIPTION:
URL:https://fccunited.org/event/choir-practice-4/2026-04-29/
CATEGORIES:Worship
ATTACH;FMTTYPE=image/jpeg:https://fccunited.org/wp-content/uploads/2026/01/choir-practice.jpg
END:VEVENT
BEGIN:VEVENT
DTSTART;TZID=America/Chicago:20260429T170000
DTEND;TZID=America/Chicago:20260429T190000
DTSTAMP:20260420T200940
CREATED:20260221T121346Z
LAST-MODIFIED:20260221T121447Z
UID:10005020-1777482000-1777489200@fccunited.org
SUMMARY:Midweek Connection
DESCRIPTION:
URL:https://fccunited.org/event/midweek-connection/2026-04-29/
CATEGORIES:Fellowship
ATTACH;FMTTYPE=image/jpeg:https://fccunited.org/wp-content/uploads/2026/02/midweek-connection-3.jpg
END:VEVENT
BEGIN:VEVENT
DTSTART;TZID=America/Chicago:20260429T160000
DTEND;TZID=America/Chicago:20260429T170000
DTSTAMP:20260420T200940
CREATED:20260221T121225Z
LAST-MODIFIED:20260221T122346Z
UID:10004759-1777478400-1777482000@fccunited.org
SUMMARY:Hour of Prayer
DESCRIPTION:
URL:https://fccunited.org/event/hour-of-prayer/2026-04-29/
CATEGORIES:Fellowship
ATTACH;FMTTYPE=image/jpeg:https://fccunited.org/wp-content/uploads/2026/02/hour-of-prayer-1.jpg
END:VEVENT
BEGIN:VEVENT
DTSTART;TZID=America/Chicago:20260428T190000
DTEND;TZID=America/Chicago:20260428T203000
DTSTAMP:20260420T200940
CREATED:20260127T122330Z
LAST-MODIFIED:20260127T131202Z
UID:10003983-1777402800-1777408200@fccunited.org
SUMMARY:Potpourri Ladies
DESCRIPTION:
URL:https://fccunited.org/event/potpourri-ladies/2026-04-28/
CATEGORIES:Fellowship
ATTACH;FMTTYPE=image/jpeg:https://fccunited.org/wp-content/uploads/2026/01/20260127-potpourri-ladies-1.jpg
END:VEVENT
BEGIN:VEVENT
DTSTART;TZID=America/Chicago:20260426T102500
DTEND;TZID=America/Chicago:20260426T113000
DTSTAMP:20260420T200940
CREATED:20260415T140443Z
LAST-MODIFIED:20260415T140444Z
UID:10005485-1777199100-1777203000@fccunited.org
SUMMARY:Sunday Worship
DESCRIPTION:
URL:https://fccunited.org/event/sunday-worship-4/
CATEGORIES:Worship
ATTACH;FMTTYPE=image/jpeg:https://fccunited.org/wp-content/uploads/2026/04/a-road-to-discovery.jpg
END:VEVENT
BEGIN:VEVENT
DTSTART;TZID=America/Chicago:20260426T091500
DTEND;TZID=America/Chicago:20260426T101500
DTSTAMP:20260420T200940
CREATED:20260127T133219Z
LAST-MODIFIED:20260127T133453Z
UID:10004112-1777194900-1777198500@fccunited.org
SUMMARY:Study Classes
DESCRIPTION:We offer classes for adults and for youth.
URL:https://fccunited.org/event/study-classes/2026-04-26/
CATEGORIES:Bible Study
ATTACH;FMTTYPE=image/jpeg:https://fccunited.org/wp-content/uploads/2026/01/study-class.jpg
END:VEVENT
BEGIN:VEVENT
DTSTART;TZID=America/Chicago:20260426T081500
DTEND;TZID=America/Chicago:20260426T091500
DTSTAMP:20260420T200940
CREATED:20260221T120438Z
LAST-MODIFIED:20260221T120438Z
UID:10004692-1777191300-1777194900@fccunited.org
SUMMARY:Elders Meeting
DESCRIPTION:
URL:https://fccunited.org/event/elders-meeting/2026-04-26/
CATEGORIES:Fellowship
ATTACH;FMTTYPE=image/jpeg:https://fccunited.org/wp-content/uploads/2026/02/20260125-elder-meeting.jpg
END:VEVENT
BEGIN:VEVENT
DTSTART;TZID=America/Chicago:20260423T190000
DTEND;TZID=America/Chicago:20260423T210000
DTSTAMP:20260420T200940
CREATED:20260227T140107Z
LAST-MODIFIED:20260311T142947Z
UID:10005472-1776970800-1776978000@fccunited.org
SUMMARY:GriefShare
DESCRIPTION:For more information\, contact us at griefshare@fccunited.org \nor visit https://find.griefshare.org/groups/284199.
URL:https://fccunited.org/event/griefshare-2-2/2026-04-23/
CATEGORIES:Ministries
ATTACH;FMTTYPE=image/jpeg:https://fccunited.org/wp-content/uploads/2026/01/20260212-griefshare-fb-1.jpg
END:VEVENT
BEGIN:VEVENT
DTSTART;TZID=America/Chicago:20260423T100000
DTEND;TZID=America/Chicago:20260423T233000
DTSTAMP:20260420T200940
CREATED:20260216T125355Z
LAST-MODIFIED:20260415T134412Z
UID:10004631-1776938400-1776987000@fccunited.org
SUMMARY:MomCo
DESCRIPTION:Mom\, join us for faith\, fun\, and fellowship the fourth Thursday of each month.  Childcare is provided. \nCall 972-446-9808 for more information.
URL:https://fccunited.org/event/momco-1000-a-m-2/2026-04-23/
CATEGORIES:Fellowship
ATTACH;FMTTYPE=image/jpeg:https://fccunited.org/wp-content/uploads/2026/02/20260122-momco-3.jpg
END:VEVENT
BEGIN:VEVENT
DTSTART;TZID=America/Chicago:20260422T190000
DTEND;TZID=America/Chicago:20260422T200000
DTSTAMP:20260420T200940
CREATED:20260108T163528Z
LAST-MODIFIED:20260210T171104Z
UID:10003483-1776884400-1776888000@fccunited.org
SUMMARY:Choir Practice
DESCRIPTION:
URL:https://fccunited.org/event/choir-practice-4/2026-04-22/
CATEGORIES:Worship
ATTACH;FMTTYPE=image/jpeg:https://fccunited.org/wp-content/uploads/2026/01/choir-practice.jpg
END:VEVENT
BEGIN:VEVENT
DTSTART;TZID=America/Chicago:20260422T170000
DTEND;TZID=America/Chicago:20260422T190000
DTSTAMP:20260420T200940
CREATED:20260221T121346Z
LAST-MODIFIED:20260221T121447Z
UID:10005019-1776877200-1776884400@fccunited.org
SUMMARY:Midweek Connection
DESCRIPTION:
URL:https://fccunited.org/event/midweek-connection/2026-04-22/
CATEGORIES:Fellowship
ATTACH;FMTTYPE=image/jpeg:https://fccunited.org/wp-content/uploads/2026/02/midweek-connection-3.jpg
END:VEVENT
BEGIN:VEVENT
DTSTART;TZID=America/Chicago:20260422T160000
DTEND;TZID=America/Chicago:20260422T170000
DTSTAMP:20260420T200940
CREATED:20260221T121225Z
LAST-MODIFIED:20260221T122346Z
UID:10004758-1776873600-1776877200@fccunited.org
SUMMARY:Hour of Prayer
DESCRIPTION:
URL:https://fccunited.org/event/hour-of-prayer/2026-04-22/
CATEGORIES:Fellowship
ATTACH;FMTTYPE=image/jpeg:https://fccunited.org/wp-content/uploads/2026/02/hour-of-prayer-1.jpg
END:VEVENT
BEGIN:VEVENT
DTSTART;TZID=America/Chicago:20260420T173000
DTEND;TZID=America/Chicago:20260420T200000
DTSTAMP:20260420T200940
CREATED:20260127T130121Z
LAST-MODIFIED:20260127T130121Z
UID:10003971-1776706200-1776715200@fccunited.org
SUMMARY:Stephen Ministry Supervision Group
DESCRIPTION:
URL:https://fccunited.org/event/stephen-ministry-supervision-group-2/2026-04-20/
CATEGORIES:Ministries
ATTACH;FMTTYPE=image/jpeg:https://fccunited.org/wp-content/uploads/2026/01/stephen-ministry-1.jpg
END:VEVENT
BEGIN:VEVENT
DTSTART;TZID=America/Chicago:20260419T102500
DTEND;TZID=America/Chicago:20260419T113000
DTSTAMP:20260420T200940
CREATED:20260325T123948Z
LAST-MODIFIED:20260325T123948Z
UID:10005484-1776594300-1776598200@fccunited.org
SUMMARY:Sunday Worship
DESCRIPTION:
URL:https://fccunited.org/event/sunday-worship/2026-04-19/
CATEGORIES:Worship
END:VEVENT
BEGIN:VEVENT
DTSTART;TZID=America/Chicago:20260419T091500
DTEND;TZID=America/Chicago:20260419T101500
DTSTAMP:20260420T200940
CREATED:20260127T133219Z
LAST-MODIFIED:20260127T133453Z
UID:10004111-1776590100-1776593700@fccunited.org
SUMMARY:Study Classes
DESCRIPTION:We offer classes for adults and for youth.
URL:https://fccunited.org/event/study-classes/2026-04-19/
CATEGORIES:Bible Study
ATTACH;FMTTYPE=image/jpeg:https://fccunited.org/wp-content/uploads/2026/01/study-class.jpg
END:VEVENT
BEGIN:VEVENT
DTSTART;TZID=America/Chicago:20260417T170000
DTEND;TZID=America/Chicago:20260417T193000
DTSTAMP:20260420T200940
CREATED:20260127T123957Z
LAST-MODIFIED:20260222T131140Z
UID:10005273-1776445200-1776454200@fccunited.org
SUMMARY:Meet and Eat Game Night
DESCRIPTION:Meet to eat at Cristina's Fine Mexican Restaurant located at 360 Round Grove Rd. at 5:00 p.m.  Then back to church for cards and dominoes at 6:00 p.m. \nCan't make both\, join us for what you can!
URL:https://fccunited.org/event/meet-and-eat-game-night-2/2026-04-17/
LOCATION:Praise in the Morning Devotional - November 30\, 2025
CATEGORIES:Fellowship
ATTACH;FMTTYPE=image/jpeg:https://fccunited.org/wp-content/uploads/2026/01/20260220-meet-and-eat-game-night.jpg
END:VEVENT
BEGIN:VEVENT
DTSTART;TZID=America/Chicago:20260416T190000
DTEND;TZID=America/Chicago:20260416T210000
DTSTAMP:20260420T200940
CREATED:20260227T140107Z
LAST-MODIFIED:20260311T142947Z
UID:10005471-1776366000-1776373200@fccunited.org
SUMMARY:GriefShare
DESCRIPTION:For more information\, contact us at griefshare@fccunited.org \nor visit https://find.griefshare.org/groups/284199.
URL:https://fccunited.org/event/griefshare-2-2/2026-04-16/
CATEGORIES:Ministries
ATTACH;FMTTYPE=image/jpeg:https://fccunited.org/wp-content/uploads/2026/01/20260212-griefshare-fb-1.jpg
END:VEVENT
BEGIN:VEVENT
DTSTART;TZID=America/Chicago:20260415T190000
DTEND;TZID=America/Chicago:20260415T200000
DTSTAMP:20260420T200940
CREATED:20260108T163528Z
LAST-MODIFIED:20260210T171104Z
UID:10003482-1776279600-1776283200@fccunited.org
SUMMARY:Choir Practice
DESCRIPTION:
URL:https://fccunited.org/event/choir-practice-4/2026-04-15/
CATEGORIES:Worship
ATTACH;FMTTYPE=image/jpeg:https://fccunited.org/wp-content/uploads/2026/01/choir-practice.jpg
END:VEVENT
BEGIN:VEVENT
DTSTART;TZID=America/Chicago:20260415T170000
DTEND;TZID=America/Chicago:20260415T190000
DTSTAMP:20260420T200940
CREATED:20260221T121346Z
LAST-MODIFIED:20260221T121447Z
UID:10005018-1776272400-1776279600@fccunited.org
SUMMARY:Midweek Connection
DESCRIPTION:
URL:https://fccunited.org/event/midweek-connection/2026-04-15/
CATEGORIES:Fellowship
ATTACH;FMTTYPE=image/jpeg:https://fccunited.org/wp-content/uploads/2026/02/midweek-connection-3.jpg
END:VEVENT
BEGIN:VEVENT
DTSTART;TZID=America/Chicago:20260415T160000
DTEND;TZID=America/Chicago:20260415T170000
DTSTAMP:20260420T200940
CREATED:20260221T121225Z
LAST-MODIFIED:20260221T122346Z
UID:10004757-1776268800-1776272400@fccunited.org
SUMMARY:Hour of Prayer
DESCRIPTION:
URL:https://fccunited.org/event/hour-of-prayer/2026-04-15/
CATEGORIES:Fellowship
ATTACH;FMTTYPE=image/jpeg:https://fccunited.org/wp-content/uploads/2026/02/hour-of-prayer-1.jpg
END:VEVENT
BEGIN:VEVENT
DTSTART;TZID=America/Chicago:20260413T190000
DTEND;TZID=America/Chicago:20260413T203000
DTSTAMP:20260420T200940
CREATED:20260227T135325Z
LAST-MODIFIED:20260227T135325Z
UID:10005399-1776106800-1776112200@fccunited.org
SUMMARY:Agape Men
DESCRIPTION:
URL:https://fccunited.org/event/agape-men-2/2026-04-13/
CATEGORIES:Fellowship
ATTACH;FMTTYPE=image/jpeg:https://fccunited.org/wp-content/uploads/2026/02/20260309-agape-men.jpg
END:VEVENT
BEGIN:VEVENT
DTSTART;TZID=America/Chicago:20260412T091500
DTEND;TZID=America/Chicago:20260412T101500
DTSTAMP:20260420T200940
CREATED:20260127T133219Z
LAST-MODIFIED:20260127T133453Z
UID:10004110-1775985300-1775988900@fccunited.org
SUMMARY:Study Classes
DESCRIPTION:We offer classes for adults and for youth.
URL:https://fccunited.org/event/study-classes/2026-04-12/
CATEGORIES:Bible Study
ATTACH;FMTTYPE=image/jpeg:https://fccunited.org/wp-content/uploads/2026/01/study-class.jpg
END:VEVENT
BEGIN:VEVENT
DTSTART;TZID=America/Chicago:20260411T100000
DTEND;TZID=America/Chicago:20260411T113000
DTSTAMP:20260420T200940
CREATED:20260224T200455Z
LAST-MODIFIED:20260224T200455Z
UID:10005338-1775901600-1775907000@fccunited.org
SUMMARY:Pin Pal Sewing Ministry
DESCRIPTION:
URL:https://fccunited.org/event/pin-pal-sewing-ministry/2026-04-11/
CATEGORIES:Fellowship
ATTACH;FMTTYPE=image/jpeg:https://fccunited.org/wp-content/uploads/2026/02/20260214-sewing-ministry.jpg
END:VEVENT
BEGIN:VEVENT
DTSTART;TZID=America/Chicago:20260411T083000
DTEND;TZID=America/Chicago:20260411T110000
DTSTAMP:20260420T200940
CREATED:20260124T140550Z
LAST-MODIFIED:20260402T143842Z
UID:10003808-1775896200-1775905200@fccunited.org
SUMMARY:Metrocrest Food Pantry
DESCRIPTION:
URL:https://fccunited.org/event/metrocrest-food-pantry-830-a-m/
CATEGORIES:Ministries
ATTACH;FMTTYPE=image/jpeg:https://fccunited.org/wp-content/uploads/2026/01/20260214-metrocrest-food-pantry.jpg
END:VEVENT
BEGIN:VEVENT
DTSTART;TZID=America/Chicago:20260409T190000
DTEND;TZID=America/Chicago:20260409T210000
DTSTAMP:20260420T200940
CREATED:20260227T140107Z
LAST-MODIFIED:20260311T142947Z
UID:10005470-1775761200-1775768400@fccunited.org
SUMMARY:GriefShare
DESCRIPTION:For more information\, contact us at griefshare@fccunited.org \nor visit https://find.griefshare.org/groups/284199.
URL:https://fccunited.org/event/griefshare-2-2/2026-04-09/
CATEGORIES:Ministries
ATTACH;FMTTYPE=image/jpeg:https://fccunited.org/wp-content/uploads/2026/01/20260212-griefshare-fb-1.jpg
END:VEVENT
BEGIN:VEVENT
DTSTART;TZID=America/Chicago:20260408T190000
DTEND;TZID=America/Chicago:20260408T200000
DTSTAMP:20260420T200940
CREATED:20260108T163528Z
LAST-MODIFIED:20260210T171104Z
UID:10003481-1775674800-1775678400@fccunited.org
SUMMARY:Choir Practice
DESCRIPTION:
URL:https://fccunited.org/event/choir-practice-4/2026-04-08/
CATEGORIES:Worship
ATTACH;FMTTYPE=image/jpeg:https://fccunited.org/wp-content/uploads/2026/01/choir-practice.jpg
END:VEVENT
BEGIN:VEVENT
DTSTART;TZID=America/Chicago:20260408T170000
DTEND;TZID=America/Chicago:20260408T190000
DTSTAMP:20260420T200940
CREATED:20260221T121346Z
LAST-MODIFIED:20260221T121447Z
UID:10005017-1775667600-1775674800@fccunited.org
SUMMARY:Midweek Connection
DESCRIPTION:
URL:https://fccunited.org/event/midweek-connection/2026-04-08/
CATEGORIES:Fellowship
ATTACH;FMTTYPE=image/jpeg:https://fccunited.org/wp-content/uploads/2026/02/midweek-connection-3.jpg
END:VEVENT
BEGIN:VEVENT
DTSTART;TZID=America/Chicago:20260408T160000
DTEND;TZID=America/Chicago:20260408T170000
DTSTAMP:20260420T200940
CREATED:20260221T121225Z
LAST-MODIFIED:20260221T122346Z
UID:10004756-1775664000-1775667600@fccunited.org
SUMMARY:Hour of Prayer
DESCRIPTION:
URL:https://fccunited.org/event/hour-of-prayer/2026-04-08/
CATEGORIES:Fellowship
ATTACH;FMTTYPE=image/jpeg:https://fccunited.org/wp-content/uploads/2026/02/hour-of-prayer-1.jpg
END:VEVENT
END:VCALENDAR