BEGIN:VCALENDAR
VERSION:2.0
PRODID:-//First Christian Church  United Lewisville, Texas - ECPv6.15.14//NONSGML v1.0//EN
CALSCALE:GREGORIAN
METHOD:PUBLISH
X-WR-CALNAME:First Christian Church  United Lewisville, Texas
X-ORIGINAL-URL:https://fccunited.org
X-WR-CALDESC:Events for First Christian Church  United Lewisville, Texas
REFRESH-INTERVAL;VALUE=DURATION:PT1H
X-Robots-Tag:noindex
X-PUBLISHED-TTL:PT1H
BEGIN:VTIMEZONE
TZID:America/Chicago
BEGIN:DAYLIGHT
TZOFFSETFROM:-0600
TZOFFSETTO:-0500
TZNAME:CDT
DTSTART:20270314T080000
END:DAYLIGHT
BEGIN:STANDARD
TZOFFSETFROM:-0500
TZOFFSETTO:-0600
TZNAME:CST
DTSTART:20271107T070000
END:STANDARD
BEGIN:DAYLIGHT
TZOFFSETFROM:-0600
TZOFFSETTO:-0500
TZNAME:CDT
DTSTART:20280312T080000
END:DAYLIGHT
BEGIN:STANDARD
TZOFFSETFROM:-0500
TZOFFSETTO:-0600
TZNAME:CST
DTSTART:20281105T070000
END:STANDARD
BEGIN:DAYLIGHT
TZOFFSETFROM:-0600
TZOFFSETTO:-0500
TZNAME:CDT
DTSTART:20290311T080000
END:DAYLIGHT
BEGIN:STANDARD
TZOFFSETFROM:-0500
TZOFFSETTO:-0600
TZNAME:CST
DTSTART:20291104T070000
END:STANDARD
END:VTIMEZONE
BEGIN:VEVENT
DTSTART;TZID=America/Chicago:20281105T102500
DTEND;TZID=America/Chicago:20281105T113000
DTSTAMP:20260422T165924
CREATED:20260325T123948Z
LAST-MODIFIED:20260325T123948Z
UID:10005617-1857032700-1857036600@fccunited.org
SUMMARY:Sunday Worship
DESCRIPTION:
URL:https://fccunited.org/event/sunday-worship/2028-11-05/
CATEGORIES:Worship
END:VEVENT
BEGIN:VEVENT
DTSTART;TZID=America/Chicago:20281105T103000
DTEND;TZID=America/Chicago:20281105T113000
DTSTAMP:20260422T165924
CREATED:20260127T131829Z
LAST-MODIFIED:20260127T131829Z
UID:10004073-1857033000-1857036600@fccunited.org
SUMMARY:First Fruits Sunday
DESCRIPTION:Collecting non-perishables for CCA and Metrocrest Social Services.
URL:https://fccunited.org/event/first-fruits-sunday/2028-11-05/
CATEGORIES:Ministries
ATTACH;FMTTYPE=image/jpeg:https://fccunited.org/wp-content/uploads/2026/01/first-fruits-and-toilet-paper-sunday.jpg
END:VEVENT
BEGIN:VEVENT
DTSTART;TZID=America/Chicago:20281105T113000
DTEND;TZID=America/Chicago:20281105T123000
DTSTAMP:20260422T165924
CREATED:20260311T144206Z
LAST-MODIFIED:20260311T144208Z
UID:10005309-1857036600-1857040200@fccunited.org
SUMMARY:Fellowship Lunch
DESCRIPTION:
URL:https://fccunited.org/event/fellowship-lunch-2-2/2028-11-05/
LOCATION:Praise in the Morning Devotional - November 30\, 2025
CATEGORIES:Fellowship
END:VEVENT
BEGIN:VEVENT
DTSTART;TZID=America/Chicago:20281108T160000
DTEND;TZID=America/Chicago:20281108T170000
DTSTAMP:20260422T165924
CREATED:20260221T121225Z
LAST-MODIFIED:20260221T122346Z
UID:10004891-1857312000-1857315600@fccunited.org
SUMMARY:Hour of Prayer
DESCRIPTION:
URL:https://fccunited.org/event/hour-of-prayer/2028-11-08/
CATEGORIES:Fellowship
ATTACH;FMTTYPE=image/jpeg:https://fccunited.org/wp-content/uploads/2026/02/hour-of-prayer-1.jpg
END:VEVENT
BEGIN:VEVENT
DTSTART;TZID=America/Chicago:20281108T170000
DTEND;TZID=America/Chicago:20281108T190000
DTSTAMP:20260422T165924
CREATED:20260221T121346Z
LAST-MODIFIED:20260221T121447Z
UID:10005152-1857315600-1857322800@fccunited.org
SUMMARY:Midweek Connection
DESCRIPTION:
URL:https://fccunited.org/event/midweek-connection/2028-11-08/
CATEGORIES:Fellowship
ATTACH;FMTTYPE=image/jpeg:https://fccunited.org/wp-content/uploads/2026/02/midweek-connection-3.jpg
END:VEVENT
BEGIN:VEVENT
DTSTART;TZID=America/Chicago:20281108T190000
DTEND;TZID=America/Chicago:20281108T200000
DTSTAMP:20260422T165924
CREATED:20260108T163528Z
LAST-MODIFIED:20260210T171104Z
UID:10003616-1857322800-1857326400@fccunited.org
SUMMARY:Choir Practice
DESCRIPTION:
URL:https://fccunited.org/event/choir-practice-4/2028-11-08/
CATEGORIES:Worship
ATTACH;FMTTYPE=image/jpeg:https://fccunited.org/wp-content/uploads/2026/01/choir-practice.jpg
END:VEVENT
BEGIN:VEVENT
DTSTART;TZID=America/Chicago:20281109T100000
DTEND;TZID=America/Chicago:20281109T110000
DTSTAMP:20260422T165924
CREATED:20251112T171206Z
LAST-MODIFIED:20260112T171425Z
UID:10003458-1857376800-1857380400@fccunited.org
SUMMARY:MOMCo 2nd Thursdays
DESCRIPTION:
URL:https://fccunited.org/event/momco/2028-11-09/
CATEGORIES:Ministries
ATTACH;FMTTYPE=image/png:https://fccunited.org/wp-content/uploads/2025/11/momco-mothers-of-preschoolers-1-1.png
END:VEVENT
BEGIN:VEVENT
DTSTART;TZID=America/Chicago:20281111T100000
DTEND;TZID=America/Chicago:20281111T113000
DTSTAMP:20260422T165924
CREATED:20260224T200455Z
LAST-MODIFIED:20260224T200455Z
UID:10005369-1857549600-1857555000@fccunited.org
SUMMARY:Pin Pal Sewing Ministry
DESCRIPTION:
URL:https://fccunited.org/event/pin-pal-sewing-ministry/2028-11-11/
CATEGORIES:Fellowship
ATTACH;FMTTYPE=image/jpeg:https://fccunited.org/wp-content/uploads/2026/02/20260214-sewing-ministry.jpg
END:VEVENT
BEGIN:VEVENT
DTSTART;TZID=America/Chicago:20281112T091500
DTEND;TZID=America/Chicago:20281112T101500
DTSTAMP:20260422T165924
CREATED:20260127T133219Z
LAST-MODIFIED:20260127T133453Z
UID:10004245-1857633300-1857636900@fccunited.org
SUMMARY:Study Classes
DESCRIPTION:We offer classes for adults and for youth.
URL:https://fccunited.org/event/study-classes/2028-11-12/
CATEGORIES:Bible Study
ATTACH;FMTTYPE=image/jpeg:https://fccunited.org/wp-content/uploads/2026/01/study-class.jpg
END:VEVENT
BEGIN:VEVENT
DTSTART;TZID=America/Chicago:20281112T102500
DTEND;TZID=America/Chicago:20281112T113000
DTSTAMP:20260422T165924
CREATED:20260325T123948Z
LAST-MODIFIED:20260325T123948Z
UID:10005618-1857637500-1857641400@fccunited.org
SUMMARY:Sunday Worship
DESCRIPTION:
URL:https://fccunited.org/event/sunday-worship/2028-11-12/
CATEGORIES:Worship
END:VEVENT
BEGIN:VEVENT
DTSTART;TZID=America/Chicago:20281113T190000
DTEND;TZID=America/Chicago:20281113T203000
DTSTAMP:20260422T165924
CREATED:20260227T135325Z
LAST-MODIFIED:20260227T135325Z
UID:10005430-1857754800-1857760200@fccunited.org
SUMMARY:Agape Men
DESCRIPTION:
URL:https://fccunited.org/event/agape-men-2/2028-11-13/
CATEGORIES:Fellowship
ATTACH;FMTTYPE=image/jpeg:https://fccunited.org/wp-content/uploads/2026/02/20260309-agape-men.jpg
END:VEVENT
BEGIN:VEVENT
DTSTART;TZID=America/Chicago:20281114T083000
DTEND;TZID=America/Chicago:20281114T103000
DTSTAMP:20260422T165924
CREATED:20260415T135010Z
LAST-MODIFIED:20260415T135124Z
UID:10005780-1857803400-1857810600@fccunited.org
SUMMARY:CCA Food Pantry
DESCRIPTION:
URL:https://fccunited.org/event/cca-food-pantry/2028-11-14/
CATEGORIES:Fellowship
ATTACH;FMTTYPE=image/jpeg:https://fccunited.org/wp-content/uploads/2026/04/20260310-cca-food-pantry.jpg
END:VEVENT
BEGIN:VEVENT
DTSTART;TZID=America/Chicago:20281115T160000
DTEND;TZID=America/Chicago:20281115T170000
DTSTAMP:20260422T165924
CREATED:20260221T121225Z
LAST-MODIFIED:20260221T122346Z
UID:10004892-1857916800-1857920400@fccunited.org
SUMMARY:Hour of Prayer
DESCRIPTION:
URL:https://fccunited.org/event/hour-of-prayer/2028-11-15/
CATEGORIES:Fellowship
ATTACH;FMTTYPE=image/jpeg:https://fccunited.org/wp-content/uploads/2026/02/hour-of-prayer-1.jpg
END:VEVENT
BEGIN:VEVENT
DTSTART;TZID=America/Chicago:20281115T170000
DTEND;TZID=America/Chicago:20281115T190000
DTSTAMP:20260422T165924
CREATED:20260221T121346Z
LAST-MODIFIED:20260221T121447Z
UID:10005153-1857920400-1857927600@fccunited.org
SUMMARY:Midweek Connection
DESCRIPTION:
URL:https://fccunited.org/event/midweek-connection/2028-11-15/
CATEGORIES:Fellowship
ATTACH;FMTTYPE=image/jpeg:https://fccunited.org/wp-content/uploads/2026/02/midweek-connection-3.jpg
END:VEVENT
BEGIN:VEVENT
DTSTART;TZID=America/Chicago:20281115T190000
DTEND;TZID=America/Chicago:20281115T200000
DTSTAMP:20260422T165924
CREATED:20260108T163528Z
LAST-MODIFIED:20260210T171104Z
UID:10003617-1857927600-1857931200@fccunited.org
SUMMARY:Choir Practice
DESCRIPTION:
URL:https://fccunited.org/event/choir-practice-4/2028-11-15/
CATEGORIES:Worship
ATTACH;FMTTYPE=image/jpeg:https://fccunited.org/wp-content/uploads/2026/01/choir-practice.jpg
END:VEVENT
BEGIN:VEVENT
DTSTART;TZID=America/Chicago:20281119T091500
DTEND;TZID=America/Chicago:20281119T101500
DTSTAMP:20260422T165924
CREATED:20260127T133219Z
LAST-MODIFIED:20260127T133453Z
UID:10004246-1858238100-1858241700@fccunited.org
SUMMARY:Study Classes
DESCRIPTION:We offer classes for adults and for youth.
URL:https://fccunited.org/event/study-classes/2028-11-19/
CATEGORIES:Bible Study
ATTACH;FMTTYPE=image/jpeg:https://fccunited.org/wp-content/uploads/2026/01/study-class.jpg
END:VEVENT
BEGIN:VEVENT
DTSTART;TZID=America/Chicago:20281119T102500
DTEND;TZID=America/Chicago:20281119T113000
DTSTAMP:20260422T165924
CREATED:20260325T123948Z
LAST-MODIFIED:20260325T123948Z
UID:10005619-1858242300-1858246200@fccunited.org
SUMMARY:Sunday Worship
DESCRIPTION:
URL:https://fccunited.org/event/sunday-worship/2028-11-19/
CATEGORIES:Worship
END:VEVENT
BEGIN:VEVENT
DTSTART;TZID=America/Chicago:20281122T160000
DTEND;TZID=America/Chicago:20281122T170000
DTSTAMP:20260422T165924
CREATED:20260221T121225Z
LAST-MODIFIED:20260221T122346Z
UID:10004893-1858521600-1858525200@fccunited.org
SUMMARY:Hour of Prayer
DESCRIPTION:
URL:https://fccunited.org/event/hour-of-prayer/2028-11-22/
CATEGORIES:Fellowship
ATTACH;FMTTYPE=image/jpeg:https://fccunited.org/wp-content/uploads/2026/02/hour-of-prayer-1.jpg
END:VEVENT
BEGIN:VEVENT
DTSTART;TZID=America/Chicago:20281122T170000
DTEND;TZID=America/Chicago:20281122T190000
DTSTAMP:20260422T165924
CREATED:20260221T121346Z
LAST-MODIFIED:20260221T121447Z
UID:10005154-1858525200-1858532400@fccunited.org
SUMMARY:Midweek Connection
DESCRIPTION:
URL:https://fccunited.org/event/midweek-connection/2028-11-22/
CATEGORIES:Fellowship
ATTACH;FMTTYPE=image/jpeg:https://fccunited.org/wp-content/uploads/2026/02/midweek-connection-3.jpg
END:VEVENT
BEGIN:VEVENT
DTSTART;TZID=America/Chicago:20281122T190000
DTEND;TZID=America/Chicago:20281122T200000
DTSTAMP:20260422T165924
CREATED:20260108T163528Z
LAST-MODIFIED:20260210T171104Z
UID:10003618-1858532400-1858536000@fccunited.org
SUMMARY:Choir Practice
DESCRIPTION:
URL:https://fccunited.org/event/choir-practice-4/2028-11-22/
CATEGORIES:Worship
ATTACH;FMTTYPE=image/jpeg:https://fccunited.org/wp-content/uploads/2026/01/choir-practice.jpg
END:VEVENT
BEGIN:VEVENT
DTSTART;TZID=America/Chicago:20281123T100000
DTEND;TZID=America/Chicago:20281123T233000
DTSTAMP:20260422T165924
CREATED:20260216T125355Z
LAST-MODIFIED:20260415T134412Z
UID:10004662-1858586400-1858635000@fccunited.org
SUMMARY:MomCo
DESCRIPTION:Mom\, join us for faith\, fun\, and fellowship the fourth Thursday of each month.  Childcare is provided. \nCall 972-446-9808 for more information.
URL:https://fccunited.org/event/momco-1000-a-m-2/2028-11-23/
CATEGORIES:Fellowship
ATTACH;FMTTYPE=image/jpeg:https://fccunited.org/wp-content/uploads/2026/02/20260122-momco-3.jpg
END:VEVENT
BEGIN:VEVENT
DTSTART;TZID=America/Chicago:20281126T081500
DTEND;TZID=America/Chicago:20281126T091500
DTSTAMP:20260422T165924
CREATED:20260221T120438Z
LAST-MODIFIED:20260221T120438Z
UID:10004723-1858839300-1858842900@fccunited.org
SUMMARY:Elders Meeting
DESCRIPTION:
URL:https://fccunited.org/event/elders-meeting/2028-11-26/
CATEGORIES:Fellowship
ATTACH;FMTTYPE=image/jpeg:https://fccunited.org/wp-content/uploads/2026/02/20260125-elder-meeting.jpg
END:VEVENT
BEGIN:VEVENT
DTSTART;TZID=America/Chicago:20281126T091500
DTEND;TZID=America/Chicago:20281126T101500
DTSTAMP:20260422T165924
CREATED:20260127T133219Z
LAST-MODIFIED:20260127T133453Z
UID:10004247-1858842900-1858846500@fccunited.org
SUMMARY:Study Classes
DESCRIPTION:We offer classes for adults and for youth.
URL:https://fccunited.org/event/study-classes/2028-11-26/
CATEGORIES:Bible Study
ATTACH;FMTTYPE=image/jpeg:https://fccunited.org/wp-content/uploads/2026/01/study-class.jpg
END:VEVENT
BEGIN:VEVENT
DTSTART;TZID=America/Chicago:20281126T102500
DTEND;TZID=America/Chicago:20281126T113000
DTSTAMP:20260422T165924
CREATED:20260325T123948Z
LAST-MODIFIED:20260325T123948Z
UID:10005620-1858847100-1858851000@fccunited.org
SUMMARY:Sunday Worship
DESCRIPTION:
URL:https://fccunited.org/event/sunday-worship/2028-11-26/
CATEGORIES:Worship
END:VEVENT
BEGIN:VEVENT
DTSTART;TZID=America/Chicago:20281128T190000
DTEND;TZID=America/Chicago:20281128T203000
DTSTAMP:20260422T165924
CREATED:20260127T122330Z
LAST-MODIFIED:20260127T131202Z
UID:10004014-1859050800-1859056200@fccunited.org
SUMMARY:Potpourri Ladies
DESCRIPTION:
URL:https://fccunited.org/event/potpourri-ladies/2028-11-28/
CATEGORIES:Fellowship
ATTACH;FMTTYPE=image/jpeg:https://fccunited.org/wp-content/uploads/2026/01/20260127-potpourri-ladies-1.jpg
END:VEVENT
BEGIN:VEVENT
DTSTART;TZID=America/Chicago:20281129T160000
DTEND;TZID=America/Chicago:20281129T170000
DTSTAMP:20260422T165924
CREATED:20260221T121225Z
LAST-MODIFIED:20260221T122346Z
UID:10004894-1859126400-1859130000@fccunited.org
SUMMARY:Hour of Prayer
DESCRIPTION:
URL:https://fccunited.org/event/hour-of-prayer/2028-11-29/
CATEGORIES:Fellowship
ATTACH;FMTTYPE=image/jpeg:https://fccunited.org/wp-content/uploads/2026/02/hour-of-prayer-1.jpg
END:VEVENT
BEGIN:VEVENT
DTSTART;TZID=America/Chicago:20281129T170000
DTEND;TZID=America/Chicago:20281129T190000
DTSTAMP:20260422T165924
CREATED:20260221T121346Z
LAST-MODIFIED:20260221T121447Z
UID:10005155-1859130000-1859137200@fccunited.org
SUMMARY:Midweek Connection
DESCRIPTION:
URL:https://fccunited.org/event/midweek-connection/2028-11-29/
CATEGORIES:Fellowship
ATTACH;FMTTYPE=image/jpeg:https://fccunited.org/wp-content/uploads/2026/02/midweek-connection-3.jpg
END:VEVENT
BEGIN:VEVENT
DTSTART;TZID=America/Chicago:20281129T190000
DTEND;TZID=America/Chicago:20281129T200000
DTSTAMP:20260422T165924
CREATED:20260108T163528Z
LAST-MODIFIED:20260210T171104Z
UID:10003619-1859137200-1859140800@fccunited.org
SUMMARY:Choir Practice
DESCRIPTION:
URL:https://fccunited.org/event/choir-practice-4/2028-11-29/
CATEGORIES:Worship
ATTACH;FMTTYPE=image/jpeg:https://fccunited.org/wp-content/uploads/2026/01/choir-practice.jpg
END:VEVENT
BEGIN:VEVENT
DTSTART;TZID=America/Chicago:20281202T083000
DTEND;TZID=America/Chicago:20281202T123000
DTSTAMP:20260422T165924
CREATED:20260421T113553Z
LAST-MODIFIED:20260421T114056Z
UID:10005935-1859358600-1859373000@fccunited.org
SUMMARY:Shipwright Food Pantry
DESCRIPTION:Shipwrights Food Pantry Ministry\n\nOn the 1st and 3rd Saturday of each month\, the Shipwrights Food Pantry provides a hot meal\,  groceries and other items for those facing food insecurity in Lewisville and the surrounding area. \nIf you would like to participate in this ministry\,  the time runs from 8:30am - 12:30pm.  Volunteers meet in the Serenity Church/FCCU parking lot at 8:30 on the 1st and 3rd Saturday of the month for preparations. \nFor more information reach out to Ken Blackerby at: 817-492-6983
URL:https://fccunited.org/event/shipwright-food-pantry/2028-12-02/
CATEGORIES:Ministries
ATTACH;FMTTYPE=image/png:https://fccunited.org/wp-content/uploads/2026/04/shipwrights-food-pantry.png
END:VEVENT
BEGIN:VEVENT
DTSTART;TZID=America/Chicago:20281203T091500
DTEND;TZID=America/Chicago:20281203T101500
DTSTAMP:20260422T165924
CREATED:20260127T133219Z
LAST-MODIFIED:20260127T133453Z
UID:10004248-1859447700-1859451300@fccunited.org
SUMMARY:Study Classes
DESCRIPTION:We offer classes for adults and for youth.
URL:https://fccunited.org/event/study-classes/2028-12-03/
CATEGORIES:Bible Study
ATTACH;FMTTYPE=image/jpeg:https://fccunited.org/wp-content/uploads/2026/01/study-class.jpg
END:VEVENT
END:VCALENDAR