BEGIN:VCALENDAR
VERSION:2.0
PRODID:-//First Christian Church  United Lewisville, Texas - ECPv6.15.14//NONSGML v1.0//EN
CALSCALE:GREGORIAN
METHOD:PUBLISH
X-ORIGINAL-URL:https://fccunited.org
X-WR-CALDESC:Events for First Christian Church  United Lewisville, Texas
REFRESH-INTERVAL;VALUE=DURATION:PT1H
X-Robots-Tag:noindex
X-PUBLISHED-TTL:PT1H
BEGIN:VTIMEZONE
TZID:America/Chicago
BEGIN:DAYLIGHT
TZOFFSETFROM:-0600
TZOFFSETTO:-0500
TZNAME:CDT
DTSTART:20250309T080000
END:DAYLIGHT
BEGIN:STANDARD
TZOFFSETFROM:-0500
TZOFFSETTO:-0600
TZNAME:CST
DTSTART:20251102T070000
END:STANDARD
BEGIN:DAYLIGHT
TZOFFSETFROM:-0600
TZOFFSETTO:-0500
TZNAME:CDT
DTSTART:20260308T080000
END:DAYLIGHT
BEGIN:STANDARD
TZOFFSETFROM:-0500
TZOFFSETTO:-0600
TZNAME:CST
DTSTART:20261101T070000
END:STANDARD
BEGIN:DAYLIGHT
TZOFFSETFROM:-0600
TZOFFSETTO:-0500
TZNAME:CDT
DTSTART:20270314T080000
END:DAYLIGHT
BEGIN:STANDARD
TZOFFSETFROM:-0500
TZOFFSETTO:-0600
TZNAME:CST
DTSTART:20271107T070000
END:STANDARD
END:VTIMEZONE
BEGIN:VEVENT
DTSTART;TZID=America/Chicago:20260726T091500
DTEND;TZID=America/Chicago:20260726T101500
DTSTAMP:20260420T200137
CREATED:20260127T133219Z
LAST-MODIFIED:20260127T133453Z
UID:10004125-1785057300-1785060900@fccunited.org
SUMMARY:Study Classes
DESCRIPTION:We offer classes for adults and for youth.
URL:https://fccunited.org/event/study-classes/2026-07-26/
CATEGORIES:Bible Study
ATTACH;FMTTYPE=image/jpeg:https://fccunited.org/wp-content/uploads/2026/01/study-class.jpg
END:VEVENT
BEGIN:VEVENT
DTSTART;TZID=America/Chicago:20260726T102500
DTEND;TZID=America/Chicago:20260726T113000
DTSTAMP:20260420T200137
CREATED:20260325T123948Z
LAST-MODIFIED:20260325T123948Z
UID:10005498-1785061500-1785065400@fccunited.org
SUMMARY:Sunday Worship
DESCRIPTION:
URL:https://fccunited.org/event/sunday-worship/2026-07-26/
CATEGORIES:Worship
END:VEVENT
BEGIN:VEVENT
DTSTART;TZID=America/Chicago:20260728T190000
DTEND;TZID=America/Chicago:20260728T203000
DTSTAMP:20260420T200137
CREATED:20260127T122330Z
LAST-MODIFIED:20260127T131202Z
UID:10003986-1785265200-1785270600@fccunited.org
SUMMARY:Potpourri Ladies
DESCRIPTION:
URL:https://fccunited.org/event/potpourri-ladies/2026-07-28/
CATEGORIES:Fellowship
ATTACH;FMTTYPE=image/jpeg:https://fccunited.org/wp-content/uploads/2026/01/20260127-potpourri-ladies-1.jpg
END:VEVENT
BEGIN:VEVENT
DTSTART;TZID=America/Chicago:20260729T160000
DTEND;TZID=America/Chicago:20260729T170000
DTSTAMP:20260420T200137
CREATED:20260221T121225Z
LAST-MODIFIED:20260221T122346Z
UID:10004772-1785340800-1785344400@fccunited.org
SUMMARY:Hour of Prayer
DESCRIPTION:
URL:https://fccunited.org/event/hour-of-prayer/2026-07-29/
CATEGORIES:Fellowship
ATTACH;FMTTYPE=image/jpeg:https://fccunited.org/wp-content/uploads/2026/02/hour-of-prayer-1.jpg
END:VEVENT
BEGIN:VEVENT
DTSTART;TZID=America/Chicago:20260729T170000
DTEND;TZID=America/Chicago:20260729T190000
DTSTAMP:20260420T200137
CREATED:20260221T121346Z
LAST-MODIFIED:20260221T121447Z
UID:10005033-1785344400-1785351600@fccunited.org
SUMMARY:Midweek Connection
DESCRIPTION:
URL:https://fccunited.org/event/midweek-connection/2026-07-29/
CATEGORIES:Fellowship
ATTACH;FMTTYPE=image/jpeg:https://fccunited.org/wp-content/uploads/2026/02/midweek-connection-3.jpg
END:VEVENT
BEGIN:VEVENT
DTSTART;TZID=America/Chicago:20260729T190000
DTEND;TZID=America/Chicago:20260729T200000
DTSTAMP:20260420T200137
CREATED:20260108T163528Z
LAST-MODIFIED:20260210T171104Z
UID:10003497-1785351600-1785355200@fccunited.org
SUMMARY:Choir Practice
DESCRIPTION:
URL:https://fccunited.org/event/choir-practice-4/2026-07-29/
CATEGORIES:Worship
ATTACH;FMTTYPE=image/jpeg:https://fccunited.org/wp-content/uploads/2026/01/choir-practice.jpg
END:VEVENT
BEGIN:VEVENT
DTSTART;TZID=America/Chicago:20260802T091500
DTEND;TZID=America/Chicago:20260802T101500
DTSTAMP:20260420T200137
CREATED:20260127T133219Z
LAST-MODIFIED:20260127T133453Z
UID:10004126-1785662100-1785665700@fccunited.org
SUMMARY:Study Classes
DESCRIPTION:We offer classes for adults and for youth.
URL:https://fccunited.org/event/study-classes/2026-08-02/
CATEGORIES:Bible Study
ATTACH;FMTTYPE=image/jpeg:https://fccunited.org/wp-content/uploads/2026/01/study-class.jpg
END:VEVENT
BEGIN:VEVENT
DTSTART;TZID=America/Chicago:20260802T100000
DTEND;TZID=America/Chicago:20260802T140000
DTSTAMP:20260420T200137
CREATED:20260402T142213Z
LAST-MODIFIED:20260402T142213Z
UID:10005743-1785664800-1785679200@fccunited.org
SUMMARY:Carter BloodCare
DESCRIPTION:
URL:https://fccunited.org/event/carter-bloodcare/
CATEGORIES:Ministries
ATTACH;FMTTYPE=image/jpeg:https://fccunited.org/wp-content/uploads/2026/04/20260301-carter-blood-drive.jpg
END:VEVENT
BEGIN:VEVENT
DTSTART;TZID=America/Chicago:20260802T102500
DTEND;TZID=America/Chicago:20260802T113000
DTSTAMP:20260420T200137
CREATED:20260325T123948Z
LAST-MODIFIED:20260325T123948Z
UID:10005499-1785666300-1785670200@fccunited.org
SUMMARY:Sunday Worship
DESCRIPTION:
URL:https://fccunited.org/event/sunday-worship/2026-08-02/
CATEGORIES:Worship
END:VEVENT
BEGIN:VEVENT
DTSTART;TZID=America/Chicago:20260802T103000
DTEND;TZID=America/Chicago:20260802T113000
DTSTAMP:20260420T200137
CREATED:20260127T131829Z
LAST-MODIFIED:20260127T131829Z
UID:10004046-1785666600-1785670200@fccunited.org
SUMMARY:First Fruits Sunday
DESCRIPTION:Collecting non-perishables for CCA and Metrocrest Social Services.
URL:https://fccunited.org/event/first-fruits-sunday/2026-08-02/
CATEGORIES:Ministries
ATTACH;FMTTYPE=image/jpeg:https://fccunited.org/wp-content/uploads/2026/01/first-fruits-and-toilet-paper-sunday.jpg
END:VEVENT
BEGIN:VEVENT
DTSTART;TZID=America/Chicago:20260802T113000
DTEND;TZID=America/Chicago:20260802T123000
DTSTAMP:20260420T200137
CREATED:20260311T144206Z
LAST-MODIFIED:20260311T144208Z
UID:10005282-1785670200-1785673800@fccunited.org
SUMMARY:Fellowship Lunch
DESCRIPTION:
URL:https://fccunited.org/event/fellowship-lunch-2-2/2026-08-02/
LOCATION:Praise in the Morning Devotional - November 30\, 2025
CATEGORIES:Fellowship
END:VEVENT
BEGIN:VEVENT
DTSTART;TZID=America/Chicago:20260803T173000
DTEND;TZID=America/Chicago:20260803T200000
DTSTAMP:20260420T200137
CREATED:20260127T125852Z
LAST-MODIFIED:20260127T125852Z
UID:10003964-1785778200-1785787200@fccunited.org
SUMMARY:Stephen Ministry Supervision Group
DESCRIPTION:
URL:https://fccunited.org/event/stephen-ministry-supervision-group/2026-08-03/
CATEGORIES:Ministries
ATTACH;FMTTYPE=image/jpeg:https://fccunited.org/wp-content/uploads/2026/01/stephen-ministry-1.jpg
END:VEVENT
BEGIN:VEVENT
DTSTART;TZID=America/Chicago:20260805T160000
DTEND;TZID=America/Chicago:20260805T170000
DTSTAMP:20260420T200137
CREATED:20260221T121225Z
LAST-MODIFIED:20260221T122346Z
UID:10004773-1785945600-1785949200@fccunited.org
SUMMARY:Hour of Prayer
DESCRIPTION:
URL:https://fccunited.org/event/hour-of-prayer/2026-08-05/
CATEGORIES:Fellowship
ATTACH;FMTTYPE=image/jpeg:https://fccunited.org/wp-content/uploads/2026/02/hour-of-prayer-1.jpg
END:VEVENT
BEGIN:VEVENT
DTSTART;TZID=America/Chicago:20260805T170000
DTEND;TZID=America/Chicago:20260805T190000
DTSTAMP:20260420T200137
CREATED:20260221T121346Z
LAST-MODIFIED:20260221T121447Z
UID:10005034-1785949200-1785956400@fccunited.org
SUMMARY:Midweek Connection
DESCRIPTION:
URL:https://fccunited.org/event/midweek-connection/2026-08-05/
CATEGORIES:Fellowship
ATTACH;FMTTYPE=image/jpeg:https://fccunited.org/wp-content/uploads/2026/02/midweek-connection-3.jpg
END:VEVENT
BEGIN:VEVENT
DTSTART;TZID=America/Chicago:20260805T190000
DTEND;TZID=America/Chicago:20260805T200000
DTSTAMP:20260420T200138
CREATED:20260108T163528Z
LAST-MODIFIED:20260210T171104Z
UID:10003498-1785956400-1785960000@fccunited.org
SUMMARY:Choir Practice
DESCRIPTION:
URL:https://fccunited.org/event/choir-practice-4/2026-08-05/
CATEGORIES:Worship
ATTACH;FMTTYPE=image/jpeg:https://fccunited.org/wp-content/uploads/2026/01/choir-practice.jpg
END:VEVENT
BEGIN:VEVENT
DTSTART;TZID=America/Chicago:20260808T100000
DTEND;TZID=America/Chicago:20260808T113000
DTSTAMP:20260420T200138
CREATED:20260224T200455Z
LAST-MODIFIED:20260224T200455Z
UID:10005342-1786183200-1786188600@fccunited.org
SUMMARY:Pin Pal Sewing Ministry
DESCRIPTION:
URL:https://fccunited.org/event/pin-pal-sewing-ministry/2026-08-08/
CATEGORIES:Fellowship
ATTACH;FMTTYPE=image/jpeg:https://fccunited.org/wp-content/uploads/2026/02/20260214-sewing-ministry.jpg
END:VEVENT
BEGIN:VEVENT
DTSTART;TZID=America/Chicago:20260809T091500
DTEND;TZID=America/Chicago:20260809T101500
DTSTAMP:20260420T200138
CREATED:20260127T133219Z
LAST-MODIFIED:20260127T133453Z
UID:10004127-1786266900-1786270500@fccunited.org
SUMMARY:Study Classes
DESCRIPTION:We offer classes for adults and for youth.
URL:https://fccunited.org/event/study-classes/2026-08-09/
CATEGORIES:Bible Study
ATTACH;FMTTYPE=image/jpeg:https://fccunited.org/wp-content/uploads/2026/01/study-class.jpg
END:VEVENT
BEGIN:VEVENT
DTSTART;TZID=America/Chicago:20260809T102500
DTEND;TZID=America/Chicago:20260809T113000
DTSTAMP:20260420T200138
CREATED:20260325T123948Z
LAST-MODIFIED:20260325T123948Z
UID:10005500-1786271100-1786275000@fccunited.org
SUMMARY:Sunday Worship
DESCRIPTION:
URL:https://fccunited.org/event/sunday-worship/2026-08-09/
CATEGORIES:Worship
END:VEVENT
BEGIN:VEVENT
DTSTART;TZID=America/Chicago:20260810T190000
DTEND;TZID=America/Chicago:20260810T203000
DTSTAMP:20260420T200138
CREATED:20260227T135325Z
LAST-MODIFIED:20260227T135325Z
UID:10005403-1786388400-1786393800@fccunited.org
SUMMARY:Agape Men
DESCRIPTION:
URL:https://fccunited.org/event/agape-men-2/2026-08-10/
CATEGORIES:Fellowship
ATTACH;FMTTYPE=image/jpeg:https://fccunited.org/wp-content/uploads/2026/02/20260309-agape-men.jpg
END:VEVENT
BEGIN:VEVENT
DTSTART;TZID=America/Chicago:20260812T160000
DTEND;TZID=America/Chicago:20260812T170000
DTSTAMP:20260420T200138
CREATED:20260221T121225Z
LAST-MODIFIED:20260221T122346Z
UID:10004774-1786550400-1786554000@fccunited.org
SUMMARY:Hour of Prayer
DESCRIPTION:
URL:https://fccunited.org/event/hour-of-prayer/2026-08-12/
CATEGORIES:Fellowship
ATTACH;FMTTYPE=image/jpeg:https://fccunited.org/wp-content/uploads/2026/02/hour-of-prayer-1.jpg
END:VEVENT
BEGIN:VEVENT
DTSTART;TZID=America/Chicago:20260812T170000
DTEND;TZID=America/Chicago:20260812T190000
DTSTAMP:20260420T200138
CREATED:20260221T121346Z
LAST-MODIFIED:20260221T121447Z
UID:10005035-1786554000-1786561200@fccunited.org
SUMMARY:Midweek Connection
DESCRIPTION:
URL:https://fccunited.org/event/midweek-connection/2026-08-12/
CATEGORIES:Fellowship
ATTACH;FMTTYPE=image/jpeg:https://fccunited.org/wp-content/uploads/2026/02/midweek-connection-3.jpg
END:VEVENT
BEGIN:VEVENT
DTSTART;TZID=America/Chicago:20260812T190000
DTEND;TZID=America/Chicago:20260812T200000
DTSTAMP:20260420T200138
CREATED:20260108T163528Z
LAST-MODIFIED:20260210T171104Z
UID:10003499-1786561200-1786564800@fccunited.org
SUMMARY:Choir Practice
DESCRIPTION:
URL:https://fccunited.org/event/choir-practice-4/2026-08-12/
CATEGORIES:Worship
ATTACH;FMTTYPE=image/jpeg:https://fccunited.org/wp-content/uploads/2026/01/choir-practice.jpg
END:VEVENT
BEGIN:VEVENT
DTSTART;TZID=America/Chicago:20260816T091500
DTEND;TZID=America/Chicago:20260816T101500
DTSTAMP:20260420T200138
CREATED:20260127T133219Z
LAST-MODIFIED:20260127T133453Z
UID:10004128-1786871700-1786875300@fccunited.org
SUMMARY:Study Classes
DESCRIPTION:We offer classes for adults and for youth.
URL:https://fccunited.org/event/study-classes/2026-08-16/
CATEGORIES:Bible Study
ATTACH;FMTTYPE=image/jpeg:https://fccunited.org/wp-content/uploads/2026/01/study-class.jpg
END:VEVENT
BEGIN:VEVENT
DTSTART;TZID=America/Chicago:20260816T102500
DTEND;TZID=America/Chicago:20260816T113000
DTSTAMP:20260420T200138
CREATED:20260325T123948Z
LAST-MODIFIED:20260325T123948Z
UID:10005501-1786875900-1786879800@fccunited.org
SUMMARY:Sunday Worship
DESCRIPTION:
URL:https://fccunited.org/event/sunday-worship/2026-08-16/
CATEGORIES:Worship
END:VEVENT
BEGIN:VEVENT
DTSTART;TZID=America/Chicago:20260817T173000
DTEND;TZID=America/Chicago:20260817T200000
DTSTAMP:20260420T200138
CREATED:20260127T130121Z
LAST-MODIFIED:20260127T130121Z
UID:10003975-1786987800-1786996800@fccunited.org
SUMMARY:Stephen Ministry Supervision Group
DESCRIPTION:
URL:https://fccunited.org/event/stephen-ministry-supervision-group-2/2026-08-17/
CATEGORIES:Ministries
ATTACH;FMTTYPE=image/jpeg:https://fccunited.org/wp-content/uploads/2026/01/stephen-ministry-1.jpg
END:VEVENT
BEGIN:VEVENT
DTSTART;TZID=America/Chicago:20260819T160000
DTEND;TZID=America/Chicago:20260819T170000
DTSTAMP:20260420T200138
CREATED:20260221T121225Z
LAST-MODIFIED:20260221T122346Z
UID:10004775-1787155200-1787158800@fccunited.org
SUMMARY:Hour of Prayer
DESCRIPTION:
URL:https://fccunited.org/event/hour-of-prayer/2026-08-19/
CATEGORIES:Fellowship
ATTACH;FMTTYPE=image/jpeg:https://fccunited.org/wp-content/uploads/2026/02/hour-of-prayer-1.jpg
END:VEVENT
BEGIN:VEVENT
DTSTART;TZID=America/Chicago:20260819T170000
DTEND;TZID=America/Chicago:20260819T190000
DTSTAMP:20260420T200138
CREATED:20260221T121346Z
LAST-MODIFIED:20260221T121447Z
UID:10005036-1787158800-1787166000@fccunited.org
SUMMARY:Midweek Connection
DESCRIPTION:
URL:https://fccunited.org/event/midweek-connection/2026-08-19/
CATEGORIES:Fellowship
ATTACH;FMTTYPE=image/jpeg:https://fccunited.org/wp-content/uploads/2026/02/midweek-connection-3.jpg
END:VEVENT
BEGIN:VEVENT
DTSTART;TZID=America/Chicago:20260819T190000
DTEND;TZID=America/Chicago:20260819T200000
DTSTAMP:20260420T200138
CREATED:20260108T163528Z
LAST-MODIFIED:20260210T171104Z
UID:10003500-1787166000-1787169600@fccunited.org
SUMMARY:Choir Practice
DESCRIPTION:
URL:https://fccunited.org/event/choir-practice-4/2026-08-19/
CATEGORIES:Worship
ATTACH;FMTTYPE=image/jpeg:https://fccunited.org/wp-content/uploads/2026/01/choir-practice.jpg
END:VEVENT
BEGIN:VEVENT
DTSTART;TZID=America/Chicago:20260823T081500
DTEND;TZID=America/Chicago:20260823T091500
DTSTAMP:20260420T200138
CREATED:20260221T120438Z
LAST-MODIFIED:20260221T120438Z
UID:10004696-1787472900-1787476500@fccunited.org
SUMMARY:Elders Meeting
DESCRIPTION:
URL:https://fccunited.org/event/elders-meeting/2026-08-23/
CATEGORIES:Fellowship
ATTACH;FMTTYPE=image/jpeg:https://fccunited.org/wp-content/uploads/2026/02/20260125-elder-meeting.jpg
END:VEVENT
BEGIN:VEVENT
DTSTART;TZID=America/Chicago:20260823T091500
DTEND;TZID=America/Chicago:20260823T101500
DTSTAMP:20260420T200138
CREATED:20260127T133219Z
LAST-MODIFIED:20260127T133453Z
UID:10004129-1787476500-1787480100@fccunited.org
SUMMARY:Study Classes
DESCRIPTION:We offer classes for adults and for youth.
URL:https://fccunited.org/event/study-classes/2026-08-23/
CATEGORIES:Bible Study
ATTACH;FMTTYPE=image/jpeg:https://fccunited.org/wp-content/uploads/2026/01/study-class.jpg
END:VEVENT
END:VCALENDAR