BEGIN:VCALENDAR
VERSION:2.0
PRODID:-//First Christian Church  United Lewisville, Texas - ECPv6.15.14//NONSGML v1.0//EN
CALSCALE:GREGORIAN
METHOD:PUBLISH
X-ORIGINAL-URL:https://fccunited.org
X-WR-CALDESC:Events for First Christian Church  United Lewisville, Texas
REFRESH-INTERVAL;VALUE=DURATION:PT1H
X-Robots-Tag:noindex
X-PUBLISHED-TTL:PT1H
BEGIN:VTIMEZONE
TZID:America/Chicago
BEGIN:DAYLIGHT
TZOFFSETFROM:-0600
TZOFFSETTO:-0500
TZNAME:CDT
DTSTART:20290311T080000
END:DAYLIGHT
BEGIN:STANDARD
TZOFFSETFROM:-0500
TZOFFSETTO:-0600
TZNAME:CST
DTSTART:20291104T070000
END:STANDARD
BEGIN:DAYLIGHT
TZOFFSETFROM:-0600
TZOFFSETTO:-0500
TZNAME:CDT
DTSTART:20300310T080000
END:DAYLIGHT
BEGIN:STANDARD
TZOFFSETFROM:-0500
TZOFFSETTO:-0600
TZNAME:CST
DTSTART:20301103T070000
END:STANDARD
BEGIN:DAYLIGHT
TZOFFSETFROM:-0600
TZOFFSETTO:-0500
TZNAME:CDT
DTSTART:20310309T080000
END:DAYLIGHT
BEGIN:STANDARD
TZOFFSETFROM:-0500
TZOFFSETTO:-0600
TZNAME:CST
DTSTART:20311102T070000
END:STANDARD
END:VTIMEZONE
BEGIN:VEVENT
DTSTART;TZID=America/Chicago:20300505T102500
DTEND;TZID=America/Chicago:20300505T113000
DTSTAMP:20260423T234044
CREATED:20260325T123948Z
LAST-MODIFIED:20260325T123948Z
UID:10005695-1904207100-1904211000@fccunited.org
SUMMARY:Sunday Worship
DESCRIPTION:
URL:https://fccunited.org/event/sunday-worship/2030-05-05/
CATEGORIES:Worship
END:VEVENT
BEGIN:VEVENT
DTSTART;TZID=America/Chicago:20300505T103000
DTEND;TZID=America/Chicago:20300505T113000
DTSTAMP:20260423T234044
CREATED:20260127T131829Z
LAST-MODIFIED:20260127T131829Z
UID:10004091-1904207400-1904211000@fccunited.org
SUMMARY:First Fruits Sunday
DESCRIPTION:Collecting non-perishables for CCA and Metrocrest Social Services.
URL:https://fccunited.org/event/first-fruits-sunday/2030-05-05/
CATEGORIES:Ministries
ATTACH;FMTTYPE=image/jpeg:https://fccunited.org/wp-content/uploads/2026/01/first-fruits-and-toilet-paper-sunday.jpg
END:VEVENT
BEGIN:VEVENT
DTSTART;TZID=America/Chicago:20300505T113000
DTEND;TZID=America/Chicago:20300505T123000
DTSTAMP:20260423T234044
CREATED:20260311T144206Z
LAST-MODIFIED:20260311T144208Z
UID:10005327-1904211000-1904214600@fccunited.org
SUMMARY:Fellowship Lunch
DESCRIPTION:
URL:https://fccunited.org/event/fellowship-lunch-2-2/2030-05-05/
LOCATION:Praise in the Morning Devotional - November 30\, 2025
CATEGORIES:Fellowship
END:VEVENT
BEGIN:VEVENT
DTSTART;TZID=America/Chicago:20300508T160000
DTEND;TZID=America/Chicago:20300508T170000
DTSTAMP:20260423T234044
CREATED:20260221T121225Z
LAST-MODIFIED:20260221T122346Z
UID:10004969-1904486400-1904490000@fccunited.org
SUMMARY:Hour of Prayer
DESCRIPTION:
URL:https://fccunited.org/event/hour-of-prayer/2030-05-08/
CATEGORIES:Fellowship
ATTACH;FMTTYPE=image/jpeg:https://fccunited.org/wp-content/uploads/2026/02/hour-of-prayer-1.jpg
END:VEVENT
BEGIN:VEVENT
DTSTART;TZID=America/Chicago:20300508T170000
DTEND;TZID=America/Chicago:20300508T190000
DTSTAMP:20260423T234044
CREATED:20260221T121346Z
LAST-MODIFIED:20260221T121447Z
UID:10005230-1904490000-1904497200@fccunited.org
SUMMARY:Midweek Connection
DESCRIPTION:
URL:https://fccunited.org/event/midweek-connection/2030-05-08/
CATEGORIES:Fellowship
ATTACH;FMTTYPE=image/jpeg:https://fccunited.org/wp-content/uploads/2026/02/midweek-connection-3.jpg
END:VEVENT
BEGIN:VEVENT
DTSTART;TZID=America/Chicago:20300508T190000
DTEND;TZID=America/Chicago:20300508T200000
DTSTAMP:20260423T234044
CREATED:20260108T163528Z
LAST-MODIFIED:20260210T171104Z
UID:10003694-1904497200-1904500800@fccunited.org
SUMMARY:Choir Practice
DESCRIPTION:
URL:https://fccunited.org/event/choir-practice-4/2030-05-08/
CATEGORIES:Worship
ATTACH;FMTTYPE=image/jpeg:https://fccunited.org/wp-content/uploads/2026/01/choir-practice.jpg
END:VEVENT
BEGIN:VEVENT
DTSTART;TZID=America/Chicago:20300511T100000
DTEND;TZID=America/Chicago:20300511T113000
DTSTAMP:20260423T234044
CREATED:20260224T200455Z
LAST-MODIFIED:20260224T200455Z
UID:10005387-1904724000-1904729400@fccunited.org
SUMMARY:Pin Pal Sewing Ministry
DESCRIPTION:
URL:https://fccunited.org/event/pin-pal-sewing-ministry/2030-05-11/
CATEGORIES:Fellowship
ATTACH;FMTTYPE=image/jpeg:https://fccunited.org/wp-content/uploads/2026/02/20260214-sewing-ministry.jpg
END:VEVENT
BEGIN:VEVENT
DTSTART;TZID=America/Chicago:20300512T091500
DTEND;TZID=America/Chicago:20300512T101500
DTSTAMP:20260423T234044
CREATED:20260127T133219Z
LAST-MODIFIED:20260127T133453Z
UID:10004323-1904807700-1904811300@fccunited.org
SUMMARY:Study Classes
DESCRIPTION:We offer classes for adults and for youth.
URL:https://fccunited.org/event/study-classes/2030-05-12/
CATEGORIES:Bible Study
ATTACH;FMTTYPE=image/jpeg:https://fccunited.org/wp-content/uploads/2026/01/study-class.jpg
END:VEVENT
BEGIN:VEVENT
DTSTART;TZID=America/Chicago:20300512T102500
DTEND;TZID=America/Chicago:20300512T113000
DTSTAMP:20260423T234044
CREATED:20260325T123948Z
LAST-MODIFIED:20260325T123948Z
UID:10005696-1904811900-1904815800@fccunited.org
SUMMARY:Sunday Worship
DESCRIPTION:
URL:https://fccunited.org/event/sunday-worship/2030-05-12/
CATEGORIES:Worship
END:VEVENT
BEGIN:VEVENT
DTSTART;TZID=America/Chicago:20300513T190000
DTEND;TZID=America/Chicago:20300513T203000
DTSTAMP:20260423T234044
CREATED:20260227T135325Z
LAST-MODIFIED:20260227T135325Z
UID:10005448-1904929200-1904934600@fccunited.org
SUMMARY:Agape Men
DESCRIPTION:
URL:https://fccunited.org/event/agape-men-2/2030-05-13/
CATEGORIES:Fellowship
ATTACH;FMTTYPE=image/jpeg:https://fccunited.org/wp-content/uploads/2026/02/20260309-agape-men.jpg
END:VEVENT
BEGIN:VEVENT
DTSTART;TZID=America/Chicago:20300514T083000
DTEND;TZID=America/Chicago:20300514T103000
DTSTAMP:20260423T234044
CREATED:20260415T135010Z
LAST-MODIFIED:20260415T135124Z
UID:10005798-1904977800-1904985000@fccunited.org
SUMMARY:CCA Food Pantry
DESCRIPTION:
URL:https://fccunited.org/event/cca-food-pantry/2030-05-14/
CATEGORIES:Fellowship
ATTACH;FMTTYPE=image/jpeg:https://fccunited.org/wp-content/uploads/2026/04/20260310-cca-food-pantry.jpg
END:VEVENT
BEGIN:VEVENT
DTSTART;TZID=America/Chicago:20300515T160000
DTEND;TZID=America/Chicago:20300515T170000
DTSTAMP:20260423T234044
CREATED:20260221T121225Z
LAST-MODIFIED:20260221T122346Z
UID:10004970-1905091200-1905094800@fccunited.org
SUMMARY:Hour of Prayer
DESCRIPTION:
URL:https://fccunited.org/event/hour-of-prayer/2030-05-15/
CATEGORIES:Fellowship
ATTACH;FMTTYPE=image/jpeg:https://fccunited.org/wp-content/uploads/2026/02/hour-of-prayer-1.jpg
END:VEVENT
BEGIN:VEVENT
DTSTART;TZID=America/Chicago:20300515T170000
DTEND;TZID=America/Chicago:20300515T190000
DTSTAMP:20260423T234044
CREATED:20260221T121346Z
LAST-MODIFIED:20260221T121447Z
UID:10005231-1905094800-1905102000@fccunited.org
SUMMARY:Midweek Connection
DESCRIPTION:
URL:https://fccunited.org/event/midweek-connection/2030-05-15/
CATEGORIES:Fellowship
ATTACH;FMTTYPE=image/jpeg:https://fccunited.org/wp-content/uploads/2026/02/midweek-connection-3.jpg
END:VEVENT
BEGIN:VEVENT
DTSTART;TZID=America/Chicago:20300515T190000
DTEND;TZID=America/Chicago:20300515T200000
DTSTAMP:20260423T234044
CREATED:20260108T163528Z
LAST-MODIFIED:20260210T171104Z
UID:10003695-1905102000-1905105600@fccunited.org
SUMMARY:Choir Practice
DESCRIPTION:
URL:https://fccunited.org/event/choir-practice-4/2030-05-15/
CATEGORIES:Worship
ATTACH;FMTTYPE=image/jpeg:https://fccunited.org/wp-content/uploads/2026/01/choir-practice.jpg
END:VEVENT
BEGIN:VEVENT
DTSTART;TZID=America/Chicago:20300519T091500
DTEND;TZID=America/Chicago:20300519T101500
DTSTAMP:20260423T234044
CREATED:20260127T133219Z
LAST-MODIFIED:20260127T133453Z
UID:10004324-1905412500-1905416100@fccunited.org
SUMMARY:Study Classes
DESCRIPTION:We offer classes for adults and for youth.
URL:https://fccunited.org/event/study-classes/2030-05-19/
CATEGORIES:Bible Study
ATTACH;FMTTYPE=image/jpeg:https://fccunited.org/wp-content/uploads/2026/01/study-class.jpg
END:VEVENT
BEGIN:VEVENT
DTSTART;TZID=America/Chicago:20300519T102500
DTEND;TZID=America/Chicago:20300519T113000
DTSTAMP:20260423T234044
CREATED:20260325T123948Z
LAST-MODIFIED:20260325T123948Z
UID:10005697-1905416700-1905420600@fccunited.org
SUMMARY:Sunday Worship
DESCRIPTION:
URL:https://fccunited.org/event/sunday-worship/2030-05-19/
CATEGORIES:Worship
END:VEVENT
BEGIN:VEVENT
DTSTART;TZID=America/Chicago:20300522T160000
DTEND;TZID=America/Chicago:20300522T170000
DTSTAMP:20260423T234044
CREATED:20260221T121225Z
LAST-MODIFIED:20260221T122346Z
UID:10004971-1905696000-1905699600@fccunited.org
SUMMARY:Hour of Prayer
DESCRIPTION:
URL:https://fccunited.org/event/hour-of-prayer/2030-05-22/
CATEGORIES:Fellowship
ATTACH;FMTTYPE=image/jpeg:https://fccunited.org/wp-content/uploads/2026/02/hour-of-prayer-1.jpg
END:VEVENT
BEGIN:VEVENT
DTSTART;TZID=America/Chicago:20300522T170000
DTEND;TZID=America/Chicago:20300522T190000
DTSTAMP:20260423T234044
CREATED:20260221T121346Z
LAST-MODIFIED:20260221T121447Z
UID:10005232-1905699600-1905706800@fccunited.org
SUMMARY:Midweek Connection
DESCRIPTION:
URL:https://fccunited.org/event/midweek-connection/2030-05-22/
CATEGORIES:Fellowship
ATTACH;FMTTYPE=image/jpeg:https://fccunited.org/wp-content/uploads/2026/02/midweek-connection-3.jpg
END:VEVENT
BEGIN:VEVENT
DTSTART;TZID=America/Chicago:20300522T190000
DTEND;TZID=America/Chicago:20300522T200000
DTSTAMP:20260423T234044
CREATED:20260108T163528Z
LAST-MODIFIED:20260210T171104Z
UID:10003696-1905706800-1905710400@fccunited.org
SUMMARY:Choir Practice
DESCRIPTION:
URL:https://fccunited.org/event/choir-practice-4/2030-05-22/
CATEGORIES:Worship
ATTACH;FMTTYPE=image/jpeg:https://fccunited.org/wp-content/uploads/2026/01/choir-practice.jpg
END:VEVENT
BEGIN:VEVENT
DTSTART;TZID=America/Chicago:20300523T100000
DTEND;TZID=America/Chicago:20300523T233000
DTSTAMP:20260423T234044
CREATED:20260216T125355Z
LAST-MODIFIED:20260415T134412Z
UID:10004680-1905760800-1905809400@fccunited.org
SUMMARY:MomCo
DESCRIPTION:Mom\, join us for faith\, fun\, and fellowship the fourth Thursday of each month.  Childcare is provided. \nCall 972-446-9808 for more information.
URL:https://fccunited.org/event/momco-1000-a-m-2/2030-05-23/
CATEGORIES:Fellowship
ATTACH;FMTTYPE=image/jpeg:https://fccunited.org/wp-content/uploads/2026/02/20260122-momco-3.jpg
END:VEVENT
BEGIN:VEVENT
DTSTART;TZID=America/Chicago:20300526T081500
DTEND;TZID=America/Chicago:20300526T091500
DTSTAMP:20260423T234044
CREATED:20260221T120438Z
LAST-MODIFIED:20260221T120438Z
UID:10004741-1906013700-1906017300@fccunited.org
SUMMARY:Elders Meeting
DESCRIPTION:
URL:https://fccunited.org/event/elders-meeting/2030-05-26/
CATEGORIES:Fellowship
ATTACH;FMTTYPE=image/jpeg:https://fccunited.org/wp-content/uploads/2026/02/20260125-elder-meeting.jpg
END:VEVENT
BEGIN:VEVENT
DTSTART;TZID=America/Chicago:20300526T091500
DTEND;TZID=America/Chicago:20300526T101500
DTSTAMP:20260423T234044
CREATED:20260127T133219Z
LAST-MODIFIED:20260127T133453Z
UID:10004325-1906017300-1906020900@fccunited.org
SUMMARY:Study Classes
DESCRIPTION:We offer classes for adults and for youth.
URL:https://fccunited.org/event/study-classes/2030-05-26/
CATEGORIES:Bible Study
ATTACH;FMTTYPE=image/jpeg:https://fccunited.org/wp-content/uploads/2026/01/study-class.jpg
END:VEVENT
BEGIN:VEVENT
DTSTART;TZID=America/Chicago:20300526T102500
DTEND;TZID=America/Chicago:20300526T113000
DTSTAMP:20260423T234044
CREATED:20260325T123948Z
LAST-MODIFIED:20260325T123948Z
UID:10005698-1906021500-1906025400@fccunited.org
SUMMARY:Sunday Worship
DESCRIPTION:
URL:https://fccunited.org/event/sunday-worship/2030-05-26/
CATEGORIES:Worship
END:VEVENT
BEGIN:VEVENT
DTSTART;TZID=America/Chicago:20300528T190000
DTEND;TZID=America/Chicago:20300528T203000
DTSTAMP:20260423T234044
CREATED:20260127T122330Z
LAST-MODIFIED:20260127T131202Z
UID:10004032-1906225200-1906230600@fccunited.org
SUMMARY:Potpourri Ladies
DESCRIPTION:
URL:https://fccunited.org/event/potpourri-ladies/2030-05-28/
CATEGORIES:Fellowship
ATTACH;FMTTYPE=image/jpeg:https://fccunited.org/wp-content/uploads/2026/01/20260127-potpourri-ladies-1.jpg
END:VEVENT
BEGIN:VEVENT
DTSTART;TZID=America/Chicago:20300529T160000
DTEND;TZID=America/Chicago:20300529T170000
DTSTAMP:20260423T234044
CREATED:20260221T121225Z
LAST-MODIFIED:20260221T122346Z
UID:10004972-1906300800-1906304400@fccunited.org
SUMMARY:Hour of Prayer
DESCRIPTION:
URL:https://fccunited.org/event/hour-of-prayer/2030-05-29/
CATEGORIES:Fellowship
ATTACH;FMTTYPE=image/jpeg:https://fccunited.org/wp-content/uploads/2026/02/hour-of-prayer-1.jpg
END:VEVENT
BEGIN:VEVENT
DTSTART;TZID=America/Chicago:20300529T170000
DTEND;TZID=America/Chicago:20300529T190000
DTSTAMP:20260423T234044
CREATED:20260221T121346Z
LAST-MODIFIED:20260221T121447Z
UID:10005233-1906304400-1906311600@fccunited.org
SUMMARY:Midweek Connection
DESCRIPTION:
URL:https://fccunited.org/event/midweek-connection/2030-05-29/
CATEGORIES:Fellowship
ATTACH;FMTTYPE=image/jpeg:https://fccunited.org/wp-content/uploads/2026/02/midweek-connection-3.jpg
END:VEVENT
BEGIN:VEVENT
DTSTART;TZID=America/Chicago:20300529T190000
DTEND;TZID=America/Chicago:20300529T200000
DTSTAMP:20260423T234044
CREATED:20260108T163528Z
LAST-MODIFIED:20260210T171104Z
UID:10003697-1906311600-1906315200@fccunited.org
SUMMARY:Choir Practice
DESCRIPTION:
URL:https://fccunited.org/event/choir-practice-4/2030-05-29/
CATEGORIES:Worship
ATTACH;FMTTYPE=image/jpeg:https://fccunited.org/wp-content/uploads/2026/01/choir-practice.jpg
END:VEVENT
BEGIN:VEVENT
DTSTART;TZID=America/Chicago:20300601T083000
DTEND;TZID=America/Chicago:20300601T123000
DTSTAMP:20260423T234044
CREATED:20260421T113553Z
LAST-MODIFIED:20260421T114056Z
UID:10005947-1906533000-1906547400@fccunited.org
SUMMARY:Shipwright Food Pantry
DESCRIPTION:Shipwrights Food Pantry Ministry\n\nOn the 1st and 3rd Saturday of each month\, the Shipwrights Food Pantry provides a hot meal\,  groceries and other items for those facing food insecurity in Lewisville and the surrounding area. \nIf you would like to participate in this ministry\,  the time runs from 8:30am - 12:30pm.  Volunteers meet in the Serenity Church/FCCU parking lot at 8:30 on the 1st and 3rd Saturday of the month for preparations. \nFor more information reach out to Ken Blackerby at: 817-492-6983
URL:https://fccunited.org/event/shipwright-food-pantry/2030-06-01/
CATEGORIES:Ministries
ATTACH;FMTTYPE=image/png:https://fccunited.org/wp-content/uploads/2026/04/shipwrights-food-pantry.png
END:VEVENT
BEGIN:VEVENT
DTSTART;TZID=America/Chicago:20300602T091500
DTEND;TZID=America/Chicago:20300602T101500
DTSTAMP:20260423T234044
CREATED:20260127T133219Z
LAST-MODIFIED:20260127T133453Z
UID:10004326-1906622100-1906625700@fccunited.org
SUMMARY:Study Classes
DESCRIPTION:We offer classes for adults and for youth.
URL:https://fccunited.org/event/study-classes/2030-06-02/
CATEGORIES:Bible Study
ATTACH;FMTTYPE=image/jpeg:https://fccunited.org/wp-content/uploads/2026/01/study-class.jpg
END:VEVENT
BEGIN:VEVENT
DTSTART;TZID=America/Chicago:20300602T102500
DTEND;TZID=America/Chicago:20300602T113000
DTSTAMP:20260423T234044
CREATED:20260325T123948Z
LAST-MODIFIED:20260325T123948Z
UID:10005699-1906626300-1906630200@fccunited.org
SUMMARY:Sunday Worship
DESCRIPTION:
URL:https://fccunited.org/event/sunday-worship/2030-06-02/
CATEGORIES:Worship
END:VEVENT
END:VCALENDAR