BEGIN:VCALENDAR
VERSION:2.0
PRODID:-//First Christian Church  United Lewisville, Texas - ECPv6.15.14//NONSGML v1.0//EN
CALSCALE:GREGORIAN
METHOD:PUBLISH
X-WR-CALNAME:First Christian Church  United Lewisville, Texas
X-ORIGINAL-URL:https://fccunited.org
X-WR-CALDESC:Events for First Christian Church  United Lewisville, Texas
REFRESH-INTERVAL;VALUE=DURATION:PT1H
X-Robots-Tag:noindex
X-PUBLISHED-TTL:PT1H
BEGIN:VTIMEZONE
TZID:America/Chicago
BEGIN:DAYLIGHT
TZOFFSETFROM:-0600
TZOFFSETTO:-0500
TZNAME:CDT
DTSTART:20260308T080000
END:DAYLIGHT
BEGIN:STANDARD
TZOFFSETFROM:-0500
TZOFFSETTO:-0600
TZNAME:CST
DTSTART:20261101T070000
END:STANDARD
BEGIN:DAYLIGHT
TZOFFSETFROM:-0600
TZOFFSETTO:-0500
TZNAME:CDT
DTSTART:20270314T080000
END:DAYLIGHT
BEGIN:STANDARD
TZOFFSETFROM:-0500
TZOFFSETTO:-0600
TZNAME:CST
DTSTART:20271107T070000
END:STANDARD
BEGIN:DAYLIGHT
TZOFFSETFROM:-0600
TZOFFSETTO:-0500
TZNAME:CDT
DTSTART:20280312T080000
END:DAYLIGHT
BEGIN:STANDARD
TZOFFSETFROM:-0500
TZOFFSETTO:-0600
TZNAME:CST
DTSTART:20281105T070000
END:STANDARD
END:VTIMEZONE
BEGIN:VEVENT
DTSTART;TZID=America/Chicago:20270407T190000
DTEND;TZID=America/Chicago:20270407T200000
DTSTAMP:20260421T140948
CREATED:20260108T163528Z
LAST-MODIFIED:20260210T171104Z
UID:10003533-1807124400-1807128000@fccunited.org
SUMMARY:Choir Practice
DESCRIPTION:
URL:https://fccunited.org/event/choir-practice-4/2027-04-07/
CATEGORIES:Worship
ATTACH;FMTTYPE=image/jpeg:https://fccunited.org/wp-content/uploads/2026/01/choir-practice.jpg
END:VEVENT
BEGIN:VEVENT
DTSTART;TZID=America/Chicago:20270410T100000
DTEND;TZID=America/Chicago:20270410T113000
DTSTAMP:20260421T140948
CREATED:20260224T200455Z
LAST-MODIFIED:20260224T200455Z
UID:10005350-1807351200-1807356600@fccunited.org
SUMMARY:Pin Pal Sewing Ministry
DESCRIPTION:
URL:https://fccunited.org/event/pin-pal-sewing-ministry/2027-04-10/
CATEGORIES:Fellowship
ATTACH;FMTTYPE=image/jpeg:https://fccunited.org/wp-content/uploads/2026/02/20260214-sewing-ministry.jpg
END:VEVENT
BEGIN:VEVENT
DTSTART;TZID=America/Chicago:20270411T091500
DTEND;TZID=America/Chicago:20270411T101500
DTSTAMP:20260421T140948
CREATED:20260127T133219Z
LAST-MODIFIED:20260127T133453Z
UID:10004162-1807434900-1807438500@fccunited.org
SUMMARY:Study Classes
DESCRIPTION:We offer classes for adults and for youth.
URL:https://fccunited.org/event/study-classes/2027-04-11/
CATEGORIES:Bible Study
ATTACH;FMTTYPE=image/jpeg:https://fccunited.org/wp-content/uploads/2026/01/study-class.jpg
END:VEVENT
BEGIN:VEVENT
DTSTART;TZID=America/Chicago:20270411T102500
DTEND;TZID=America/Chicago:20270411T113000
DTSTAMP:20260421T140948
CREATED:20260325T123948Z
LAST-MODIFIED:20260325T123948Z
UID:10005535-1807439100-1807443000@fccunited.org
SUMMARY:Sunday Worship
DESCRIPTION:
URL:https://fccunited.org/event/sunday-worship/2027-04-11/
CATEGORIES:Worship
END:VEVENT
BEGIN:VEVENT
DTSTART;TZID=America/Chicago:20270412T190000
DTEND;TZID=America/Chicago:20270412T203000
DTSTAMP:20260421T140948
CREATED:20260227T135325Z
LAST-MODIFIED:20260227T135325Z
UID:10005411-1807556400-1807561800@fccunited.org
SUMMARY:Agape Men
DESCRIPTION:
URL:https://fccunited.org/event/agape-men-2/2027-04-12/
CATEGORIES:Fellowship
ATTACH;FMTTYPE=image/jpeg:https://fccunited.org/wp-content/uploads/2026/02/20260309-agape-men.jpg
END:VEVENT
BEGIN:VEVENT
DTSTART;TZID=America/Chicago:20270414T160000
DTEND;TZID=America/Chicago:20270414T170000
DTSTAMP:20260421T140948
CREATED:20260221T121225Z
LAST-MODIFIED:20260221T122346Z
UID:10004809-1807718400-1807722000@fccunited.org
SUMMARY:Hour of Prayer
DESCRIPTION:
URL:https://fccunited.org/event/hour-of-prayer/2027-04-14/
CATEGORIES:Fellowship
ATTACH;FMTTYPE=image/jpeg:https://fccunited.org/wp-content/uploads/2026/02/hour-of-prayer-1.jpg
END:VEVENT
BEGIN:VEVENT
DTSTART;TZID=America/Chicago:20270414T170000
DTEND;TZID=America/Chicago:20270414T190000
DTSTAMP:20260421T140948
CREATED:20260221T121346Z
LAST-MODIFIED:20260221T121447Z
UID:10005070-1807722000-1807729200@fccunited.org
SUMMARY:Midweek Connection
DESCRIPTION:
URL:https://fccunited.org/event/midweek-connection/2027-04-14/
CATEGORIES:Fellowship
ATTACH;FMTTYPE=image/jpeg:https://fccunited.org/wp-content/uploads/2026/02/midweek-connection-3.jpg
END:VEVENT
BEGIN:VEVENT
DTSTART;TZID=America/Chicago:20270414T190000
DTEND;TZID=America/Chicago:20270414T200000
DTSTAMP:20260421T140948
CREATED:20260108T163528Z
LAST-MODIFIED:20260210T171104Z
UID:10003534-1807729200-1807732800@fccunited.org
SUMMARY:Choir Practice
DESCRIPTION:
URL:https://fccunited.org/event/choir-practice-4/2027-04-14/
CATEGORIES:Worship
ATTACH;FMTTYPE=image/jpeg:https://fccunited.org/wp-content/uploads/2026/01/choir-practice.jpg
END:VEVENT
BEGIN:VEVENT
DTSTART;TZID=America/Chicago:20270418T091500
DTEND;TZID=America/Chicago:20270418T101500
DTSTAMP:20260421T140948
CREATED:20260127T133219Z
LAST-MODIFIED:20260127T133453Z
UID:10004163-1808039700-1808043300@fccunited.org
SUMMARY:Study Classes
DESCRIPTION:We offer classes for adults and for youth.
URL:https://fccunited.org/event/study-classes/2027-04-18/
CATEGORIES:Bible Study
ATTACH;FMTTYPE=image/jpeg:https://fccunited.org/wp-content/uploads/2026/01/study-class.jpg
END:VEVENT
BEGIN:VEVENT
DTSTART;TZID=America/Chicago:20270418T102500
DTEND;TZID=America/Chicago:20270418T113000
DTSTAMP:20260421T140948
CREATED:20260325T123948Z
LAST-MODIFIED:20260325T123948Z
UID:10005536-1808043900-1808047800@fccunited.org
SUMMARY:Sunday Worship
DESCRIPTION:
URL:https://fccunited.org/event/sunday-worship/2027-04-18/
CATEGORIES:Worship
END:VEVENT
BEGIN:VEVENT
DTSTART;TZID=America/Chicago:20270421T160000
DTEND;TZID=America/Chicago:20270421T170000
DTSTAMP:20260421T140948
CREATED:20260221T121225Z
LAST-MODIFIED:20260221T122346Z
UID:10004810-1808323200-1808326800@fccunited.org
SUMMARY:Hour of Prayer
DESCRIPTION:
URL:https://fccunited.org/event/hour-of-prayer/2027-04-21/
CATEGORIES:Fellowship
ATTACH;FMTTYPE=image/jpeg:https://fccunited.org/wp-content/uploads/2026/02/hour-of-prayer-1.jpg
END:VEVENT
BEGIN:VEVENT
DTSTART;TZID=America/Chicago:20270421T170000
DTEND;TZID=America/Chicago:20270421T190000
DTSTAMP:20260421T140948
CREATED:20260221T121346Z
LAST-MODIFIED:20260221T121447Z
UID:10005071-1808326800-1808334000@fccunited.org
SUMMARY:Midweek Connection
DESCRIPTION:
URL:https://fccunited.org/event/midweek-connection/2027-04-21/
CATEGORIES:Fellowship
ATTACH;FMTTYPE=image/jpeg:https://fccunited.org/wp-content/uploads/2026/02/midweek-connection-3.jpg
END:VEVENT
BEGIN:VEVENT
DTSTART;TZID=America/Chicago:20270421T190000
DTEND;TZID=America/Chicago:20270421T200000
DTSTAMP:20260421T140948
CREATED:20260108T163528Z
LAST-MODIFIED:20260210T171104Z
UID:10003535-1808334000-1808337600@fccunited.org
SUMMARY:Choir Practice
DESCRIPTION:
URL:https://fccunited.org/event/choir-practice-4/2027-04-21/
CATEGORIES:Worship
ATTACH;FMTTYPE=image/jpeg:https://fccunited.org/wp-content/uploads/2026/01/choir-practice.jpg
END:VEVENT
BEGIN:VEVENT
DTSTART;TZID=America/Chicago:20270422T100000
DTEND;TZID=America/Chicago:20270422T233000
DTSTAMP:20260421T140948
CREATED:20260216T125355Z
LAST-MODIFIED:20260415T134412Z
UID:10004643-1808388000-1808436600@fccunited.org
SUMMARY:MomCo
DESCRIPTION:Mom\, join us for faith\, fun\, and fellowship the fourth Thursday of each month.  Childcare is provided. \nCall 972-446-9808 for more information.
URL:https://fccunited.org/event/momco-1000-a-m-2/2027-04-22/
CATEGORIES:Fellowship
ATTACH;FMTTYPE=image/jpeg:https://fccunited.org/wp-content/uploads/2026/02/20260122-momco-3.jpg
END:VEVENT
BEGIN:VEVENT
DTSTART;TZID=America/Chicago:20270425T081500
DTEND;TZID=America/Chicago:20270425T091500
DTSTAMP:20260421T140948
CREATED:20260221T120438Z
LAST-MODIFIED:20260221T120438Z
UID:10004704-1808640900-1808644500@fccunited.org
SUMMARY:Elders Meeting
DESCRIPTION:
URL:https://fccunited.org/event/elders-meeting/2027-04-25/
CATEGORIES:Fellowship
ATTACH;FMTTYPE=image/jpeg:https://fccunited.org/wp-content/uploads/2026/02/20260125-elder-meeting.jpg
END:VEVENT
BEGIN:VEVENT
DTSTART;TZID=America/Chicago:20270425T091500
DTEND;TZID=America/Chicago:20270425T101500
DTSTAMP:20260421T140948
CREATED:20260127T133219Z
LAST-MODIFIED:20260127T133453Z
UID:10004164-1808644500-1808648100@fccunited.org
SUMMARY:Study Classes
DESCRIPTION:We offer classes for adults and for youth.
URL:https://fccunited.org/event/study-classes/2027-04-25/
CATEGORIES:Bible Study
ATTACH;FMTTYPE=image/jpeg:https://fccunited.org/wp-content/uploads/2026/01/study-class.jpg
END:VEVENT
BEGIN:VEVENT
DTSTART;TZID=America/Chicago:20270425T102500
DTEND;TZID=America/Chicago:20270425T113000
DTSTAMP:20260421T140948
CREATED:20260325T123948Z
LAST-MODIFIED:20260325T123948Z
UID:10005537-1808648700-1808652600@fccunited.org
SUMMARY:Sunday Worship
DESCRIPTION:
URL:https://fccunited.org/event/sunday-worship/2027-04-25/
CATEGORIES:Worship
END:VEVENT
BEGIN:VEVENT
DTSTART;TZID=America/Chicago:20270427T190000
DTEND;TZID=America/Chicago:20270427T203000
DTSTAMP:20260421T140948
CREATED:20260127T122330Z
LAST-MODIFIED:20260127T131202Z
UID:10003995-1808852400-1808857800@fccunited.org
SUMMARY:Potpourri Ladies
DESCRIPTION:
URL:https://fccunited.org/event/potpourri-ladies/2027-04-27/
CATEGORIES:Fellowship
ATTACH;FMTTYPE=image/jpeg:https://fccunited.org/wp-content/uploads/2026/01/20260127-potpourri-ladies-1.jpg
END:VEVENT
BEGIN:VEVENT
DTSTART;TZID=America/Chicago:20270428T160000
DTEND;TZID=America/Chicago:20270428T170000
DTSTAMP:20260421T140948
CREATED:20260221T121225Z
LAST-MODIFIED:20260221T122346Z
UID:10004811-1808928000-1808931600@fccunited.org
SUMMARY:Hour of Prayer
DESCRIPTION:
URL:https://fccunited.org/event/hour-of-prayer/2027-04-28/
CATEGORIES:Fellowship
ATTACH;FMTTYPE=image/jpeg:https://fccunited.org/wp-content/uploads/2026/02/hour-of-prayer-1.jpg
END:VEVENT
BEGIN:VEVENT
DTSTART;TZID=America/Chicago:20270428T170000
DTEND;TZID=America/Chicago:20270428T190000
DTSTAMP:20260421T140948
CREATED:20260221T121346Z
LAST-MODIFIED:20260221T121447Z
UID:10005072-1808931600-1808938800@fccunited.org
SUMMARY:Midweek Connection
DESCRIPTION:
URL:https://fccunited.org/event/midweek-connection/2027-04-28/
CATEGORIES:Fellowship
ATTACH;FMTTYPE=image/jpeg:https://fccunited.org/wp-content/uploads/2026/02/midweek-connection-3.jpg
END:VEVENT
BEGIN:VEVENT
DTSTART;TZID=America/Chicago:20270428T190000
DTEND;TZID=America/Chicago:20270428T200000
DTSTAMP:20260421T140948
CREATED:20260108T163528Z
LAST-MODIFIED:20260210T171104Z
UID:10003536-1808938800-1808942400@fccunited.org
SUMMARY:Choir Practice
DESCRIPTION:
URL:https://fccunited.org/event/choir-practice-4/2027-04-28/
CATEGORIES:Worship
ATTACH;FMTTYPE=image/jpeg:https://fccunited.org/wp-content/uploads/2026/01/choir-practice.jpg
END:VEVENT
BEGIN:VEVENT
DTSTART;TZID=America/Chicago:20270501T083000
DTEND;TZID=America/Chicago:20270501T123000
DTSTAMP:20260421T140948
CREATED:20260421T113553Z
LAST-MODIFIED:20260421T114056Z
UID:10005832-1809160200-1809174600@fccunited.org
SUMMARY:Shipwright Food Pantry
DESCRIPTION:Shipwrights Food Pantry Ministry\n\nOn the 1st and 3rd Saturday of each month\, the Shipwrights Food Pantry provides a hot meal\,  groceries and other items for those facing food insecurity in Lewisville and the surrounding area. \nIf you would like to participate in this ministry\,  the time runs from 8:30am - 12:30pm.  Volunteers meet in the Serenity Church/FCCU parking lot at 8:30 on the 1st and 3rd Saturday of the month for preparations. \nFor more information reach out to Ken Blackerby at: 817-492-6983
URL:https://fccunited.org/event/shipwright-food-pantry/2027-05-01/
CATEGORIES:Ministries
ATTACH;FMTTYPE=image/png:https://fccunited.org/wp-content/uploads/2026/04/shipwrights-food-pantry.png
END:VEVENT
BEGIN:VEVENT
DTSTART;TZID=America/Chicago:20270502T091500
DTEND;TZID=America/Chicago:20270502T101500
DTSTAMP:20260421T140948
CREATED:20260127T133219Z
LAST-MODIFIED:20260127T133453Z
UID:10004165-1809249300-1809252900@fccunited.org
SUMMARY:Study Classes
DESCRIPTION:We offer classes for adults and for youth.
URL:https://fccunited.org/event/study-classes/2027-05-02/
CATEGORIES:Bible Study
ATTACH;FMTTYPE=image/jpeg:https://fccunited.org/wp-content/uploads/2026/01/study-class.jpg
END:VEVENT
BEGIN:VEVENT
DTSTART;TZID=America/Chicago:20270502T102500
DTEND;TZID=America/Chicago:20270502T113000
DTSTAMP:20260421T140948
CREATED:20260325T123948Z
LAST-MODIFIED:20260325T123948Z
UID:10005538-1809253500-1809257400@fccunited.org
SUMMARY:Sunday Worship
DESCRIPTION:
URL:https://fccunited.org/event/sunday-worship/2027-05-02/
CATEGORIES:Worship
END:VEVENT
BEGIN:VEVENT
DTSTART;TZID=America/Chicago:20270502T103000
DTEND;TZID=America/Chicago:20270502T113000
DTSTAMP:20260421T140948
CREATED:20260127T131829Z
LAST-MODIFIED:20260127T131829Z
UID:10004055-1809253800-1809257400@fccunited.org
SUMMARY:First Fruits Sunday
DESCRIPTION:Collecting non-perishables for CCA and Metrocrest Social Services.
URL:https://fccunited.org/event/first-fruits-sunday/2027-05-02/
CATEGORIES:Ministries
ATTACH;FMTTYPE=image/jpeg:https://fccunited.org/wp-content/uploads/2026/01/first-fruits-and-toilet-paper-sunday.jpg
END:VEVENT
BEGIN:VEVENT
DTSTART;TZID=America/Chicago:20270502T113000
DTEND;TZID=America/Chicago:20270502T123000
DTSTAMP:20260421T140948
CREATED:20260311T144206Z
LAST-MODIFIED:20260311T144208Z
UID:10005291-1809257400-1809261000@fccunited.org
SUMMARY:Fellowship Lunch
DESCRIPTION:
URL:https://fccunited.org/event/fellowship-lunch-2-2/2027-05-02/
LOCATION:Praise in the Morning Devotional - November 30\, 2025
CATEGORIES:Fellowship
END:VEVENT
BEGIN:VEVENT
DTSTART;TZID=America/Chicago:20270505T160000
DTEND;TZID=America/Chicago:20270505T170000
DTSTAMP:20260421T140948
CREATED:20260221T121225Z
LAST-MODIFIED:20260221T122346Z
UID:10004812-1809532800-1809536400@fccunited.org
SUMMARY:Hour of Prayer
DESCRIPTION:
URL:https://fccunited.org/event/hour-of-prayer/2027-05-05/
CATEGORIES:Fellowship
ATTACH;FMTTYPE=image/jpeg:https://fccunited.org/wp-content/uploads/2026/02/hour-of-prayer-1.jpg
END:VEVENT
BEGIN:VEVENT
DTSTART;TZID=America/Chicago:20270505T170000
DTEND;TZID=America/Chicago:20270505T190000
DTSTAMP:20260421T140948
CREATED:20260221T121346Z
LAST-MODIFIED:20260221T121447Z
UID:10005073-1809536400-1809543600@fccunited.org
SUMMARY:Midweek Connection
DESCRIPTION:
URL:https://fccunited.org/event/midweek-connection/2027-05-05/
CATEGORIES:Fellowship
ATTACH;FMTTYPE=image/jpeg:https://fccunited.org/wp-content/uploads/2026/02/midweek-connection-3.jpg
END:VEVENT
BEGIN:VEVENT
DTSTART;TZID=America/Chicago:20270505T190000
DTEND;TZID=America/Chicago:20270505T200000
DTSTAMP:20260421T140949
CREATED:20260108T163528Z
LAST-MODIFIED:20260210T171104Z
UID:10003537-1809543600-1809547200@fccunited.org
SUMMARY:Choir Practice
DESCRIPTION:
URL:https://fccunited.org/event/choir-practice-4/2027-05-05/
CATEGORIES:Worship
ATTACH;FMTTYPE=image/jpeg:https://fccunited.org/wp-content/uploads/2026/01/choir-practice.jpg
END:VEVENT
BEGIN:VEVENT
DTSTART;TZID=America/Chicago:20270508T100000
DTEND;TZID=America/Chicago:20270508T113000
DTSTAMP:20260421T140949
CREATED:20260224T200455Z
LAST-MODIFIED:20260224T200455Z
UID:10005351-1809770400-1809775800@fccunited.org
SUMMARY:Pin Pal Sewing Ministry
DESCRIPTION:
URL:https://fccunited.org/event/pin-pal-sewing-ministry/2027-05-08/
CATEGORIES:Fellowship
ATTACH;FMTTYPE=image/jpeg:https://fccunited.org/wp-content/uploads/2026/02/20260214-sewing-ministry.jpg
END:VEVENT
END:VCALENDAR