BEGIN:VCALENDAR
VERSION:2.0
PRODID:-//First Christian Church  United Lewisville, Texas - ECPv6.15.14//NONSGML v1.0//EN
CALSCALE:GREGORIAN
METHOD:PUBLISH
X-WR-CALNAME:First Christian Church  United Lewisville, Texas
X-ORIGINAL-URL:https://fccunited.org
X-WR-CALDESC:Events for First Christian Church  United Lewisville, Texas
REFRESH-INTERVAL;VALUE=DURATION:PT1H
X-Robots-Tag:noindex
X-PUBLISHED-TTL:PT1H
BEGIN:VTIMEZONE
TZID:America/Chicago
BEGIN:DAYLIGHT
TZOFFSETFROM:-0600
TZOFFSETTO:-0500
TZNAME:CDT
DTSTART:20280312T080000
END:DAYLIGHT
BEGIN:STANDARD
TZOFFSETFROM:-0500
TZOFFSETTO:-0600
TZNAME:CST
DTSTART:20281105T070000
END:STANDARD
BEGIN:DAYLIGHT
TZOFFSETFROM:-0600
TZOFFSETTO:-0500
TZNAME:CDT
DTSTART:20290311T080000
END:DAYLIGHT
BEGIN:STANDARD
TZOFFSETFROM:-0500
TZOFFSETTO:-0600
TZNAME:CST
DTSTART:20291104T070000
END:STANDARD
BEGIN:DAYLIGHT
TZOFFSETFROM:-0600
TZOFFSETTO:-0500
TZNAME:CDT
DTSTART:20300310T080000
END:DAYLIGHT
BEGIN:STANDARD
TZOFFSETFROM:-0500
TZOFFSETTO:-0600
TZNAME:CST
DTSTART:20301103T070000
END:STANDARD
END:VTIMEZONE
BEGIN:VEVENT
DTSTART;TZID=America/Chicago:20290408T091500
DTEND;TZID=America/Chicago:20290408T101500
DTSTAMP:20260423T035940
CREATED:20260127T133219Z
LAST-MODIFIED:20260127T133453Z
UID:10004266-1870334100-1870337700@fccunited.org
SUMMARY:Study Classes
DESCRIPTION:We offer classes for adults and for youth.
URL:https://fccunited.org/event/study-classes/2029-04-08/
CATEGORIES:Bible Study
ATTACH;FMTTYPE=image/jpeg:https://fccunited.org/wp-content/uploads/2026/01/study-class.jpg
END:VEVENT
BEGIN:VEVENT
DTSTART;TZID=America/Chicago:20290408T102500
DTEND;TZID=America/Chicago:20290408T113000
DTSTAMP:20260423T035940
CREATED:20260325T123948Z
LAST-MODIFIED:20260325T123948Z
UID:10005639-1870338300-1870342200@fccunited.org
SUMMARY:Sunday Worship
DESCRIPTION:
URL:https://fccunited.org/event/sunday-worship/2029-04-08/
CATEGORIES:Worship
END:VEVENT
BEGIN:VEVENT
DTSTART;TZID=America/Chicago:20290409T190000
DTEND;TZID=America/Chicago:20290409T203000
DTSTAMP:20260423T035940
CREATED:20260227T135325Z
LAST-MODIFIED:20260227T135325Z
UID:10005435-1870455600-1870461000@fccunited.org
SUMMARY:Agape Men
DESCRIPTION:
URL:https://fccunited.org/event/agape-men-2/2029-04-09/
CATEGORIES:Fellowship
ATTACH;FMTTYPE=image/jpeg:https://fccunited.org/wp-content/uploads/2026/02/20260309-agape-men.jpg
END:VEVENT
BEGIN:VEVENT
DTSTART;TZID=America/Chicago:20290411T160000
DTEND;TZID=America/Chicago:20290411T170000
DTSTAMP:20260423T035940
CREATED:20260221T121225Z
LAST-MODIFIED:20260221T122346Z
UID:10004913-1870617600-1870621200@fccunited.org
SUMMARY:Hour of Prayer
DESCRIPTION:
URL:https://fccunited.org/event/hour-of-prayer/2029-04-11/
CATEGORIES:Fellowship
ATTACH;FMTTYPE=image/jpeg:https://fccunited.org/wp-content/uploads/2026/02/hour-of-prayer-1.jpg
END:VEVENT
BEGIN:VEVENT
DTSTART;TZID=America/Chicago:20290411T170000
DTEND;TZID=America/Chicago:20290411T190000
DTSTAMP:20260423T035940
CREATED:20260221T121346Z
LAST-MODIFIED:20260221T121447Z
UID:10005174-1870621200-1870628400@fccunited.org
SUMMARY:Midweek Connection
DESCRIPTION:
URL:https://fccunited.org/event/midweek-connection/2029-04-11/
CATEGORIES:Fellowship
ATTACH;FMTTYPE=image/jpeg:https://fccunited.org/wp-content/uploads/2026/02/midweek-connection-3.jpg
END:VEVENT
BEGIN:VEVENT
DTSTART;TZID=America/Chicago:20290411T190000
DTEND;TZID=America/Chicago:20290411T200000
DTSTAMP:20260423T035940
CREATED:20260108T163528Z
LAST-MODIFIED:20260210T171104Z
UID:10003638-1870628400-1870632000@fccunited.org
SUMMARY:Choir Practice
DESCRIPTION:
URL:https://fccunited.org/event/choir-practice-4/2029-04-11/
CATEGORIES:Worship
ATTACH;FMTTYPE=image/jpeg:https://fccunited.org/wp-content/uploads/2026/01/choir-practice.jpg
END:VEVENT
BEGIN:VEVENT
DTSTART;TZID=America/Chicago:20290414T100000
DTEND;TZID=America/Chicago:20290414T113000
DTSTAMP:20260423T035940
CREATED:20260224T200455Z
LAST-MODIFIED:20260224T200455Z
UID:10005374-1870855200-1870860600@fccunited.org
SUMMARY:Pin Pal Sewing Ministry
DESCRIPTION:
URL:https://fccunited.org/event/pin-pal-sewing-ministry/2029-04-14/
CATEGORIES:Fellowship
ATTACH;FMTTYPE=image/jpeg:https://fccunited.org/wp-content/uploads/2026/02/20260214-sewing-ministry.jpg
END:VEVENT
BEGIN:VEVENT
DTSTART;TZID=America/Chicago:20290415T091500
DTEND;TZID=America/Chicago:20290415T101500
DTSTAMP:20260423T035940
CREATED:20260127T133219Z
LAST-MODIFIED:20260127T133453Z
UID:10004267-1870938900-1870942500@fccunited.org
SUMMARY:Study Classes
DESCRIPTION:We offer classes for adults and for youth.
URL:https://fccunited.org/event/study-classes/2029-04-15/
CATEGORIES:Bible Study
ATTACH;FMTTYPE=image/jpeg:https://fccunited.org/wp-content/uploads/2026/01/study-class.jpg
END:VEVENT
BEGIN:VEVENT
DTSTART;TZID=America/Chicago:20290415T102500
DTEND;TZID=America/Chicago:20290415T113000
DTSTAMP:20260423T035940
CREATED:20260325T123948Z
LAST-MODIFIED:20260325T123948Z
UID:10005640-1870943100-1870947000@fccunited.org
SUMMARY:Sunday Worship
DESCRIPTION:
URL:https://fccunited.org/event/sunday-worship/2029-04-15/
CATEGORIES:Worship
END:VEVENT
BEGIN:VEVENT
DTSTART;TZID=America/Chicago:20290418T160000
DTEND;TZID=America/Chicago:20290418T170000
DTSTAMP:20260423T035940
CREATED:20260221T121225Z
LAST-MODIFIED:20260221T122346Z
UID:10004914-1871222400-1871226000@fccunited.org
SUMMARY:Hour of Prayer
DESCRIPTION:
URL:https://fccunited.org/event/hour-of-prayer/2029-04-18/
CATEGORIES:Fellowship
ATTACH;FMTTYPE=image/jpeg:https://fccunited.org/wp-content/uploads/2026/02/hour-of-prayer-1.jpg
END:VEVENT
BEGIN:VEVENT
DTSTART;TZID=America/Chicago:20290418T170000
DTEND;TZID=America/Chicago:20290418T190000
DTSTAMP:20260423T035940
CREATED:20260221T121346Z
LAST-MODIFIED:20260221T121447Z
UID:10005175-1871226000-1871233200@fccunited.org
SUMMARY:Midweek Connection
DESCRIPTION:
URL:https://fccunited.org/event/midweek-connection/2029-04-18/
CATEGORIES:Fellowship
ATTACH;FMTTYPE=image/jpeg:https://fccunited.org/wp-content/uploads/2026/02/midweek-connection-3.jpg
END:VEVENT
BEGIN:VEVENT
DTSTART;TZID=America/Chicago:20290418T190000
DTEND;TZID=America/Chicago:20290418T200000
DTSTAMP:20260423T035940
CREATED:20260108T163528Z
LAST-MODIFIED:20260210T171104Z
UID:10003639-1871233200-1871236800@fccunited.org
SUMMARY:Choir Practice
DESCRIPTION:
URL:https://fccunited.org/event/choir-practice-4/2029-04-18/
CATEGORIES:Worship
ATTACH;FMTTYPE=image/jpeg:https://fccunited.org/wp-content/uploads/2026/01/choir-practice.jpg
END:VEVENT
BEGIN:VEVENT
DTSTART;TZID=America/Chicago:20290422T081500
DTEND;TZID=America/Chicago:20290422T091500
DTSTAMP:20260423T035940
CREATED:20260221T120438Z
LAST-MODIFIED:20260221T120438Z
UID:10004728-1871540100-1871543700@fccunited.org
SUMMARY:Elders Meeting
DESCRIPTION:
URL:https://fccunited.org/event/elders-meeting/2029-04-22/
CATEGORIES:Fellowship
ATTACH;FMTTYPE=image/jpeg:https://fccunited.org/wp-content/uploads/2026/02/20260125-elder-meeting.jpg
END:VEVENT
BEGIN:VEVENT
DTSTART;TZID=America/Chicago:20290422T091500
DTEND;TZID=America/Chicago:20290422T101500
DTSTAMP:20260423T035940
CREATED:20260127T133219Z
LAST-MODIFIED:20260127T133453Z
UID:10004268-1871543700-1871547300@fccunited.org
SUMMARY:Study Classes
DESCRIPTION:We offer classes for adults and for youth.
URL:https://fccunited.org/event/study-classes/2029-04-22/
CATEGORIES:Bible Study
ATTACH;FMTTYPE=image/jpeg:https://fccunited.org/wp-content/uploads/2026/01/study-class.jpg
END:VEVENT
BEGIN:VEVENT
DTSTART;TZID=America/Chicago:20290422T102500
DTEND;TZID=America/Chicago:20290422T113000
DTSTAMP:20260423T035940
CREATED:20260325T123948Z
LAST-MODIFIED:20260325T123948Z
UID:10005641-1871547900-1871551800@fccunited.org
SUMMARY:Sunday Worship
DESCRIPTION:
URL:https://fccunited.org/event/sunday-worship/2029-04-22/
CATEGORIES:Worship
END:VEVENT
BEGIN:VEVENT
DTSTART;TZID=America/Chicago:20290424T190000
DTEND;TZID=America/Chicago:20290424T203000
DTSTAMP:20260423T035940
CREATED:20260127T122330Z
LAST-MODIFIED:20260127T131202Z
UID:10004019-1871751600-1871757000@fccunited.org
SUMMARY:Potpourri Ladies
DESCRIPTION:
URL:https://fccunited.org/event/potpourri-ladies/2029-04-24/
CATEGORIES:Fellowship
ATTACH;FMTTYPE=image/jpeg:https://fccunited.org/wp-content/uploads/2026/01/20260127-potpourri-ladies-1.jpg
END:VEVENT
BEGIN:VEVENT
DTSTART;TZID=America/Chicago:20290425T160000
DTEND;TZID=America/Chicago:20290425T170000
DTSTAMP:20260423T035940
CREATED:20260221T121225Z
LAST-MODIFIED:20260221T122346Z
UID:10004915-1871827200-1871830800@fccunited.org
SUMMARY:Hour of Prayer
DESCRIPTION:
URL:https://fccunited.org/event/hour-of-prayer/2029-04-25/
CATEGORIES:Fellowship
ATTACH;FMTTYPE=image/jpeg:https://fccunited.org/wp-content/uploads/2026/02/hour-of-prayer-1.jpg
END:VEVENT
BEGIN:VEVENT
DTSTART;TZID=America/Chicago:20290425T170000
DTEND;TZID=America/Chicago:20290425T190000
DTSTAMP:20260423T035940
CREATED:20260221T121346Z
LAST-MODIFIED:20260221T121447Z
UID:10005176-1871830800-1871838000@fccunited.org
SUMMARY:Midweek Connection
DESCRIPTION:
URL:https://fccunited.org/event/midweek-connection/2029-04-25/
CATEGORIES:Fellowship
ATTACH;FMTTYPE=image/jpeg:https://fccunited.org/wp-content/uploads/2026/02/midweek-connection-3.jpg
END:VEVENT
BEGIN:VEVENT
DTSTART;TZID=America/Chicago:20290425T190000
DTEND;TZID=America/Chicago:20290425T200000
DTSTAMP:20260423T035940
CREATED:20260108T163528Z
LAST-MODIFIED:20260210T171104Z
UID:10003640-1871838000-1871841600@fccunited.org
SUMMARY:Choir Practice
DESCRIPTION:
URL:https://fccunited.org/event/choir-practice-4/2029-04-25/
CATEGORIES:Worship
ATTACH;FMTTYPE=image/jpeg:https://fccunited.org/wp-content/uploads/2026/01/choir-practice.jpg
END:VEVENT
BEGIN:VEVENT
DTSTART;TZID=America/Chicago:20290426T100000
DTEND;TZID=America/Chicago:20290426T233000
DTSTAMP:20260423T035940
CREATED:20260216T125355Z
LAST-MODIFIED:20260415T134412Z
UID:10004667-1871892000-1871940600@fccunited.org
SUMMARY:MomCo
DESCRIPTION:Mom\, join us for faith\, fun\, and fellowship the fourth Thursday of each month.  Childcare is provided. \nCall 972-446-9808 for more information.
URL:https://fccunited.org/event/momco-1000-a-m-2/2029-04-26/
CATEGORIES:Fellowship
ATTACH;FMTTYPE=image/jpeg:https://fccunited.org/wp-content/uploads/2026/02/20260122-momco-3.jpg
END:VEVENT
BEGIN:VEVENT
DTSTART;TZID=America/Chicago:20290429T091500
DTEND;TZID=America/Chicago:20290429T101500
DTSTAMP:20260423T035940
CREATED:20260127T133219Z
LAST-MODIFIED:20260127T133453Z
UID:10004269-1872148500-1872152100@fccunited.org
SUMMARY:Study Classes
DESCRIPTION:We offer classes for adults and for youth.
URL:https://fccunited.org/event/study-classes/2029-04-29/
CATEGORIES:Bible Study
ATTACH;FMTTYPE=image/jpeg:https://fccunited.org/wp-content/uploads/2026/01/study-class.jpg
END:VEVENT
BEGIN:VEVENT
DTSTART;TZID=America/Chicago:20290429T102500
DTEND;TZID=America/Chicago:20290429T113000
DTSTAMP:20260423T035940
CREATED:20260325T123948Z
LAST-MODIFIED:20260325T123948Z
UID:10005642-1872152700-1872156600@fccunited.org
SUMMARY:Sunday Worship
DESCRIPTION:
URL:https://fccunited.org/event/sunday-worship/2029-04-29/
CATEGORIES:Worship
END:VEVENT
BEGIN:VEVENT
DTSTART;TZID=America/Chicago:20290502T160000
DTEND;TZID=America/Chicago:20290502T170000
DTSTAMP:20260423T035940
CREATED:20260221T121225Z
LAST-MODIFIED:20260221T122346Z
UID:10004916-1872432000-1872435600@fccunited.org
SUMMARY:Hour of Prayer
DESCRIPTION:
URL:https://fccunited.org/event/hour-of-prayer/2029-05-02/
CATEGORIES:Fellowship
ATTACH;FMTTYPE=image/jpeg:https://fccunited.org/wp-content/uploads/2026/02/hour-of-prayer-1.jpg
END:VEVENT
BEGIN:VEVENT
DTSTART;TZID=America/Chicago:20290502T170000
DTEND;TZID=America/Chicago:20290502T190000
DTSTAMP:20260423T035940
CREATED:20260221T121346Z
LAST-MODIFIED:20260221T121447Z
UID:10005177-1872435600-1872442800@fccunited.org
SUMMARY:Midweek Connection
DESCRIPTION:
URL:https://fccunited.org/event/midweek-connection/2029-05-02/
CATEGORIES:Fellowship
ATTACH;FMTTYPE=image/jpeg:https://fccunited.org/wp-content/uploads/2026/02/midweek-connection-3.jpg
END:VEVENT
BEGIN:VEVENT
DTSTART;TZID=America/Chicago:20290502T190000
DTEND;TZID=America/Chicago:20290502T200000
DTSTAMP:20260423T035940
CREATED:20260108T163528Z
LAST-MODIFIED:20260210T171104Z
UID:10003641-1872442800-1872446400@fccunited.org
SUMMARY:Choir Practice
DESCRIPTION:
URL:https://fccunited.org/event/choir-practice-4/2029-05-02/
CATEGORIES:Worship
ATTACH;FMTTYPE=image/jpeg:https://fccunited.org/wp-content/uploads/2026/01/choir-practice.jpg
END:VEVENT
BEGIN:VEVENT
DTSTART;TZID=America/Chicago:20290505T083000
DTEND;TZID=America/Chicago:20290505T123000
DTSTAMP:20260423T035940
CREATED:20260421T113553Z
LAST-MODIFIED:20260421T114056Z
UID:10005938-1872664200-1872678600@fccunited.org
SUMMARY:Shipwright Food Pantry
DESCRIPTION:Shipwrights Food Pantry Ministry\n\nOn the 1st and 3rd Saturday of each month\, the Shipwrights Food Pantry provides a hot meal\,  groceries and other items for those facing food insecurity in Lewisville and the surrounding area. \nIf you would like to participate in this ministry\,  the time runs from 8:30am - 12:30pm.  Volunteers meet in the Serenity Church/FCCU parking lot at 8:30 on the 1st and 3rd Saturday of the month for preparations. \nFor more information reach out to Ken Blackerby at: 817-492-6983
URL:https://fccunited.org/event/shipwright-food-pantry/2029-05-05/
CATEGORIES:Ministries
ATTACH;FMTTYPE=image/png:https://fccunited.org/wp-content/uploads/2026/04/shipwrights-food-pantry.png
END:VEVENT
BEGIN:VEVENT
DTSTART;TZID=America/Chicago:20290506T091500
DTEND;TZID=America/Chicago:20290506T101500
DTSTAMP:20260423T035940
CREATED:20260127T133219Z
LAST-MODIFIED:20260127T133453Z
UID:10004270-1872753300-1872756900@fccunited.org
SUMMARY:Study Classes
DESCRIPTION:We offer classes for adults and for youth.
URL:https://fccunited.org/event/study-classes/2029-05-06/
CATEGORIES:Bible Study
ATTACH;FMTTYPE=image/jpeg:https://fccunited.org/wp-content/uploads/2026/01/study-class.jpg
END:VEVENT
BEGIN:VEVENT
DTSTART;TZID=America/Chicago:20290506T102500
DTEND;TZID=America/Chicago:20290506T113000
DTSTAMP:20260423T035940
CREATED:20260325T123948Z
LAST-MODIFIED:20260325T123948Z
UID:10005643-1872757500-1872761400@fccunited.org
SUMMARY:Sunday Worship
DESCRIPTION:
URL:https://fccunited.org/event/sunday-worship/2029-05-06/
CATEGORIES:Worship
END:VEVENT
BEGIN:VEVENT
DTSTART;TZID=America/Chicago:20290506T103000
DTEND;TZID=America/Chicago:20290506T113000
DTSTAMP:20260423T035940
CREATED:20260127T131829Z
LAST-MODIFIED:20260127T131829Z
UID:10004079-1872757800-1872761400@fccunited.org
SUMMARY:First Fruits Sunday
DESCRIPTION:Collecting non-perishables for CCA and Metrocrest Social Services.
URL:https://fccunited.org/event/first-fruits-sunday/2029-05-06/
CATEGORIES:Ministries
ATTACH;FMTTYPE=image/jpeg:https://fccunited.org/wp-content/uploads/2026/01/first-fruits-and-toilet-paper-sunday.jpg
END:VEVENT
BEGIN:VEVENT
DTSTART;TZID=America/Chicago:20290506T113000
DTEND;TZID=America/Chicago:20290506T123000
DTSTAMP:20260423T035940
CREATED:20260311T144206Z
LAST-MODIFIED:20260311T144208Z
UID:10005315-1872761400-1872765000@fccunited.org
SUMMARY:Fellowship Lunch
DESCRIPTION:
URL:https://fccunited.org/event/fellowship-lunch-2-2/2029-05-06/
LOCATION:Praise in the Morning Devotional - November 30\, 2025
CATEGORIES:Fellowship
END:VEVENT
END:VCALENDAR