BEGIN:VCALENDAR
VERSION:2.0
PRODID:-//First Christian Church  United Lewisville, Texas - ECPv6.15.14//NONSGML v1.0//EN
CALSCALE:GREGORIAN
METHOD:PUBLISH
X-ORIGINAL-URL:https://fccunited.org
X-WR-CALDESC:Events for First Christian Church  United Lewisville, Texas
REFRESH-INTERVAL;VALUE=DURATION:PT1H
X-Robots-Tag:noindex
X-PUBLISHED-TTL:PT1H
BEGIN:VTIMEZONE
TZID:America/Chicago
BEGIN:DAYLIGHT
TZOFFSETFROM:-0600
TZOFFSETTO:-0500
TZNAME:CDT
DTSTART:20280312T080000
END:DAYLIGHT
BEGIN:STANDARD
TZOFFSETFROM:-0500
TZOFFSETTO:-0600
TZNAME:CST
DTSTART:20281105T070000
END:STANDARD
BEGIN:DAYLIGHT
TZOFFSETFROM:-0600
TZOFFSETTO:-0500
TZNAME:CDT
DTSTART:20290311T080000
END:DAYLIGHT
BEGIN:STANDARD
TZOFFSETFROM:-0500
TZOFFSETTO:-0600
TZNAME:CST
DTSTART:20291104T070000
END:STANDARD
BEGIN:DAYLIGHT
TZOFFSETFROM:-0600
TZOFFSETTO:-0500
TZNAME:CDT
DTSTART:20300310T080000
END:DAYLIGHT
BEGIN:STANDARD
TZOFFSETFROM:-0500
TZOFFSETTO:-0600
TZNAME:CST
DTSTART:20301103T070000
END:STANDARD
END:VTIMEZONE
BEGIN:VEVENT
DTSTART;TZID=America/Chicago:20290603T113000
DTEND;TZID=America/Chicago:20290603T123000
DTSTAMP:20260423T053724
CREATED:20260311T144206Z
LAST-MODIFIED:20260311T144208Z
UID:10005316-1875180600-1875184200@fccunited.org
SUMMARY:Fellowship Lunch
DESCRIPTION:
URL:https://fccunited.org/event/fellowship-lunch-2-2/2029-06-03/
LOCATION:Praise in the Morning Devotional - November 30\, 2025
CATEGORIES:Fellowship
END:VEVENT
BEGIN:VEVENT
DTSTART;TZID=America/Chicago:20290606T160000
DTEND;TZID=America/Chicago:20290606T170000
DTSTAMP:20260423T053724
CREATED:20260221T121225Z
LAST-MODIFIED:20260221T122346Z
UID:10004921-1875456000-1875459600@fccunited.org
SUMMARY:Hour of Prayer
DESCRIPTION:
URL:https://fccunited.org/event/hour-of-prayer/2029-06-06/
CATEGORIES:Fellowship
ATTACH;FMTTYPE=image/jpeg:https://fccunited.org/wp-content/uploads/2026/02/hour-of-prayer-1.jpg
END:VEVENT
BEGIN:VEVENT
DTSTART;TZID=America/Chicago:20290606T170000
DTEND;TZID=America/Chicago:20290606T190000
DTSTAMP:20260423T053724
CREATED:20260221T121346Z
LAST-MODIFIED:20260221T121447Z
UID:10005182-1875459600-1875466800@fccunited.org
SUMMARY:Midweek Connection
DESCRIPTION:
URL:https://fccunited.org/event/midweek-connection/2029-06-06/
CATEGORIES:Fellowship
ATTACH;FMTTYPE=image/jpeg:https://fccunited.org/wp-content/uploads/2026/02/midweek-connection-3.jpg
END:VEVENT
BEGIN:VEVENT
DTSTART;TZID=America/Chicago:20290606T190000
DTEND;TZID=America/Chicago:20290606T200000
DTSTAMP:20260423T053724
CREATED:20260108T163528Z
LAST-MODIFIED:20260210T171104Z
UID:10003646-1875466800-1875470400@fccunited.org
SUMMARY:Choir Practice
DESCRIPTION:
URL:https://fccunited.org/event/choir-practice-4/2029-06-06/
CATEGORIES:Worship
ATTACH;FMTTYPE=image/jpeg:https://fccunited.org/wp-content/uploads/2026/01/choir-practice.jpg
END:VEVENT
BEGIN:VEVENT
DTSTART;TZID=America/Chicago:20290609T100000
DTEND;TZID=America/Chicago:20290609T113000
DTSTAMP:20260423T053724
CREATED:20260224T200455Z
LAST-MODIFIED:20260224T200455Z
UID:10005376-1875693600-1875699000@fccunited.org
SUMMARY:Pin Pal Sewing Ministry
DESCRIPTION:
URL:https://fccunited.org/event/pin-pal-sewing-ministry/2029-06-09/
CATEGORIES:Fellowship
ATTACH;FMTTYPE=image/jpeg:https://fccunited.org/wp-content/uploads/2026/02/20260214-sewing-ministry.jpg
END:VEVENT
BEGIN:VEVENT
DTSTART;TZID=America/Chicago:20290610T091500
DTEND;TZID=America/Chicago:20290610T101500
DTSTAMP:20260423T053724
CREATED:20260127T133219Z
LAST-MODIFIED:20260127T133453Z
UID:10004275-1875777300-1875780900@fccunited.org
SUMMARY:Study Classes
DESCRIPTION:We offer classes for adults and for youth.
URL:https://fccunited.org/event/study-classes/2029-06-10/
CATEGORIES:Bible Study
ATTACH;FMTTYPE=image/jpeg:https://fccunited.org/wp-content/uploads/2026/01/study-class.jpg
END:VEVENT
BEGIN:VEVENT
DTSTART;TZID=America/Chicago:20290610T102500
DTEND;TZID=America/Chicago:20290610T113000
DTSTAMP:20260423T053724
CREATED:20260325T123948Z
LAST-MODIFIED:20260325T123948Z
UID:10005648-1875781500-1875785400@fccunited.org
SUMMARY:Sunday Worship
DESCRIPTION:
URL:https://fccunited.org/event/sunday-worship/2029-06-10/
CATEGORIES:Worship
END:VEVENT
BEGIN:VEVENT
DTSTART;TZID=America/Chicago:20290611T190000
DTEND;TZID=America/Chicago:20290611T203000
DTSTAMP:20260423T053724
CREATED:20260227T135325Z
LAST-MODIFIED:20260227T135325Z
UID:10005437-1875898800-1875904200@fccunited.org
SUMMARY:Agape Men
DESCRIPTION:
URL:https://fccunited.org/event/agape-men-2/2029-06-11/
CATEGORIES:Fellowship
ATTACH;FMTTYPE=image/jpeg:https://fccunited.org/wp-content/uploads/2026/02/20260309-agape-men.jpg
END:VEVENT
BEGIN:VEVENT
DTSTART;TZID=America/Chicago:20290613T160000
DTEND;TZID=America/Chicago:20290613T170000
DTSTAMP:20260423T053724
CREATED:20260221T121225Z
LAST-MODIFIED:20260221T122346Z
UID:10004922-1876060800-1876064400@fccunited.org
SUMMARY:Hour of Prayer
DESCRIPTION:
URL:https://fccunited.org/event/hour-of-prayer/2029-06-13/
CATEGORIES:Fellowship
ATTACH;FMTTYPE=image/jpeg:https://fccunited.org/wp-content/uploads/2026/02/hour-of-prayer-1.jpg
END:VEVENT
BEGIN:VEVENT
DTSTART;TZID=America/Chicago:20290613T170000
DTEND;TZID=America/Chicago:20290613T190000
DTSTAMP:20260423T053724
CREATED:20260221T121346Z
LAST-MODIFIED:20260221T121447Z
UID:10005183-1876064400-1876071600@fccunited.org
SUMMARY:Midweek Connection
DESCRIPTION:
URL:https://fccunited.org/event/midweek-connection/2029-06-13/
CATEGORIES:Fellowship
ATTACH;FMTTYPE=image/jpeg:https://fccunited.org/wp-content/uploads/2026/02/midweek-connection-3.jpg
END:VEVENT
BEGIN:VEVENT
DTSTART;TZID=America/Chicago:20290613T190000
DTEND;TZID=America/Chicago:20290613T200000
DTSTAMP:20260423T053724
CREATED:20260108T163528Z
LAST-MODIFIED:20260210T171104Z
UID:10003647-1876071600-1876075200@fccunited.org
SUMMARY:Choir Practice
DESCRIPTION:
URL:https://fccunited.org/event/choir-practice-4/2029-06-13/
CATEGORIES:Worship
ATTACH;FMTTYPE=image/jpeg:https://fccunited.org/wp-content/uploads/2026/01/choir-practice.jpg
END:VEVENT
BEGIN:VEVENT
DTSTART;TZID=America/Chicago:20290617T091500
DTEND;TZID=America/Chicago:20290617T101500
DTSTAMP:20260423T053724
CREATED:20260127T133219Z
LAST-MODIFIED:20260127T133453Z
UID:10004276-1876382100-1876385700@fccunited.org
SUMMARY:Study Classes
DESCRIPTION:We offer classes for adults and for youth.
URL:https://fccunited.org/event/study-classes/2029-06-17/
CATEGORIES:Bible Study
ATTACH;FMTTYPE=image/jpeg:https://fccunited.org/wp-content/uploads/2026/01/study-class.jpg
END:VEVENT
BEGIN:VEVENT
DTSTART;TZID=America/Chicago:20290617T102500
DTEND;TZID=America/Chicago:20290617T113000
DTSTAMP:20260423T053724
CREATED:20260325T123948Z
LAST-MODIFIED:20260325T123948Z
UID:10005649-1876386300-1876390200@fccunited.org
SUMMARY:Sunday Worship
DESCRIPTION:
URL:https://fccunited.org/event/sunday-worship/2029-06-17/
CATEGORIES:Worship
END:VEVENT
BEGIN:VEVENT
DTSTART;TZID=America/Chicago:20290620T160000
DTEND;TZID=America/Chicago:20290620T170000
DTSTAMP:20260423T053724
CREATED:20260221T121225Z
LAST-MODIFIED:20260221T122346Z
UID:10004923-1876665600-1876669200@fccunited.org
SUMMARY:Hour of Prayer
DESCRIPTION:
URL:https://fccunited.org/event/hour-of-prayer/2029-06-20/
CATEGORIES:Fellowship
ATTACH;FMTTYPE=image/jpeg:https://fccunited.org/wp-content/uploads/2026/02/hour-of-prayer-1.jpg
END:VEVENT
BEGIN:VEVENT
DTSTART;TZID=America/Chicago:20290620T170000
DTEND;TZID=America/Chicago:20290620T190000
DTSTAMP:20260423T053724
CREATED:20260221T121346Z
LAST-MODIFIED:20260221T121447Z
UID:10005184-1876669200-1876676400@fccunited.org
SUMMARY:Midweek Connection
DESCRIPTION:
URL:https://fccunited.org/event/midweek-connection/2029-06-20/
CATEGORIES:Fellowship
ATTACH;FMTTYPE=image/jpeg:https://fccunited.org/wp-content/uploads/2026/02/midweek-connection-3.jpg
END:VEVENT
BEGIN:VEVENT
DTSTART;TZID=America/Chicago:20290620T190000
DTEND;TZID=America/Chicago:20290620T200000
DTSTAMP:20260423T053724
CREATED:20260108T163528Z
LAST-MODIFIED:20260210T171104Z
UID:10003648-1876676400-1876680000@fccunited.org
SUMMARY:Choir Practice
DESCRIPTION:
URL:https://fccunited.org/event/choir-practice-4/2029-06-20/
CATEGORIES:Worship
ATTACH;FMTTYPE=image/jpeg:https://fccunited.org/wp-content/uploads/2026/01/choir-practice.jpg
END:VEVENT
BEGIN:VEVENT
DTSTART;TZID=America/Chicago:20290624T081500
DTEND;TZID=America/Chicago:20290624T091500
DTSTAMP:20260423T053724
CREATED:20260221T120438Z
LAST-MODIFIED:20260221T120438Z
UID:10004730-1876983300-1876986900@fccunited.org
SUMMARY:Elders Meeting
DESCRIPTION:
URL:https://fccunited.org/event/elders-meeting/2029-06-24/
CATEGORIES:Fellowship
ATTACH;FMTTYPE=image/jpeg:https://fccunited.org/wp-content/uploads/2026/02/20260125-elder-meeting.jpg
END:VEVENT
BEGIN:VEVENT
DTSTART;TZID=America/Chicago:20290624T091500
DTEND;TZID=America/Chicago:20290624T101500
DTSTAMP:20260423T053724
CREATED:20260127T133219Z
LAST-MODIFIED:20260127T133453Z
UID:10004277-1876986900-1876990500@fccunited.org
SUMMARY:Study Classes
DESCRIPTION:We offer classes for adults and for youth.
URL:https://fccunited.org/event/study-classes/2029-06-24/
CATEGORIES:Bible Study
ATTACH;FMTTYPE=image/jpeg:https://fccunited.org/wp-content/uploads/2026/01/study-class.jpg
END:VEVENT
BEGIN:VEVENT
DTSTART;TZID=America/Chicago:20290624T102500
DTEND;TZID=America/Chicago:20290624T113000
DTSTAMP:20260423T053724
CREATED:20260325T123948Z
LAST-MODIFIED:20260325T123948Z
UID:10005650-1876991100-1876995000@fccunited.org
SUMMARY:Sunday Worship
DESCRIPTION:
URL:https://fccunited.org/event/sunday-worship/2029-06-24/
CATEGORIES:Worship
END:VEVENT
BEGIN:VEVENT
DTSTART;TZID=America/Chicago:20290626T190000
DTEND;TZID=America/Chicago:20290626T203000
DTSTAMP:20260423T053724
CREATED:20260127T122330Z
LAST-MODIFIED:20260127T131202Z
UID:10004021-1877194800-1877200200@fccunited.org
SUMMARY:Potpourri Ladies
DESCRIPTION:
URL:https://fccunited.org/event/potpourri-ladies/2029-06-26/
CATEGORIES:Fellowship
ATTACH;FMTTYPE=image/jpeg:https://fccunited.org/wp-content/uploads/2026/01/20260127-potpourri-ladies-1.jpg
END:VEVENT
BEGIN:VEVENT
DTSTART;TZID=America/Chicago:20290627T160000
DTEND;TZID=America/Chicago:20290627T170000
DTSTAMP:20260423T053724
CREATED:20260221T121225Z
LAST-MODIFIED:20260221T122346Z
UID:10004924-1877270400-1877274000@fccunited.org
SUMMARY:Hour of Prayer
DESCRIPTION:
URL:https://fccunited.org/event/hour-of-prayer/2029-06-27/
CATEGORIES:Fellowship
ATTACH;FMTTYPE=image/jpeg:https://fccunited.org/wp-content/uploads/2026/02/hour-of-prayer-1.jpg
END:VEVENT
BEGIN:VEVENT
DTSTART;TZID=America/Chicago:20290627T170000
DTEND;TZID=America/Chicago:20290627T190000
DTSTAMP:20260423T053724
CREATED:20260221T121346Z
LAST-MODIFIED:20260221T121447Z
UID:10005185-1877274000-1877281200@fccunited.org
SUMMARY:Midweek Connection
DESCRIPTION:
URL:https://fccunited.org/event/midweek-connection/2029-06-27/
CATEGORIES:Fellowship
ATTACH;FMTTYPE=image/jpeg:https://fccunited.org/wp-content/uploads/2026/02/midweek-connection-3.jpg
END:VEVENT
BEGIN:VEVENT
DTSTART;TZID=America/Chicago:20290627T190000
DTEND;TZID=America/Chicago:20290627T200000
DTSTAMP:20260423T053724
CREATED:20260108T163528Z
LAST-MODIFIED:20260210T171104Z
UID:10003649-1877281200-1877284800@fccunited.org
SUMMARY:Choir Practice
DESCRIPTION:
URL:https://fccunited.org/event/choir-practice-4/2029-06-27/
CATEGORIES:Worship
ATTACH;FMTTYPE=image/jpeg:https://fccunited.org/wp-content/uploads/2026/01/choir-practice.jpg
END:VEVENT
BEGIN:VEVENT
DTSTART;TZID=America/Chicago:20290628T100000
DTEND;TZID=America/Chicago:20290628T233000
DTSTAMP:20260423T053724
CREATED:20260216T125355Z
LAST-MODIFIED:20260415T134412Z
UID:10004669-1877335200-1877383800@fccunited.org
SUMMARY:MomCo
DESCRIPTION:Mom\, join us for faith\, fun\, and fellowship the fourth Thursday of each month.  Childcare is provided. \nCall 972-446-9808 for more information.
URL:https://fccunited.org/event/momco-1000-a-m-2/2029-06-28/
CATEGORIES:Fellowship
ATTACH;FMTTYPE=image/jpeg:https://fccunited.org/wp-content/uploads/2026/02/20260122-momco-3.jpg
END:VEVENT
BEGIN:VEVENT
DTSTART;TZID=America/Chicago:20290701T091500
DTEND;TZID=America/Chicago:20290701T101500
DTSTAMP:20260423T053724
CREATED:20260127T133219Z
LAST-MODIFIED:20260127T133453Z
UID:10004278-1877591700-1877595300@fccunited.org
SUMMARY:Study Classes
DESCRIPTION:We offer classes for adults and for youth.
URL:https://fccunited.org/event/study-classes/2029-07-01/
CATEGORIES:Bible Study
ATTACH;FMTTYPE=image/jpeg:https://fccunited.org/wp-content/uploads/2026/01/study-class.jpg
END:VEVENT
BEGIN:VEVENT
DTSTART;TZID=America/Chicago:20290701T102500
DTEND;TZID=America/Chicago:20290701T113000
DTSTAMP:20260423T053724
CREATED:20260325T123948Z
LAST-MODIFIED:20260325T123948Z
UID:10005651-1877595900-1877599800@fccunited.org
SUMMARY:Sunday Worship
DESCRIPTION:
URL:https://fccunited.org/event/sunday-worship/2029-07-01/
CATEGORIES:Worship
END:VEVENT
BEGIN:VEVENT
DTSTART;TZID=America/Chicago:20290701T103000
DTEND;TZID=America/Chicago:20290701T113000
DTSTAMP:20260423T053724
CREATED:20260127T131829Z
LAST-MODIFIED:20260127T131829Z
UID:10004081-1877596200-1877599800@fccunited.org
SUMMARY:First Fruits Sunday
DESCRIPTION:Collecting non-perishables for CCA and Metrocrest Social Services.
URL:https://fccunited.org/event/first-fruits-sunday/2029-07-01/
CATEGORIES:Ministries
ATTACH;FMTTYPE=image/jpeg:https://fccunited.org/wp-content/uploads/2026/01/first-fruits-and-toilet-paper-sunday.jpg
END:VEVENT
BEGIN:VEVENT
DTSTART;TZID=America/Chicago:20290701T113000
DTEND;TZID=America/Chicago:20290701T123000
DTSTAMP:20260423T053724
CREATED:20260311T144206Z
LAST-MODIFIED:20260311T144208Z
UID:10005317-1877599800-1877603400@fccunited.org
SUMMARY:Fellowship Lunch
DESCRIPTION:
URL:https://fccunited.org/event/fellowship-lunch-2-2/2029-07-01/
LOCATION:Praise in the Morning Devotional - November 30\, 2025
CATEGORIES:Fellowship
END:VEVENT
BEGIN:VEVENT
DTSTART;TZID=America/Chicago:20290704T160000
DTEND;TZID=America/Chicago:20290704T170000
DTSTAMP:20260423T053724
CREATED:20260221T121225Z
LAST-MODIFIED:20260221T122346Z
UID:10004925-1877875200-1877878800@fccunited.org
SUMMARY:Hour of Prayer
DESCRIPTION:
URL:https://fccunited.org/event/hour-of-prayer/2029-07-04/
CATEGORIES:Fellowship
ATTACH;FMTTYPE=image/jpeg:https://fccunited.org/wp-content/uploads/2026/02/hour-of-prayer-1.jpg
END:VEVENT
BEGIN:VEVENT
DTSTART;TZID=America/Chicago:20290704T170000
DTEND;TZID=America/Chicago:20290704T190000
DTSTAMP:20260423T053724
CREATED:20260221T121346Z
LAST-MODIFIED:20260221T121447Z
UID:10005186-1877878800-1877886000@fccunited.org
SUMMARY:Midweek Connection
DESCRIPTION:
URL:https://fccunited.org/event/midweek-connection/2029-07-04/
CATEGORIES:Fellowship
ATTACH;FMTTYPE=image/jpeg:https://fccunited.org/wp-content/uploads/2026/02/midweek-connection-3.jpg
END:VEVENT
END:VCALENDAR