BEGIN:VCALENDAR
VERSION:2.0
PRODID:-//First Christian Church  United Lewisville, Texas - ECPv6.15.14//NONSGML v1.0//EN
CALSCALE:GREGORIAN
METHOD:PUBLISH
X-ORIGINAL-URL:https://fccunited.org
X-WR-CALDESC:Events for First Christian Church  United Lewisville, Texas
REFRESH-INTERVAL;VALUE=DURATION:PT1H
X-Robots-Tag:noindex
X-PUBLISHED-TTL:PT1H
BEGIN:VTIMEZONE
TZID:America/Chicago
BEGIN:DAYLIGHT
TZOFFSETFROM:-0600
TZOFFSETTO:-0500
TZNAME:CDT
DTSTART:20250309T080000
END:DAYLIGHT
BEGIN:STANDARD
TZOFFSETFROM:-0500
TZOFFSETTO:-0600
TZNAME:CST
DTSTART:20251102T070000
END:STANDARD
BEGIN:DAYLIGHT
TZOFFSETFROM:-0600
TZOFFSETTO:-0500
TZNAME:CDT
DTSTART:20260308T080000
END:DAYLIGHT
BEGIN:STANDARD
TZOFFSETFROM:-0500
TZOFFSETTO:-0600
TZNAME:CST
DTSTART:20261101T070000
END:STANDARD
BEGIN:DAYLIGHT
TZOFFSETFROM:-0600
TZOFFSETTO:-0500
TZNAME:CDT
DTSTART:20270314T080000
END:DAYLIGHT
BEGIN:STANDARD
TZOFFSETFROM:-0500
TZOFFSETTO:-0600
TZNAME:CST
DTSTART:20271107T070000
END:STANDARD
END:VTIMEZONE
BEGIN:VEVENT
DTSTART;TZID=America/Chicago:20260325T190000
DTEND;TZID=America/Chicago:20260325T200000
DTSTAMP:20260420T233158
CREATED:20260108T163528Z
LAST-MODIFIED:20260210T171104Z
UID:10003479-1774465200-1774468800@fccunited.org
SUMMARY:Choir Practice
DESCRIPTION:
URL:https://fccunited.org/event/choir-practice-4/2026-03-25/
CATEGORIES:Worship
ATTACH;FMTTYPE=image/jpeg:https://fccunited.org/wp-content/uploads/2026/01/choir-practice.jpg
END:VEVENT
BEGIN:VEVENT
DTSTART;TZID=America/Chicago:20260326T100000
DTEND;TZID=America/Chicago:20260326T233000
DTSTAMP:20260420T233158
CREATED:20260216T125355Z
LAST-MODIFIED:20260415T134412Z
UID:10004630-1774519200-1774567800@fccunited.org
SUMMARY:MomCo
DESCRIPTION:Mom\, join us for faith\, fun\, and fellowship the fourth Thursday of each month.  Childcare is provided. \nCall 972-446-9808 for more information.
URL:https://fccunited.org/event/momco-1000-a-m-2/2026-03-26/
CATEGORIES:Fellowship
ATTACH;FMTTYPE=image/jpeg:https://fccunited.org/wp-content/uploads/2026/02/20260122-momco-3.jpg
END:VEVENT
BEGIN:VEVENT
DTSTART;TZID=America/Chicago:20260326T190000
DTEND;TZID=America/Chicago:20260326T210000
DTSTAMP:20260420T233158
CREATED:20260227T140107Z
LAST-MODIFIED:20260311T142947Z
UID:10005468-1774551600-1774558800@fccunited.org
SUMMARY:GriefShare
DESCRIPTION:For more information\, contact us at griefshare@fccunited.org \nor visit https://find.griefshare.org/groups/284199.
URL:https://fccunited.org/event/griefshare-2-2/2026-03-26/
CATEGORIES:Ministries
ATTACH;FMTTYPE=image/jpeg:https://fccunited.org/wp-content/uploads/2026/01/20260212-griefshare-fb-1.jpg
END:VEVENT
BEGIN:VEVENT
DTSTART;TZID=America/Chicago:20260329T091500
DTEND;TZID=America/Chicago:20260329T100000
DTSTAMP:20260420T233158
CREATED:20260124T121032Z
LAST-MODIFIED:20260127T122757Z
UID:10003799-1774775700-1774778400@fccunited.org
SUMMARY:Pastor's Class  9:15 a.m.
DESCRIPTION:For those considering baptism.
URL:https://fccunited.org/event/pastors-class-915-a-m-3/
CATEGORIES:Bible Study
ATTACH;FMTTYPE=image/jpeg:https://fccunited.org/wp-content/uploads/2026/01/pastors-class-.jpg
END:VEVENT
BEGIN:VEVENT
DTSTART;TZID=America/Chicago:20260329T091500
DTEND;TZID=America/Chicago:20260329T101500
DTSTAMP:20260420T233158
CREATED:20260127T133219Z
LAST-MODIFIED:20260127T133453Z
UID:10004108-1774775700-1774779300@fccunited.org
SUMMARY:Study Classes
DESCRIPTION:We offer classes for adults and for youth.
URL:https://fccunited.org/event/study-classes/2026-03-29/
CATEGORIES:Bible Study
ATTACH;FMTTYPE=image/jpeg:https://fccunited.org/wp-content/uploads/2026/01/study-class.jpg
END:VEVENT
BEGIN:VEVENT
DTSTART;TZID=America/Chicago:20260329T102500
DTEND;TZID=America/Chicago:20260329T113000
DTSTAMP:20260420T233158
CREATED:20260325T124344Z
LAST-MODIFIED:20260325T124346Z
UID:10005481-1774779900-1774783800@fccunited.org
SUMMARY:Sunday Worship
DESCRIPTION:Matthew 21:1-11\n\n\nActs 2:42-47\n\n\n \n\n\nPalm Sunday is not just about waving branches and celebrating Jesus’ entry into Jerusalem – it’s about choosing what kind of community we will be. The crowds welcomed Him as King\, but within days that same city would call for His crucifixion. Chrisitian community is meant to be rooted in love\, accountability\, and shared life\, reflecting the heart of Christ who entered Jerusalem to give everything for His people.
URL:https://fccunited.org/event/sunday-worship-2/
CATEGORIES:Worship
ATTACH;FMTTYPE=image/jpeg:https://fccunited.org/wp-content/uploads/2026/03/20260329-lent-2026.jpg
END:VEVENT
BEGIN:VEVENT
DTSTART;TZID=America/Chicago:20260329T113000
DTEND;TZID=America/Chicago:20260329T123000
DTSTAMP:20260420T233158
CREATED:20260311T144523Z
LAST-MODIFIED:20260325T130138Z
UID:10005476-1774783800-1774787400@fccunited.org
SUMMARY:Palm Sunday Fellowship Lunch and Easter Egg Hunt
DESCRIPTION:This will take the place of our First Sunday lunch in April to allow people to celebrate Easter with their families.
URL:https://fccunited.org/event/palm-sunday-fellowship-lunch/
CATEGORIES:Fellowship
ATTACH;FMTTYPE=image/png:https://fccunited.org/wp-content/uploads/2026/03/20260329-easter-luncheon.png
END:VEVENT
BEGIN:VEVENT
DTSTART;TZID=America/Chicago:20260401T160000
DTEND;TZID=America/Chicago:20260401T170000
DTSTAMP:20260420T233158
CREATED:20260221T121225Z
LAST-MODIFIED:20260221T122346Z
UID:10004755-1775059200-1775062800@fccunited.org
SUMMARY:Hour of Prayer
DESCRIPTION:
URL:https://fccunited.org/event/hour-of-prayer/2026-04-01/
CATEGORIES:Fellowship
ATTACH;FMTTYPE=image/jpeg:https://fccunited.org/wp-content/uploads/2026/02/hour-of-prayer-1.jpg
END:VEVENT
BEGIN:VEVENT
DTSTART;TZID=America/Chicago:20260401T170000
DTEND;TZID=America/Chicago:20260401T190000
DTSTAMP:20260420T233158
CREATED:20260221T121346Z
LAST-MODIFIED:20260221T121447Z
UID:10005016-1775062800-1775070000@fccunited.org
SUMMARY:Midweek Connection
DESCRIPTION:
URL:https://fccunited.org/event/midweek-connection/2026-04-01/
CATEGORIES:Fellowship
ATTACH;FMTTYPE=image/jpeg:https://fccunited.org/wp-content/uploads/2026/02/midweek-connection-3.jpg
END:VEVENT
BEGIN:VEVENT
DTSTART;TZID=America/Chicago:20260401T190000
DTEND;TZID=America/Chicago:20260401T200000
DTSTAMP:20260420T233158
CREATED:20260108T163528Z
LAST-MODIFIED:20260210T171104Z
UID:10003480-1775070000-1775073600@fccunited.org
SUMMARY:Choir Practice
DESCRIPTION:
URL:https://fccunited.org/event/choir-practice-4/2026-04-01/
CATEGORIES:Worship
ATTACH;FMTTYPE=image/jpeg:https://fccunited.org/wp-content/uploads/2026/01/choir-practice.jpg
END:VEVENT
BEGIN:VEVENT
DTSTART;TZID=America/Chicago:20260402T190000
DTEND;TZID=America/Chicago:20260402T210000
DTSTAMP:20260420T233158
CREATED:20260227T140107Z
LAST-MODIFIED:20260311T142947Z
UID:10005469-1775156400-1775163600@fccunited.org
SUMMARY:GriefShare
DESCRIPTION:For more information\, contact us at griefshare@fccunited.org \nor visit https://find.griefshare.org/groups/284199.
URL:https://fccunited.org/event/griefshare-2-2/2026-04-02/
CATEGORIES:Ministries
ATTACH;FMTTYPE=image/jpeg:https://fccunited.org/wp-content/uploads/2026/01/20260212-griefshare-fb-1.jpg
END:VEVENT
BEGIN:VEVENT
DTSTART;TZID=America/Chicago:20260403T183000
DTEND;TZID=America/Chicago:20260403T193000
DTSTAMP:20260420T233158
CREATED:20260325T124805Z
LAST-MODIFIED:20260325T130319Z
UID:10005742-1775241000-1775244600@fccunited.org
SUMMARY:Good Friday Service
DESCRIPTION:
URL:https://fccunited.org/event/good-friday-service/
CATEGORIES:Worship
ATTACH;FMTTYPE=image/png:https://fccunited.org/wp-content/uploads/2026/03/20260403-good-friday-service.png
END:VEVENT
BEGIN:VEVENT
DTSTART;TZID=America/Chicago:20260405T063000
DTEND;TZID=America/Chicago:20260405T073000
DTSTAMP:20260420T233158
CREATED:20260318T140020Z
LAST-MODIFIED:20260318T140020Z
UID:10005477-1775370600-1775374200@fccunited.org
SUMMARY:Sunrise Service
DESCRIPTION:Andy Brown Park East is located at 260 E Parkway\, Coppell.  We will be behind the performance pavillion on the east side of the park by the large lake.  We will have some chairs\, but feel free to bring your own.
URL:https://fccunited.org/event/sunrise-service/
CATEGORIES:Worship
ATTACH;FMTTYPE=image/jpeg:https://fccunited.org/wp-content/uploads/2026/03/sunrise-service.jpg
END:VEVENT
BEGIN:VEVENT
DTSTART;TZID=America/Chicago:20260405T091500
DTEND;TZID=America/Chicago:20260405T101500
DTSTAMP:20260420T233158
CREATED:20260127T133219Z
LAST-MODIFIED:20260127T133453Z
UID:10004109-1775380500-1775384100@fccunited.org
SUMMARY:Study Classes
DESCRIPTION:We offer classes for adults and for youth.
URL:https://fccunited.org/event/study-classes/2026-04-05/
CATEGORIES:Bible Study
ATTACH;FMTTYPE=image/jpeg:https://fccunited.org/wp-content/uploads/2026/01/study-class.jpg
END:VEVENT
BEGIN:VEVENT
DTSTART;TZID=America/Chicago:20260405T102500
DTEND;TZID=America/Chicago:20260405T113000
DTSTAMP:20260420T233158
CREATED:20260325T123948Z
LAST-MODIFIED:20260325T123948Z
UID:10005482-1775384700-1775388600@fccunited.org
SUMMARY:Sunday Worship
DESCRIPTION:
URL:https://fccunited.org/event/sunday-worship/2026-04-05/
CATEGORIES:Worship
END:VEVENT
BEGIN:VEVENT
DTSTART;TZID=America/Chicago:20260405T103000
DTEND;TZID=America/Chicago:20260405T113000
DTSTAMP:20260420T233158
CREATED:20260127T131829Z
LAST-MODIFIED:20260127T131829Z
UID:10004042-1775385000-1775388600@fccunited.org
SUMMARY:First Fruits Sunday
DESCRIPTION:Collecting non-perishables for CCA and Metrocrest Social Services.
URL:https://fccunited.org/event/first-fruits-sunday/2026-04-05/
CATEGORIES:Ministries
ATTACH;FMTTYPE=image/jpeg:https://fccunited.org/wp-content/uploads/2026/01/first-fruits-and-toilet-paper-sunday.jpg
END:VEVENT
BEGIN:VEVENT
DTSTART;TZID=America/Chicago:20260405T113000
DTEND;TZID=America/Chicago:20260405T123000
DTSTAMP:20260420T233158
CREATED:20260311T144206Z
LAST-MODIFIED:20260311T144208Z
UID:10005278-1775388600-1775392200@fccunited.org
SUMMARY:Fellowship Lunch
DESCRIPTION:
URL:https://fccunited.org/event/fellowship-lunch-2-2/2026-04-05/
LOCATION:Praise in the Morning Devotional - November 30\, 2025
CATEGORIES:Fellowship
END:VEVENT
BEGIN:VEVENT
DTSTART;TZID=America/Chicago:20260406T173000
DTEND;TZID=America/Chicago:20260406T200000
DTSTAMP:20260420T233158
CREATED:20260127T125852Z
LAST-MODIFIED:20260127T125852Z
UID:10003960-1775496600-1775505600@fccunited.org
SUMMARY:Stephen Ministry Supervision Group
DESCRIPTION:
URL:https://fccunited.org/event/stephen-ministry-supervision-group/2026-04-06/
CATEGORIES:Ministries
ATTACH;FMTTYPE=image/jpeg:https://fccunited.org/wp-content/uploads/2026/01/stephen-ministry-1.jpg
END:VEVENT
BEGIN:VEVENT
DTSTART;TZID=America/Chicago:20260408T160000
DTEND;TZID=America/Chicago:20260408T170000
DTSTAMP:20260420T233158
CREATED:20260221T121225Z
LAST-MODIFIED:20260221T122346Z
UID:10004756-1775664000-1775667600@fccunited.org
SUMMARY:Hour of Prayer
DESCRIPTION:
URL:https://fccunited.org/event/hour-of-prayer/2026-04-08/
CATEGORIES:Fellowship
ATTACH;FMTTYPE=image/jpeg:https://fccunited.org/wp-content/uploads/2026/02/hour-of-prayer-1.jpg
END:VEVENT
BEGIN:VEVENT
DTSTART;TZID=America/Chicago:20260408T170000
DTEND;TZID=America/Chicago:20260408T190000
DTSTAMP:20260420T233158
CREATED:20260221T121346Z
LAST-MODIFIED:20260221T121447Z
UID:10005017-1775667600-1775674800@fccunited.org
SUMMARY:Midweek Connection
DESCRIPTION:
URL:https://fccunited.org/event/midweek-connection/2026-04-08/
CATEGORIES:Fellowship
ATTACH;FMTTYPE=image/jpeg:https://fccunited.org/wp-content/uploads/2026/02/midweek-connection-3.jpg
END:VEVENT
BEGIN:VEVENT
DTSTART;TZID=America/Chicago:20260408T190000
DTEND;TZID=America/Chicago:20260408T200000
DTSTAMP:20260420T233158
CREATED:20260108T163528Z
LAST-MODIFIED:20260210T171104Z
UID:10003481-1775674800-1775678400@fccunited.org
SUMMARY:Choir Practice
DESCRIPTION:
URL:https://fccunited.org/event/choir-practice-4/2026-04-08/
CATEGORIES:Worship
ATTACH;FMTTYPE=image/jpeg:https://fccunited.org/wp-content/uploads/2026/01/choir-practice.jpg
END:VEVENT
BEGIN:VEVENT
DTSTART;TZID=America/Chicago:20260409T190000
DTEND;TZID=America/Chicago:20260409T210000
DTSTAMP:20260420T233158
CREATED:20260227T140107Z
LAST-MODIFIED:20260311T142947Z
UID:10005470-1775761200-1775768400@fccunited.org
SUMMARY:GriefShare
DESCRIPTION:For more information\, contact us at griefshare@fccunited.org \nor visit https://find.griefshare.org/groups/284199.
URL:https://fccunited.org/event/griefshare-2-2/2026-04-09/
CATEGORIES:Ministries
ATTACH;FMTTYPE=image/jpeg:https://fccunited.org/wp-content/uploads/2026/01/20260212-griefshare-fb-1.jpg
END:VEVENT
BEGIN:VEVENT
DTSTART;TZID=America/Chicago:20260411T083000
DTEND;TZID=America/Chicago:20260411T110000
DTSTAMP:20260420T233158
CREATED:20260124T140550Z
LAST-MODIFIED:20260402T143842Z
UID:10003808-1775896200-1775905200@fccunited.org
SUMMARY:Metrocrest Food Pantry
DESCRIPTION:
URL:https://fccunited.org/event/metrocrest-food-pantry-830-a-m/
CATEGORIES:Ministries
ATTACH;FMTTYPE=image/jpeg:https://fccunited.org/wp-content/uploads/2026/01/20260214-metrocrest-food-pantry.jpg
END:VEVENT
BEGIN:VEVENT
DTSTART;TZID=America/Chicago:20260411T100000
DTEND;TZID=America/Chicago:20260411T113000
DTSTAMP:20260420T233158
CREATED:20260224T200455Z
LAST-MODIFIED:20260224T200455Z
UID:10005338-1775901600-1775907000@fccunited.org
SUMMARY:Pin Pal Sewing Ministry
DESCRIPTION:
URL:https://fccunited.org/event/pin-pal-sewing-ministry/2026-04-11/
CATEGORIES:Fellowship
ATTACH;FMTTYPE=image/jpeg:https://fccunited.org/wp-content/uploads/2026/02/20260214-sewing-ministry.jpg
END:VEVENT
BEGIN:VEVENT
DTSTART;TZID=America/Chicago:20260412T091500
DTEND;TZID=America/Chicago:20260412T101500
DTSTAMP:20260420T233158
CREATED:20260127T133219Z
LAST-MODIFIED:20260127T133453Z
UID:10004110-1775985300-1775988900@fccunited.org
SUMMARY:Study Classes
DESCRIPTION:We offer classes for adults and for youth.
URL:https://fccunited.org/event/study-classes/2026-04-12/
CATEGORIES:Bible Study
ATTACH;FMTTYPE=image/jpeg:https://fccunited.org/wp-content/uploads/2026/01/study-class.jpg
END:VEVENT
BEGIN:VEVENT
DTSTART;TZID=America/Chicago:20260413T190000
DTEND;TZID=America/Chicago:20260413T203000
DTSTAMP:20260420T233158
CREATED:20260227T135325Z
LAST-MODIFIED:20260227T135325Z
UID:10005399-1776106800-1776112200@fccunited.org
SUMMARY:Agape Men
DESCRIPTION:
URL:https://fccunited.org/event/agape-men-2/2026-04-13/
CATEGORIES:Fellowship
ATTACH;FMTTYPE=image/jpeg:https://fccunited.org/wp-content/uploads/2026/02/20260309-agape-men.jpg
END:VEVENT
BEGIN:VEVENT
DTSTART;TZID=America/Chicago:20260415T160000
DTEND;TZID=America/Chicago:20260415T170000
DTSTAMP:20260420T233158
CREATED:20260221T121225Z
LAST-MODIFIED:20260221T122346Z
UID:10004757-1776268800-1776272400@fccunited.org
SUMMARY:Hour of Prayer
DESCRIPTION:
URL:https://fccunited.org/event/hour-of-prayer/2026-04-15/
CATEGORIES:Fellowship
ATTACH;FMTTYPE=image/jpeg:https://fccunited.org/wp-content/uploads/2026/02/hour-of-prayer-1.jpg
END:VEVENT
BEGIN:VEVENT
DTSTART;TZID=America/Chicago:20260415T170000
DTEND;TZID=America/Chicago:20260415T190000
DTSTAMP:20260420T233158
CREATED:20260221T121346Z
LAST-MODIFIED:20260221T121447Z
UID:10005018-1776272400-1776279600@fccunited.org
SUMMARY:Midweek Connection
DESCRIPTION:
URL:https://fccunited.org/event/midweek-connection/2026-04-15/
CATEGORIES:Fellowship
ATTACH;FMTTYPE=image/jpeg:https://fccunited.org/wp-content/uploads/2026/02/midweek-connection-3.jpg
END:VEVENT
BEGIN:VEVENT
DTSTART;TZID=America/Chicago:20260415T190000
DTEND;TZID=America/Chicago:20260415T200000
DTSTAMP:20260420T233158
CREATED:20260108T163528Z
LAST-MODIFIED:20260210T171104Z
UID:10003482-1776279600-1776283200@fccunited.org
SUMMARY:Choir Practice
DESCRIPTION:
URL:https://fccunited.org/event/choir-practice-4/2026-04-15/
CATEGORIES:Worship
ATTACH;FMTTYPE=image/jpeg:https://fccunited.org/wp-content/uploads/2026/01/choir-practice.jpg
END:VEVENT
BEGIN:VEVENT
DTSTART;TZID=America/Chicago:20260416T190000
DTEND;TZID=America/Chicago:20260416T210000
DTSTAMP:20260420T233158
CREATED:20260227T140107Z
LAST-MODIFIED:20260311T142947Z
UID:10005471-1776366000-1776373200@fccunited.org
SUMMARY:GriefShare
DESCRIPTION:For more information\, contact us at griefshare@fccunited.org \nor visit https://find.griefshare.org/groups/284199.
URL:https://fccunited.org/event/griefshare-2-2/2026-04-16/
CATEGORIES:Ministries
ATTACH;FMTTYPE=image/jpeg:https://fccunited.org/wp-content/uploads/2026/01/20260212-griefshare-fb-1.jpg
END:VEVENT
END:VCALENDAR