BEGIN:VCALENDAR
VERSION:2.0
PRODID:-//First Christian Church  United Lewisville, Texas - ECPv6.15.14//NONSGML v1.0//EN
CALSCALE:GREGORIAN
METHOD:PUBLISH
X-WR-CALNAME:First Christian Church  United Lewisville, Texas
X-ORIGINAL-URL:https://fccunited.org
X-WR-CALDESC:Events for First Christian Church  United Lewisville, Texas
REFRESH-INTERVAL;VALUE=DURATION:PT1H
X-Robots-Tag:noindex
X-PUBLISHED-TTL:PT1H
BEGIN:VTIMEZONE
TZID:America/Chicago
BEGIN:DAYLIGHT
TZOFFSETFROM:-0600
TZOFFSETTO:-0500
TZNAME:CDT
DTSTART:20240310T080000
END:DAYLIGHT
BEGIN:STANDARD
TZOFFSETFROM:-0500
TZOFFSETTO:-0600
TZNAME:CST
DTSTART:20241103T070000
END:STANDARD
BEGIN:DAYLIGHT
TZOFFSETFROM:-0600
TZOFFSETTO:-0500
TZNAME:CDT
DTSTART:20250309T080000
END:DAYLIGHT
BEGIN:STANDARD
TZOFFSETFROM:-0500
TZOFFSETTO:-0600
TZNAME:CST
DTSTART:20251102T070000
END:STANDARD
BEGIN:DAYLIGHT
TZOFFSETFROM:-0600
TZOFFSETTO:-0500
TZNAME:CDT
DTSTART:20260308T080000
END:DAYLIGHT
BEGIN:STANDARD
TZOFFSETFROM:-0500
TZOFFSETTO:-0600
TZNAME:CST
DTSTART:20261101T070000
END:STANDARD
BEGIN:DAYLIGHT
TZOFFSETFROM:-0600
TZOFFSETTO:-0500
TZNAME:CDT
DTSTART:20270314T080000
END:DAYLIGHT
BEGIN:STANDARD
TZOFFSETFROM:-0500
TZOFFSETTO:-0600
TZNAME:CST
DTSTART:20271107T070000
END:STANDARD
END:VTIMEZONE
BEGIN:VEVENT
DTSTART;TZID=America/Chicago:20260207T083000
DTEND;TZID=America/Chicago:20260207T120000
DTSTAMP:20260420T201922
CREATED:20260124T141759Z
LAST-MODIFIED:20260124T141759Z
UID:10003810-1770453000-1770465600@fccunited.org
SUMMARY:NTA Disciples Men's Breakfast  8:30 a.m.
DESCRIPTION:
URL:https://fccunited.org/event/nta-disciples-mens-breakfast-830-a-m/
CATEGORIES:Ministries
ATTACH;FMTTYPE=image/jpeg:https://fccunited.org/wp-content/uploads/2026/01/20260207-disciples-mens-breakfast.jpg
END:VEVENT
BEGIN:VEVENT
DTSTART;TZID=America/Chicago:20260204T190000
DTEND;TZID=America/Chicago:20260204T200000
DTSTAMP:20260420T201922
CREATED:20260108T163528Z
LAST-MODIFIED:20260210T171104Z
UID:10003472-1770231600-1770235200@fccunited.org
SUMMARY:Choir Practice
DESCRIPTION:
URL:https://fccunited.org/event/choir-practice-4/2026-02-04/
CATEGORIES:Worship
ATTACH;FMTTYPE=image/jpeg:https://fccunited.org/wp-content/uploads/2026/01/choir-practice.jpg
END:VEVENT
BEGIN:VEVENT
DTSTART;TZID=America/Chicago:20260202T173000
DTEND;TZID=America/Chicago:20260202T200000
DTSTAMP:20260420T201922
CREATED:20260127T125852Z
LAST-MODIFIED:20260127T125852Z
UID:10003958-1770053400-1770062400@fccunited.org
SUMMARY:Stephen Ministry Supervision Group
DESCRIPTION:
URL:https://fccunited.org/event/stephen-ministry-supervision-group/2026-02-02/
CATEGORIES:Ministries
ATTACH;FMTTYPE=image/jpeg:https://fccunited.org/wp-content/uploads/2026/01/stephen-ministry-1.jpg
END:VEVENT
BEGIN:VEVENT
DTSTART;TZID=America/Chicago:20260201T103000
DTEND;TZID=America/Chicago:20260201T113000
DTSTAMP:20260420T201922
CREATED:20260127T131829Z
LAST-MODIFIED:20260127T131829Z
UID:10004040-1769941800-1769945400@fccunited.org
SUMMARY:First Fruits Sunday
DESCRIPTION:Collecting non-perishables for CCA and Metrocrest Social Services.
URL:https://fccunited.org/event/first-fruits-sunday/2026-02-01/
CATEGORIES:Ministries
ATTACH;FMTTYPE=image/jpeg:https://fccunited.org/wp-content/uploads/2026/01/first-fruits-and-toilet-paper-sunday.jpg
END:VEVENT
BEGIN:VEVENT
DTSTART;TZID=America/Chicago:20260201T091500
DTEND;TZID=America/Chicago:20260201T101500
DTSTAMP:20260420T201922
CREATED:20260127T133219Z
LAST-MODIFIED:20260127T133453Z
UID:10004100-1769937300-1769940900@fccunited.org
SUMMARY:Study Classes
DESCRIPTION:We offer classes for adults and for youth.
URL:https://fccunited.org/event/study-classes/2026-02-01/
CATEGORIES:Bible Study
ATTACH;FMTTYPE=image/jpeg:https://fccunited.org/wp-content/uploads/2026/01/study-class.jpg
END:VEVENT
BEGIN:VEVENT
DTSTART;TZID=America/Chicago:20260128T190000
DTEND;TZID=America/Chicago:20260128T200000
DTSTAMP:20260420T201922
CREATED:20260108T163528Z
LAST-MODIFIED:20260210T171104Z
UID:10003471-1769626800-1769630400@fccunited.org
SUMMARY:Choir Practice
DESCRIPTION:
URL:https://fccunited.org/event/choir-practice-4/2026-01-28/
CATEGORIES:Worship
ATTACH;FMTTYPE=image/jpeg:https://fccunited.org/wp-content/uploads/2026/01/choir-practice.jpg
END:VEVENT
BEGIN:VEVENT
DTSTART;VALUE=DATE:20260125
DTEND;VALUE=DATE:20260126
DTSTAMP:20260420T201922
CREATED:20260124T121525Z
LAST-MODIFIED:20260124T121525Z
UID:10003800-1769299200-1769385599@fccunited.org
SUMMARY:No Service due to weather
DESCRIPTION:
URL:https://fccunited.org/event/no-service-due-to-weather/
CATEGORIES:Worship
END:VEVENT
BEGIN:VEVENT
DTSTART;TZID=America/Chicago:20260122T100000
DTEND;TZID=America/Chicago:20260122T110000
DTSTAMP:20260420T201922
CREATED:20260125T165113Z
LAST-MODIFIED:20260125T165251Z
UID:10003340-1769076000-1769079600@fccunited.org
SUMMARY:MOMCo 4th Thursdays
DESCRIPTION:
URL:https://fccunited.org/event/momco-2-2/
CATEGORIES:Ministries
ATTACH;FMTTYPE=image/png:https://fccunited.org/wp-content/uploads/2025/11/momco-mothers-of-preschoolers-1-1.png
END:VEVENT
BEGIN:VEVENT
DTSTART;TZID=America/Chicago:20260121T190000
DTEND;TZID=America/Chicago:20260121T200000
DTSTAMP:20260420T201922
CREATED:20260108T163528Z
LAST-MODIFIED:20260210T171104Z
UID:10003470-1769022000-1769025600@fccunited.org
SUMMARY:Choir Practice
DESCRIPTION:
URL:https://fccunited.org/event/choir-practice-4/2026-01-21/
CATEGORIES:Worship
ATTACH;FMTTYPE=image/jpeg:https://fccunited.org/wp-content/uploads/2026/01/choir-practice.jpg
END:VEVENT
BEGIN:VEVENT
DTSTART;TZID=America/Chicago:20260118T103000
DTEND;TZID=America/Chicago:20260118T113000
DTSTAMP:20260420T201922
CREATED:20260113T131819Z
LAST-MODIFIED:20260113T131819Z
UID:10003795-1768732200-1768735800@fccunited.org
SUMMARY:Sunday Service  10:25 a.m.
DESCRIPTION:
URL:https://fccunited.org/event/sunday-service-1025-a-m/
CATEGORIES:Worship
END:VEVENT
BEGIN:VEVENT
DTSTART;TZID=America/Chicago:20260114T190000
DTEND;TZID=America/Chicago:20260114T200000
DTSTAMP:20260420T201922
CREATED:20260108T163528Z
LAST-MODIFIED:20260210T171104Z
UID:10003469-1768417200-1768420800@fccunited.org
SUMMARY:Choir Practice
DESCRIPTION:
URL:https://fccunited.org/event/choir-practice-4/2026-01-14/
CATEGORIES:Worship
ATTACH;FMTTYPE=image/jpeg:https://fccunited.org/wp-content/uploads/2026/01/choir-practice.jpg
END:VEVENT
BEGIN:VEVENT
DTSTART;TZID=America/Chicago:20260111T113000
DTEND;TZID=America/Chicago:20260111T123000
DTSTAMP:20260420T201922
CREATED:20260108T172920Z
LAST-MODIFIED:20260112T172819Z
UID:10000061-1768131000-1768134600@fccunited.org
SUMMARY:Board Meeting
DESCRIPTION:
URL:https://fccunited.org/event/board-meeting/
LOCATION:Praise in the Morning Devotional - November 30\, 2025
CATEGORIES:General Events
ATTACH;FMTTYPE=image/jpeg:https://fccunited.org/wp-content/uploads/2026/01/board-meeting-1.jpg
END:VEVENT
BEGIN:VEVENT
DTSTART;TZID=America/Chicago:20260110T123000
DTEND;TZID=America/Chicago:20260110T150000
DTSTAMP:20260420T201922
CREATED:20260108T165424Z
LAST-MODIFIED:20260112T165349Z
UID:10000059-1768048200-1768057200@fccunited.org
SUMMARY:Un-Deck-Orating Party
DESCRIPTION:
URL:https://fccunited.org/event/un-decorating-party/
LOCATION:Praise in the Morning Devotional - November 30\, 2025
CATEGORIES:General Events
ATTACH;FMTTYPE=image/jpeg:https://fccunited.org/wp-content/uploads/2026/01/undecorating-1.jpg
END:VEVENT
BEGIN:VEVENT
DTSTART;TZID=America/Chicago:20260107T190000
DTEND;TZID=America/Chicago:20260107T200000
DTSTAMP:20260420T201922
CREATED:20260108T163528Z
LAST-MODIFIED:20260210T171104Z
UID:10003468-1767812400-1767816000@fccunited.org
SUMMARY:Choir Practice
DESCRIPTION:
URL:https://fccunited.org/event/choir-practice-4/2026-01-07/
CATEGORIES:Worship
ATTACH;FMTTYPE=image/jpeg:https://fccunited.org/wp-content/uploads/2026/01/choir-practice.jpg
END:VEVENT
BEGIN:VEVENT
DTSTART;TZID=America/Chicago:20251217T190000
DTEND;TZID=America/Chicago:20251217T200000
DTSTAMP:20260420T201922
CREATED:20251129T000233Z
LAST-MODIFIED:20251129T000233Z
UID:10000010-1765998000-1766001600@fccunited.org
SUMMARY:Choir Practice
DESCRIPTION:
URL:https://fccunited.org/event/choir-practice-3-2/
CATEGORIES:Worship
ATTACH;FMTTYPE=image/jpeg:https://fccunited.org/wp-content/uploads/2025/11/choir-1.jpeg
END:VEVENT
BEGIN:VEVENT
DTSTART;TZID=America/Chicago:20251211T100000
DTEND;TZID=America/Chicago:20251211T110000
DTSTAMP:20260420T201922
CREATED:20251112T171206Z
LAST-MODIFIED:20260112T171425Z
UID:10003453-1765447200-1765450800@fccunited.org
SUMMARY:MOMCo 2nd Thursdays
DESCRIPTION:
URL:https://fccunited.org/event/momco/2025-12-11/
CATEGORIES:Ministries
ATTACH;FMTTYPE=image/png:https://fccunited.org/wp-content/uploads/2025/11/momco-mothers-of-preschoolers-1-1.png
END:VEVENT
BEGIN:VEVENT
DTSTART;TZID=America/Chicago:20251209T073000
DTEND;TZID=America/Chicago:20251209T080000
DTSTAMP:20260420T201922
CREATED:20251209T011150Z
LAST-MODIFIED:20260112T173227Z
UID:10003793-1765265400-1765267200@fccunited.org
SUMMARY:Praise in the Mornings
DESCRIPTION:https://www.youtube.com/@firstchristianchurchunited8788
URL:https://fccunited.org/event/praise-in-the-mornings/2025-12-09/
CATEGORIES:Worship
END:VEVENT
BEGIN:VEVENT
DTSTART;TZID=America/Chicago:20251208T190000
DTEND;TZID=America/Chicago:20251208T190000
DTSTAMP:20260420T201922
CREATED:20251128T220405Z
LAST-MODIFIED:20260112T173236Z
UID:10003794-1765220400-1765220400@fccunited.org
SUMMARY:AGAPE Men’s Fellowship
DESCRIPTION:
URL:https://fccunited.org/event/agape-mens-fellowship/
CATEGORIES:Fellowship
END:VEVENT
BEGIN:VEVENT
DTSTART;TZID=America/Chicago:20251208T073000
DTEND;TZID=America/Chicago:20251208T080000
DTSTAMP:20260420T201922
CREATED:20251209T011150Z
LAST-MODIFIED:20260112T173227Z
UID:10003792-1765179000-1765180800@fccunited.org
SUMMARY:Praise in the Mornings
DESCRIPTION:https://www.youtube.com/@firstchristianchurchunited8788
URL:https://fccunited.org/event/praise-in-the-mornings/2025-12-08/
CATEGORIES:Worship
END:VEVENT
BEGIN:VEVENT
DTSTART;TZID=America/Chicago:20251207T173000
DTEND;TZID=America/Chicago:20251207T180000
DTSTAMP:20260420T201922
CREATED:20251129T214936Z
LAST-MODIFIED:20260112T173103Z
UID:10003790-1765128600-1765130400@fccunited.org
SUMMARY:Tai Chi
DESCRIPTION:
URL:https://fccunited.org/event/tai-chi/2025-12-07/
CATEGORIES:Fellowship
ATTACH;FMTTYPE=image/jpeg:https://fccunited.org/wp-content/uploads/2025/11/tai-chi-1.jpg
END:VEVENT
BEGIN:VEVENT
DTSTART;TZID=America/Chicago:20251207T103000
DTEND;TZID=America/Chicago:20251207T103000
DTSTAMP:20260420T201922
CREATED:20251128T225820Z
LAST-MODIFIED:20260112T172553Z
UID:10003467-1765103400-1765103400@fccunited.org
SUMMARY:Sunday Service
DESCRIPTION:
URL:https://fccunited.org/event/sunday-service/2025-12-07/
CATEGORIES:Worship
ATTACH;FMTTYPE=image/png:https://fccunited.org/wp-content/uploads/2025/11/worship-1.png
END:VEVENT
BEGIN:VEVENT
DTSTART;TZID=America/Chicago:20251207T091500
DTEND;TZID=America/Chicago:20251207T101500
DTSTAMP:20260420T201922
CREATED:20251128T230154Z
LAST-MODIFIED:20260112T171540Z
UID:10003465-1765098900-1765102500@fccunited.org
SUMMARY:Sunday Classes
DESCRIPTION:
URL:https://fccunited.org/event/sunday-classes/2025-12-07/
CATEGORIES:Worship
ATTACH;FMTTYPE=image/png:https://fccunited.org/wp-content/uploads/2025/11/worship-1.png
END:VEVENT
BEGIN:VEVENT
DTSTART;TZID=America/Chicago:20251207T073000
DTEND;TZID=America/Chicago:20251207T080000
DTSTAMP:20260420T201922
CREATED:20251209T011150Z
LAST-MODIFIED:20260112T173227Z
UID:10003791-1765092600-1765094400@fccunited.org
SUMMARY:Praise in the Mornings
DESCRIPTION:https://www.youtube.com/@firstchristianchurchunited8788
URL:https://fccunited.org/event/praise-in-the-mornings/2025-12-07/
CATEGORIES:Worship
END:VEVENT
BEGIN:VEVENT
DTSTART;TZID=America/Chicago:20251201T173000
DTEND;TZID=America/Chicago:20251201T200000
DTSTAMP:20260420T201922
CREATED:20251128T235844Z
LAST-MODIFIED:20260112T165504Z
UID:10000007-1764610200-1764619200@fccunited.org
SUMMARY:Stephen Ministry
DESCRIPTION:
URL:https://fccunited.org/event/stephen-ministry/
CATEGORIES:Ministries
ATTACH;FMTTYPE=image/png:https://fccunited.org/wp-content/uploads/2025/12/stephen-1920w-1.png
END:VEVENT
BEGIN:VEVENT
DTSTART;TZID=America/Chicago:20251130T173000
DTEND;TZID=America/Chicago:20251130T180000
DTSTAMP:20260420T201922
CREATED:20251129T214936Z
LAST-MODIFIED:20260112T173103Z
UID:10000012-1764523800-1764525600@fccunited.org
SUMMARY:Tai Chi
DESCRIPTION:
URL:https://fccunited.org/event/tai-chi/2025-11-30/
CATEGORIES:Fellowship
ATTACH;FMTTYPE=image/jpeg:https://fccunited.org/wp-content/uploads/2025/11/tai-chi-1.jpg
END:VEVENT
BEGIN:VEVENT
DTSTART;TZID=America/Chicago:20251130T103000
DTEND;TZID=America/Chicago:20251130T103000
DTSTAMP:20260420T201922
CREATED:20251128T225820Z
LAST-MODIFIED:20260112T172553Z
UID:10003466-1764498600-1764498600@fccunited.org
SUMMARY:Sunday Service
DESCRIPTION:
URL:https://fccunited.org/event/sunday-service/2025-11-30/
CATEGORIES:Worship
ATTACH;FMTTYPE=image/png:https://fccunited.org/wp-content/uploads/2025/11/worship-1.png
END:VEVENT
BEGIN:VEVENT
DTSTART;TZID=America/Chicago:20251130T091500
DTEND;TZID=America/Chicago:20251130T101500
DTSTAMP:20260420T201922
CREATED:20251128T230154Z
LAST-MODIFIED:20260112T171540Z
UID:10003464-1764494100-1764497700@fccunited.org
SUMMARY:Sunday Classes
DESCRIPTION:
URL:https://fccunited.org/event/sunday-classes/2025-11-30/
CATEGORIES:Worship
ATTACH;FMTTYPE=image/png:https://fccunited.org/wp-content/uploads/2025/11/worship-1.png
END:VEVENT
BEGIN:VEVENT
DTSTART;TZID=America/Chicago:20251125T190000
DTEND;TZID=America/Chicago:20251125T203000
DTSTAMP:20260420T201922
CREATED:20251128T235114Z
LAST-MODIFIED:20260112T171503Z
UID:10000006-1764097200-1764102600@fccunited.org
SUMMARY:Potpourri
DESCRIPTION:
URL:https://fccunited.org/event/potpourri/
CATEGORIES:Fellowship
ATTACH;FMTTYPE=image/jpeg:https://fccunited.org/wp-content/uploads/2025/11/women-group-1.jpeg
END:VEVENT
BEGIN:VEVENT
DTSTART;TZID=America/Chicago:20251113T100000
DTEND;TZID=America/Chicago:20251113T110000
DTSTAMP:20260420T201922
CREATED:20251112T171206Z
LAST-MODIFIED:20260112T171425Z
UID:10003452-1763028000-1763031600@fccunited.org
SUMMARY:MOMCo 2nd Thursdays
DESCRIPTION:
URL:https://fccunited.org/event/momco/2025-11-13/
CATEGORIES:Ministries
ATTACH;FMTTYPE=image/png:https://fccunited.org/wp-content/uploads/2025/11/momco-mothers-of-preschoolers-1-1.png
END:VEVENT
BEGIN:VEVENT
DTSTART;TZID=America/Chicago:20251023T100000
DTEND;TZID=America/Chicago:20251023T110000
DTSTAMP:20260420T201922
CREATED:20251122T182246Z
LAST-MODIFIED:20260125T164748Z
UID:10003339-1761213600-1761217200@fccunited.org
SUMMARY:MOMCo 4th Thursdays
DESCRIPTION:
URL:https://fccunited.org/event/momco-2/2025-10-23/
CATEGORIES:Ministries
ATTACH;FMTTYPE=image/png:https://fccunited.org/wp-content/uploads/2025/11/momco-mothers-of-preschoolers-1-1.png
END:VEVENT
END:VCALENDAR