BEGIN:VCALENDAR
VERSION:2.0
PRODID:-//First Christian Church  United Lewisville, Texas - ECPv6.15.14//NONSGML v1.0//EN
CALSCALE:GREGORIAN
METHOD:PUBLISH
X-WR-CALNAME:First Christian Church  United Lewisville, Texas
X-ORIGINAL-URL:https://fccunited.org
X-WR-CALDESC:Events for First Christian Church  United Lewisville, Texas
REFRESH-INTERVAL;VALUE=DURATION:PT1H
X-Robots-Tag:noindex
X-PUBLISHED-TTL:PT1H
BEGIN:VTIMEZONE
TZID:America/Chicago
BEGIN:DAYLIGHT
TZOFFSETFROM:-0600
TZOFFSETTO:-0500
TZNAME:CDT
DTSTART:20280312T080000
END:DAYLIGHT
BEGIN:STANDARD
TZOFFSETFROM:-0500
TZOFFSETTO:-0600
TZNAME:CST
DTSTART:20281105T070000
END:STANDARD
BEGIN:DAYLIGHT
TZOFFSETFROM:-0600
TZOFFSETTO:-0500
TZNAME:CDT
DTSTART:20290311T080000
END:DAYLIGHT
BEGIN:STANDARD
TZOFFSETFROM:-0500
TZOFFSETTO:-0600
TZNAME:CST
DTSTART:20291104T070000
END:STANDARD
BEGIN:DAYLIGHT
TZOFFSETFROM:-0600
TZOFFSETTO:-0500
TZNAME:CDT
DTSTART:20300310T080000
END:DAYLIGHT
BEGIN:STANDARD
TZOFFSETFROM:-0500
TZOFFSETTO:-0600
TZNAME:CST
DTSTART:20301103T070000
END:STANDARD
END:VTIMEZONE
BEGIN:VEVENT
DTSTART;TZID=America/Chicago:20291003T160000
DTEND;TZID=America/Chicago:20291003T170000
DTSTAMP:20260423T062015
CREATED:20260221T121225Z
LAST-MODIFIED:20260221T122346Z
UID:10004938-1885737600-1885741200@fccunited.org
SUMMARY:Hour of Prayer
DESCRIPTION:
URL:https://fccunited.org/event/hour-of-prayer/2029-10-03/
CATEGORIES:Fellowship
ATTACH;FMTTYPE=image/jpeg:https://fccunited.org/wp-content/uploads/2026/02/hour-of-prayer-1.jpg
END:VEVENT
BEGIN:VEVENT
DTSTART;TZID=America/Chicago:20291003T170000
DTEND;TZID=America/Chicago:20291003T190000
DTSTAMP:20260423T062015
CREATED:20260221T121346Z
LAST-MODIFIED:20260221T121447Z
UID:10005199-1885741200-1885748400@fccunited.org
SUMMARY:Midweek Connection
DESCRIPTION:
URL:https://fccunited.org/event/midweek-connection/2029-10-03/
CATEGORIES:Fellowship
ATTACH;FMTTYPE=image/jpeg:https://fccunited.org/wp-content/uploads/2026/02/midweek-connection-3.jpg
END:VEVENT
BEGIN:VEVENT
DTSTART;TZID=America/Chicago:20291003T190000
DTEND;TZID=America/Chicago:20291003T200000
DTSTAMP:20260423T062015
CREATED:20260108T163528Z
LAST-MODIFIED:20260210T171104Z
UID:10003663-1885748400-1885752000@fccunited.org
SUMMARY:Choir Practice
DESCRIPTION:
URL:https://fccunited.org/event/choir-practice-4/2029-10-03/
CATEGORIES:Worship
ATTACH;FMTTYPE=image/jpeg:https://fccunited.org/wp-content/uploads/2026/01/choir-practice.jpg
END:VEVENT
BEGIN:VEVENT
DTSTART;TZID=America/Chicago:20291006T083000
DTEND;TZID=America/Chicago:20291006T123000
DTSTAMP:20260423T062015
CREATED:20260421T113553Z
LAST-MODIFIED:20260421T114056Z
UID:10005941-1885969800-1885984200@fccunited.org
SUMMARY:Shipwright Food Pantry
DESCRIPTION:Shipwrights Food Pantry Ministry\n\nOn the 1st and 3rd Saturday of each month\, the Shipwrights Food Pantry provides a hot meal\,  groceries and other items for those facing food insecurity in Lewisville and the surrounding area. \nIf you would like to participate in this ministry\,  the time runs from 8:30am - 12:30pm.  Volunteers meet in the Serenity Church/FCCU parking lot at 8:30 on the 1st and 3rd Saturday of the month for preparations. \nFor more information reach out to Ken Blackerby at: 817-492-6983
URL:https://fccunited.org/event/shipwright-food-pantry/2029-10-06/
CATEGORIES:Ministries
ATTACH;FMTTYPE=image/png:https://fccunited.org/wp-content/uploads/2026/04/shipwrights-food-pantry.png
END:VEVENT
BEGIN:VEVENT
DTSTART;TZID=America/Chicago:20291007T091500
DTEND;TZID=America/Chicago:20291007T101500
DTSTAMP:20260423T062015
CREATED:20260127T133219Z
LAST-MODIFIED:20260127T133453Z
UID:10004292-1886058900-1886062500@fccunited.org
SUMMARY:Study Classes
DESCRIPTION:We offer classes for adults and for youth.
URL:https://fccunited.org/event/study-classes/2029-10-07/
CATEGORIES:Bible Study
ATTACH;FMTTYPE=image/jpeg:https://fccunited.org/wp-content/uploads/2026/01/study-class.jpg
END:VEVENT
BEGIN:VEVENT
DTSTART;TZID=America/Chicago:20291007T102500
DTEND;TZID=America/Chicago:20291007T113000
DTSTAMP:20260423T062015
CREATED:20260325T123948Z
LAST-MODIFIED:20260325T123948Z
UID:10005665-1886063100-1886067000@fccunited.org
SUMMARY:Sunday Worship
DESCRIPTION:
URL:https://fccunited.org/event/sunday-worship/2029-10-07/
CATEGORIES:Worship
END:VEVENT
BEGIN:VEVENT
DTSTART;TZID=America/Chicago:20291007T103000
DTEND;TZID=America/Chicago:20291007T113000
DTSTAMP:20260423T062015
CREATED:20260127T131829Z
LAST-MODIFIED:20260127T131829Z
UID:10004084-1886063400-1886067000@fccunited.org
SUMMARY:First Fruits Sunday
DESCRIPTION:Collecting non-perishables for CCA and Metrocrest Social Services.
URL:https://fccunited.org/event/first-fruits-sunday/2029-10-07/
CATEGORIES:Ministries
ATTACH;FMTTYPE=image/jpeg:https://fccunited.org/wp-content/uploads/2026/01/first-fruits-and-toilet-paper-sunday.jpg
END:VEVENT
BEGIN:VEVENT
DTSTART;TZID=America/Chicago:20291007T113000
DTEND;TZID=America/Chicago:20291007T123000
DTSTAMP:20260423T062016
CREATED:20260311T144206Z
LAST-MODIFIED:20260311T144208Z
UID:10005320-1886067000-1886070600@fccunited.org
SUMMARY:Fellowship Lunch
DESCRIPTION:
URL:https://fccunited.org/event/fellowship-lunch-2-2/2029-10-07/
LOCATION:Praise in the Morning Devotional - November 30\, 2025
CATEGORIES:Fellowship
END:VEVENT
BEGIN:VEVENT
DTSTART;TZID=America/Chicago:20291008T190000
DTEND;TZID=America/Chicago:20291008T203000
DTSTAMP:20260423T062016
CREATED:20260227T135325Z
LAST-MODIFIED:20260227T135325Z
UID:10005441-1886180400-1886185800@fccunited.org
SUMMARY:Agape Men
DESCRIPTION:
URL:https://fccunited.org/event/agape-men-2/2029-10-08/
CATEGORIES:Fellowship
ATTACH;FMTTYPE=image/jpeg:https://fccunited.org/wp-content/uploads/2026/02/20260309-agape-men.jpg
END:VEVENT
BEGIN:VEVENT
DTSTART;TZID=America/Chicago:20291010T160000
DTEND;TZID=America/Chicago:20291010T170000
DTSTAMP:20260423T062016
CREATED:20260221T121225Z
LAST-MODIFIED:20260221T122346Z
UID:10004939-1886342400-1886346000@fccunited.org
SUMMARY:Hour of Prayer
DESCRIPTION:
URL:https://fccunited.org/event/hour-of-prayer/2029-10-10/
CATEGORIES:Fellowship
ATTACH;FMTTYPE=image/jpeg:https://fccunited.org/wp-content/uploads/2026/02/hour-of-prayer-1.jpg
END:VEVENT
BEGIN:VEVENT
DTSTART;TZID=America/Chicago:20291010T170000
DTEND;TZID=America/Chicago:20291010T190000
DTSTAMP:20260423T062016
CREATED:20260221T121346Z
LAST-MODIFIED:20260221T121447Z
UID:10005200-1886346000-1886353200@fccunited.org
SUMMARY:Midweek Connection
DESCRIPTION:
URL:https://fccunited.org/event/midweek-connection/2029-10-10/
CATEGORIES:Fellowship
ATTACH;FMTTYPE=image/jpeg:https://fccunited.org/wp-content/uploads/2026/02/midweek-connection-3.jpg
END:VEVENT
BEGIN:VEVENT
DTSTART;TZID=America/Chicago:20291010T190000
DTEND;TZID=America/Chicago:20291010T200000
DTSTAMP:20260423T062016
CREATED:20260108T163528Z
LAST-MODIFIED:20260210T171104Z
UID:10003664-1886353200-1886356800@fccunited.org
SUMMARY:Choir Practice
DESCRIPTION:
URL:https://fccunited.org/event/choir-practice-4/2029-10-10/
CATEGORIES:Worship
ATTACH;FMTTYPE=image/jpeg:https://fccunited.org/wp-content/uploads/2026/01/choir-practice.jpg
END:VEVENT
BEGIN:VEVENT
DTSTART;TZID=America/Chicago:20291013T100000
DTEND;TZID=America/Chicago:20291013T113000
DTSTAMP:20260423T062016
CREATED:20260224T200455Z
LAST-MODIFIED:20260224T200455Z
UID:10005380-1886580000-1886585400@fccunited.org
SUMMARY:Pin Pal Sewing Ministry
DESCRIPTION:
URL:https://fccunited.org/event/pin-pal-sewing-ministry/2029-10-13/
CATEGORIES:Fellowship
ATTACH;FMTTYPE=image/jpeg:https://fccunited.org/wp-content/uploads/2026/02/20260214-sewing-ministry.jpg
END:VEVENT
BEGIN:VEVENT
DTSTART;TZID=America/Chicago:20291014T091500
DTEND;TZID=America/Chicago:20291014T101500
DTSTAMP:20260423T062016
CREATED:20260127T133219Z
LAST-MODIFIED:20260127T133453Z
UID:10004293-1886663700-1886667300@fccunited.org
SUMMARY:Study Classes
DESCRIPTION:We offer classes for adults and for youth.
URL:https://fccunited.org/event/study-classes/2029-10-14/
CATEGORIES:Bible Study
ATTACH;FMTTYPE=image/jpeg:https://fccunited.org/wp-content/uploads/2026/01/study-class.jpg
END:VEVENT
BEGIN:VEVENT
DTSTART;TZID=America/Chicago:20291014T102500
DTEND;TZID=America/Chicago:20291014T113000
DTSTAMP:20260423T062016
CREATED:20260325T123948Z
LAST-MODIFIED:20260325T123948Z
UID:10005666-1886667900-1886671800@fccunited.org
SUMMARY:Sunday Worship
DESCRIPTION:
URL:https://fccunited.org/event/sunday-worship/2029-10-14/
CATEGORIES:Worship
END:VEVENT
BEGIN:VEVENT
DTSTART;TZID=America/Chicago:20291017T160000
DTEND;TZID=America/Chicago:20291017T170000
DTSTAMP:20260423T062016
CREATED:20260221T121225Z
LAST-MODIFIED:20260221T122346Z
UID:10004940-1886947200-1886950800@fccunited.org
SUMMARY:Hour of Prayer
DESCRIPTION:
URL:https://fccunited.org/event/hour-of-prayer/2029-10-17/
CATEGORIES:Fellowship
ATTACH;FMTTYPE=image/jpeg:https://fccunited.org/wp-content/uploads/2026/02/hour-of-prayer-1.jpg
END:VEVENT
BEGIN:VEVENT
DTSTART;TZID=America/Chicago:20291017T170000
DTEND;TZID=America/Chicago:20291017T190000
DTSTAMP:20260423T062016
CREATED:20260221T121346Z
LAST-MODIFIED:20260221T121447Z
UID:10005201-1886950800-1886958000@fccunited.org
SUMMARY:Midweek Connection
DESCRIPTION:
URL:https://fccunited.org/event/midweek-connection/2029-10-17/
CATEGORIES:Fellowship
ATTACH;FMTTYPE=image/jpeg:https://fccunited.org/wp-content/uploads/2026/02/midweek-connection-3.jpg
END:VEVENT
BEGIN:VEVENT
DTSTART;TZID=America/Chicago:20291017T190000
DTEND;TZID=America/Chicago:20291017T200000
DTSTAMP:20260423T062016
CREATED:20260108T163528Z
LAST-MODIFIED:20260210T171104Z
UID:10003665-1886958000-1886961600@fccunited.org
SUMMARY:Choir Practice
DESCRIPTION:
URL:https://fccunited.org/event/choir-practice-4/2029-10-17/
CATEGORIES:Worship
ATTACH;FMTTYPE=image/jpeg:https://fccunited.org/wp-content/uploads/2026/01/choir-practice.jpg
END:VEVENT
BEGIN:VEVENT
DTSTART;TZID=America/Chicago:20291021T091500
DTEND;TZID=America/Chicago:20291021T101500
DTSTAMP:20260423T062016
CREATED:20260127T133219Z
LAST-MODIFIED:20260127T133453Z
UID:10004294-1887268500-1887272100@fccunited.org
SUMMARY:Study Classes
DESCRIPTION:We offer classes for adults and for youth.
URL:https://fccunited.org/event/study-classes/2029-10-21/
CATEGORIES:Bible Study
ATTACH;FMTTYPE=image/jpeg:https://fccunited.org/wp-content/uploads/2026/01/study-class.jpg
END:VEVENT
BEGIN:VEVENT
DTSTART;TZID=America/Chicago:20291021T102500
DTEND;TZID=America/Chicago:20291021T113000
DTSTAMP:20260423T062016
CREATED:20260325T123948Z
LAST-MODIFIED:20260325T123948Z
UID:10005667-1887272700-1887276600@fccunited.org
SUMMARY:Sunday Worship
DESCRIPTION:
URL:https://fccunited.org/event/sunday-worship/2029-10-21/
CATEGORIES:Worship
END:VEVENT
BEGIN:VEVENT
DTSTART;TZID=America/Chicago:20291023T190000
DTEND;TZID=America/Chicago:20291023T203000
DTSTAMP:20260423T062016
CREATED:20260127T122330Z
LAST-MODIFIED:20260127T131202Z
UID:10004025-1887476400-1887481800@fccunited.org
SUMMARY:Potpourri Ladies
DESCRIPTION:
URL:https://fccunited.org/event/potpourri-ladies/2029-10-23/
CATEGORIES:Fellowship
ATTACH;FMTTYPE=image/jpeg:https://fccunited.org/wp-content/uploads/2026/01/20260127-potpourri-ladies-1.jpg
END:VEVENT
BEGIN:VEVENT
DTSTART;TZID=America/Chicago:20291024T160000
DTEND;TZID=America/Chicago:20291024T170000
DTSTAMP:20260423T062016
CREATED:20260221T121225Z
LAST-MODIFIED:20260221T122346Z
UID:10004941-1887552000-1887555600@fccunited.org
SUMMARY:Hour of Prayer
DESCRIPTION:
URL:https://fccunited.org/event/hour-of-prayer/2029-10-24/
CATEGORIES:Fellowship
ATTACH;FMTTYPE=image/jpeg:https://fccunited.org/wp-content/uploads/2026/02/hour-of-prayer-1.jpg
END:VEVENT
BEGIN:VEVENT
DTSTART;TZID=America/Chicago:20291024T170000
DTEND;TZID=America/Chicago:20291024T190000
DTSTAMP:20260423T062016
CREATED:20260221T121346Z
LAST-MODIFIED:20260221T121447Z
UID:10005202-1887555600-1887562800@fccunited.org
SUMMARY:Midweek Connection
DESCRIPTION:
URL:https://fccunited.org/event/midweek-connection/2029-10-24/
CATEGORIES:Fellowship
ATTACH;FMTTYPE=image/jpeg:https://fccunited.org/wp-content/uploads/2026/02/midweek-connection-3.jpg
END:VEVENT
BEGIN:VEVENT
DTSTART;TZID=America/Chicago:20291024T190000
DTEND;TZID=America/Chicago:20291024T200000
DTSTAMP:20260423T062016
CREATED:20260108T163528Z
LAST-MODIFIED:20260210T171104Z
UID:10003666-1887562800-1887566400@fccunited.org
SUMMARY:Choir Practice
DESCRIPTION:
URL:https://fccunited.org/event/choir-practice-4/2029-10-24/
CATEGORIES:Worship
ATTACH;FMTTYPE=image/jpeg:https://fccunited.org/wp-content/uploads/2026/01/choir-practice.jpg
END:VEVENT
BEGIN:VEVENT
DTSTART;TZID=America/Chicago:20291025T100000
DTEND;TZID=America/Chicago:20291025T233000
DTSTAMP:20260423T062016
CREATED:20260216T125355Z
LAST-MODIFIED:20260415T134412Z
UID:10004673-1887616800-1887665400@fccunited.org
SUMMARY:MomCo
DESCRIPTION:Mom\, join us for faith\, fun\, and fellowship the fourth Thursday of each month.  Childcare is provided. \nCall 972-446-9808 for more information.
URL:https://fccunited.org/event/momco-1000-a-m-2/2029-10-25/
CATEGORIES:Fellowship
ATTACH;FMTTYPE=image/jpeg:https://fccunited.org/wp-content/uploads/2026/02/20260122-momco-3.jpg
END:VEVENT
BEGIN:VEVENT
DTSTART;TZID=America/Chicago:20291028T081500
DTEND;TZID=America/Chicago:20291028T091500
DTSTAMP:20260423T062016
CREATED:20260221T120438Z
LAST-MODIFIED:20260221T120438Z
UID:10004734-1887869700-1887873300@fccunited.org
SUMMARY:Elders Meeting
DESCRIPTION:
URL:https://fccunited.org/event/elders-meeting/2029-10-28/
CATEGORIES:Fellowship
ATTACH;FMTTYPE=image/jpeg:https://fccunited.org/wp-content/uploads/2026/02/20260125-elder-meeting.jpg
END:VEVENT
BEGIN:VEVENT
DTSTART;TZID=America/Chicago:20291028T091500
DTEND;TZID=America/Chicago:20291028T101500
DTSTAMP:20260423T062016
CREATED:20260127T133219Z
LAST-MODIFIED:20260127T133453Z
UID:10004295-1887873300-1887876900@fccunited.org
SUMMARY:Study Classes
DESCRIPTION:We offer classes for adults and for youth.
URL:https://fccunited.org/event/study-classes/2029-10-28/
CATEGORIES:Bible Study
ATTACH;FMTTYPE=image/jpeg:https://fccunited.org/wp-content/uploads/2026/01/study-class.jpg
END:VEVENT
BEGIN:VEVENT
DTSTART;TZID=America/Chicago:20291028T102500
DTEND;TZID=America/Chicago:20291028T113000
DTSTAMP:20260423T062016
CREATED:20260325T123948Z
LAST-MODIFIED:20260325T123948Z
UID:10005668-1887877500-1887881400@fccunited.org
SUMMARY:Sunday Worship
DESCRIPTION:
URL:https://fccunited.org/event/sunday-worship/2029-10-28/
CATEGORIES:Worship
END:VEVENT
BEGIN:VEVENT
DTSTART;TZID=America/Chicago:20291031T160000
DTEND;TZID=America/Chicago:20291031T170000
DTSTAMP:20260423T062016
CREATED:20260221T121225Z
LAST-MODIFIED:20260221T122346Z
UID:10004942-1888156800-1888160400@fccunited.org
SUMMARY:Hour of Prayer
DESCRIPTION:
URL:https://fccunited.org/event/hour-of-prayer/2029-10-31/
CATEGORIES:Fellowship
ATTACH;FMTTYPE=image/jpeg:https://fccunited.org/wp-content/uploads/2026/02/hour-of-prayer-1.jpg
END:VEVENT
BEGIN:VEVENT
DTSTART;TZID=America/Chicago:20291031T170000
DTEND;TZID=America/Chicago:20291031T190000
DTSTAMP:20260423T062016
CREATED:20260221T121346Z
LAST-MODIFIED:20260221T121447Z
UID:10005203-1888160400-1888167600@fccunited.org
SUMMARY:Midweek Connection
DESCRIPTION:
URL:https://fccunited.org/event/midweek-connection/2029-10-31/
CATEGORIES:Fellowship
ATTACH;FMTTYPE=image/jpeg:https://fccunited.org/wp-content/uploads/2026/02/midweek-connection-3.jpg
END:VEVENT
END:VCALENDAR