BEGIN:VCALENDAR
VERSION:2.0
PRODID:-//First Christian Church  United Lewisville, Texas - ECPv6.15.14//NONSGML v1.0//EN
CALSCALE:GREGORIAN
METHOD:PUBLISH
X-WR-CALNAME:First Christian Church  United Lewisville, Texas
X-ORIGINAL-URL:https://fccunited.org
X-WR-CALDESC:Events for First Christian Church  United Lewisville, Texas
REFRESH-INTERVAL;VALUE=DURATION:PT1H
X-Robots-Tag:noindex
X-PUBLISHED-TTL:PT1H
BEGIN:VTIMEZONE
TZID:America/Chicago
BEGIN:DAYLIGHT
TZOFFSETFROM:-0600
TZOFFSETTO:-0500
TZNAME:CDT
DTSTART:20280312T080000
END:DAYLIGHT
BEGIN:STANDARD
TZOFFSETFROM:-0500
TZOFFSETTO:-0600
TZNAME:CST
DTSTART:20281105T070000
END:STANDARD
BEGIN:DAYLIGHT
TZOFFSETFROM:-0600
TZOFFSETTO:-0500
TZNAME:CDT
DTSTART:20290311T080000
END:DAYLIGHT
BEGIN:STANDARD
TZOFFSETFROM:-0500
TZOFFSETTO:-0600
TZNAME:CST
DTSTART:20291104T070000
END:STANDARD
BEGIN:DAYLIGHT
TZOFFSETFROM:-0600
TZOFFSETTO:-0500
TZNAME:CDT
DTSTART:20300310T080000
END:DAYLIGHT
BEGIN:STANDARD
TZOFFSETFROM:-0500
TZOFFSETTO:-0600
TZNAME:CST
DTSTART:20301103T070000
END:STANDARD
END:VTIMEZONE
BEGIN:VEVENT
DTSTART;TZID=America/Chicago:20290513T091500
DTEND;TZID=America/Chicago:20290513T101500
DTSTAMP:20260423T020848
CREATED:20260127T133219Z
LAST-MODIFIED:20260127T133453Z
UID:10004271-1873358100-1873361700@fccunited.org
SUMMARY:Study Classes
DESCRIPTION:We offer classes for adults and for youth.
URL:https://fccunited.org/event/study-classes/2029-05-13/
CATEGORIES:Bible Study
ATTACH;FMTTYPE=image/jpeg:https://fccunited.org/wp-content/uploads/2026/01/study-class.jpg
END:VEVENT
BEGIN:VEVENT
DTSTART;TZID=America/Chicago:20290513T102500
DTEND;TZID=America/Chicago:20290513T113000
DTSTAMP:20260423T020848
CREATED:20260325T123948Z
LAST-MODIFIED:20260325T123948Z
UID:10005644-1873362300-1873366200@fccunited.org
SUMMARY:Sunday Worship
DESCRIPTION:
URL:https://fccunited.org/event/sunday-worship/2029-05-13/
CATEGORIES:Worship
END:VEVENT
BEGIN:VEVENT
DTSTART;TZID=America/Chicago:20290514T190000
DTEND;TZID=America/Chicago:20290514T203000
DTSTAMP:20260423T020848
CREATED:20260227T135325Z
LAST-MODIFIED:20260227T135325Z
UID:10005436-1873479600-1873485000@fccunited.org
SUMMARY:Agape Men
DESCRIPTION:
URL:https://fccunited.org/event/agape-men-2/2029-05-14/
CATEGORIES:Fellowship
ATTACH;FMTTYPE=image/jpeg:https://fccunited.org/wp-content/uploads/2026/02/20260309-agape-men.jpg
END:VEVENT
BEGIN:VEVENT
DTSTART;TZID=America/Chicago:20290516T160000
DTEND;TZID=America/Chicago:20290516T170000
DTSTAMP:20260423T020848
CREATED:20260221T121225Z
LAST-MODIFIED:20260221T122346Z
UID:10004918-1873641600-1873645200@fccunited.org
SUMMARY:Hour of Prayer
DESCRIPTION:
URL:https://fccunited.org/event/hour-of-prayer/2029-05-16/
CATEGORIES:Fellowship
ATTACH;FMTTYPE=image/jpeg:https://fccunited.org/wp-content/uploads/2026/02/hour-of-prayer-1.jpg
END:VEVENT
BEGIN:VEVENT
DTSTART;TZID=America/Chicago:20290516T170000
DTEND;TZID=America/Chicago:20290516T190000
DTSTAMP:20260423T020848
CREATED:20260221T121346Z
LAST-MODIFIED:20260221T121447Z
UID:10005179-1873645200-1873652400@fccunited.org
SUMMARY:Midweek Connection
DESCRIPTION:
URL:https://fccunited.org/event/midweek-connection/2029-05-16/
CATEGORIES:Fellowship
ATTACH;FMTTYPE=image/jpeg:https://fccunited.org/wp-content/uploads/2026/02/midweek-connection-3.jpg
END:VEVENT
BEGIN:VEVENT
DTSTART;TZID=America/Chicago:20290516T190000
DTEND;TZID=America/Chicago:20290516T200000
DTSTAMP:20260423T020848
CREATED:20260108T163528Z
LAST-MODIFIED:20260210T171104Z
UID:10003643-1873652400-1873656000@fccunited.org
SUMMARY:Choir Practice
DESCRIPTION:
URL:https://fccunited.org/event/choir-practice-4/2029-05-16/
CATEGORIES:Worship
ATTACH;FMTTYPE=image/jpeg:https://fccunited.org/wp-content/uploads/2026/01/choir-practice.jpg
END:VEVENT
END:VCALENDAR